BEGIN:VCALENDAR
VERSION:2.0
PRODID:-//Visit Mt St Helens - ECPv6.15.20//NONSGML v1.0//EN
CALSCALE:GREGORIAN
METHOD:PUBLISH
X-ORIGINAL-URL:https://www.visitmtsthelens.com
X-WR-CALDESC:Events for Visit Mt St Helens
REFRESH-INTERVAL;VALUE=DURATION:PT1H
X-Robots-Tag:noindex
X-PUBLISHED-TTL:PT1H
BEGIN:VTIMEZONE
TZID:America/Los_Angeles
BEGIN:DAYLIGHT
TZOFFSETFROM:-0800
TZOFFSETTO:-0700
TZNAME:PDT
DTSTART:20250309T100000
END:DAYLIGHT
BEGIN:STANDARD
TZOFFSETFROM:-0700
TZOFFSETTO:-0800
TZNAME:PST
DTSTART:20251102T090000
END:STANDARD
BEGIN:DAYLIGHT
TZOFFSETFROM:-0800
TZOFFSETTO:-0700
TZNAME:PDT
DTSTART:20260308T100000
END:DAYLIGHT
BEGIN:STANDARD
TZOFFSETFROM:-0700
TZOFFSETTO:-0800
TZNAME:PST
DTSTART:20261101T090000
END:STANDARD
BEGIN:DAYLIGHT
TZOFFSETFROM:-0800
TZOFFSETTO:-0700
TZNAME:PDT
DTSTART:20270314T100000
END:DAYLIGHT
BEGIN:STANDARD
TZOFFSETFROM:-0700
TZOFFSETTO:-0800
TZNAME:PST
DTSTART:20271107T090000
END:STANDARD
END:VTIMEZONE
BEGIN:VEVENT
DTSTART;TZID=America/Los_Angeles:20260627T100000
DTEND;TZID=America/Los_Angeles:20260627T200000
DTSTAMP:20260423T075735
CREATED:20260422T184123Z
LAST-MODIFIED:20260422T184138Z
UID:10002267-1782554400-1782590400@www.visitmtsthelens.com
SUMMARY:Big Smoke BBQ
DESCRIPTION:🔥 Big Smoke in Little Kalama BBQ Festival \n\n\n\nJune 27–28 | Haydu Park\, Kalama\, WA \n\n\n\nGet ready for a weekend packed with smoky flavors\, live music\, and family-friendly fun at the annual Big Smoke BBQ Festival! \n\n\n\n\n\n\n\n🍖 Event Highlights\n\n\n\n\nBBQ sampling from competing pitmasters\n\n\n\nRibs & Wings competition\n\n\n\nWhole Hog cook\n\n\n\nBeer\, wine & spirits garden\n\n\n\nOutdoor craft market\n\n\n\nLive music lineup\n\n\n\nKids activities & special events\n\n\n\nBBQ Bingo & raffle\n\n\n\n\n\n\n\n\nFull Schedule\n\n\n\nFriday\, June 27\n\n\n\n\n10:00 AM – Kids Chopped Challenge\n\n\n\n10:00 AM – 6:00 PM – Outdoor Craft Market\n\n\n\n10:00 AM – 8:00 PM – Beer\, Wine & Spirits Garden\n\n\n\nAll Day – Ribs & Wings Competition\n\n\n\nAll Day – BBQ Sampling\n\n\n\nAll Day – BBQ Bingo & Raffle\n\n\n\n\nLive Music \n\n\n\n\n1:30 PM – Racyne Parker\n\n\n\n4:00 PM – Mercury Post\n\n\n\n6:30 PM – Brian James & the Revival\n\n\n\n\n\n\n\n\nSaturday\, June 28\n\n\n\n\n10:00 AM – 6:00 PM – Outdoor Craft Market\n\n\n\n10:00 AM – 5:00 PM – Beer\, Wine & Spirits Garden\n\n\n\nAll Day – BBQ Sampling & Competition\n\n\n\nAll Day – BBQ Bingo & Raffle\n\n\n\nAll Day – Kids Activities\n\n\n\nAll Day – Whole Hog Cook\n\n\n\n\nLive Music \n\n\n\n\n12:00 PM – Lake City Way\n\n\n\n2:30 PM – Fortune Son PDX\n\n\n\n\n\n\n\n\nDon’t Miss It!\n\n\n\nWhether you’re coming for the BBQ\, the music\, or the family fun\, Big Smoke in Little Kalama is the perfect way to kick off summer. \n\n\n\nBring your appetite and enjoy some of the best barbecue in the Pacific Northwest!
URL:https://www.visitmtsthelens.com/event/big-smoke-bbq/
LOCATION:Haydu Park\, 253 Kalama River Road\, Kalama\, Washington\, 98625
CATEGORIES:Events & Festivals,Kalama
ATTACH;FMTTYPE=image/jpeg:https://www.visitmtsthelens.com/wp-content/uploads/2026/04/Big-Smoke-BBQ-6.27-28.26.jpg
END:VEVENT
BEGIN:VEVENT
DTSTART;TZID=America/Los_Angeles:20260628T100000
DTEND;TZID=America/Los_Angeles:20260628T170000
DTSTAMP:20260423T075735
CREATED:20260422T184356Z
LAST-MODIFIED:20260422T185625Z
UID:10002268-1782640800-1782666000@www.visitmtsthelens.com
SUMMARY:Big Smoke BBQ
DESCRIPTION:🔥 Big Smoke in Little Kalama BBQ Festival \n\n\n\nJune 28 | Haydu Park\, Kalama\, WA \n\n\n\nGet ready for a weekend packed with smoky flavors\, live music\, and family-friendly fun at the annual Big Smoke BBQ Festival! \n\n\n\n\n\n\n\n🍖 Event Highlights\n\n\n\n\nBBQ sampling from competing pitmasters\n\n\n\nRibs & Wings competition\n\n\n\nWhole Hog cook\n\n\n\nBeer\, wine & spirits garden\n\n\n\nOutdoor craft market\n\n\n\nLive music lineup\n\n\n\nKids activities & special events\n\n\n\nBBQ Bingo & raffle\n\n\n\n\n\n\n\n\nSchedule\n\n\n\n\n\n\n\nSunday\, June 28\n\n\n\n\n10:00 AM – 6:00 PM – Outdoor Craft Market\n\n\n\n10:00 AM – 5:00 PM – Beer\, Wine & Spirits Garden\n\n\n\nAll Day – BBQ Sampling & Competition\n\n\n\nAll Day – BBQ Bingo & Raffle\n\n\n\nAll Day – Kids Activities\n\n\n\nAll Day – Whole Hog Cook\n\n\n\n\nLive Music \n\n\n\n\n12:00 PM – Lake City Way\n\n\n\n2:30 PM – Fortune Son PDX\n\n\n\n\n\n\n\n\nDon’t Miss It!\n\n\n\nWhether you’re coming for the BBQ\, the music\, or the family fun\, Big Smoke in Little Kalama is the perfect way to kick off summer. \n\n\n\nBring your appetite and enjoy some of the best barbecue in the Pacific Northwest!
URL:https://www.visitmtsthelens.com/event/big-smoke-bbq-2/
LOCATION:Haydu Park\, 253 Kalama River Road\, Kalama\, Washington\, 98625
CATEGORIES:Events & Festivals,Kalama
ATTACH;FMTTYPE=image/jpeg:https://www.visitmtsthelens.com/wp-content/uploads/2026/04/Big-Smoke-BBQ-6.27-28.26.jpg
END:VEVENT
END:VCALENDAR