BEGIN:VCALENDAR
VERSION:2.0
PRODID:-//Visit Mt St Helens - ECPv6.15.20//NONSGML v1.0//EN
CALSCALE:GREGORIAN
METHOD:PUBLISH
X-WR-CALNAME:Visit Mt St Helens
X-ORIGINAL-URL:https://www.visitmtsthelens.com
X-WR-CALDESC:Events for Visit Mt St Helens
REFRESH-INTERVAL;VALUE=DURATION:PT1H
X-Robots-Tag:noindex
X-PUBLISHED-TTL:PT1H
BEGIN:VTIMEZONE
TZID:America/Los_Angeles
BEGIN:DAYLIGHT
TZOFFSETFROM:-0800
TZOFFSETTO:-0700
TZNAME:PDT
DTSTART:20250309T100000
END:DAYLIGHT
BEGIN:STANDARD
TZOFFSETFROM:-0700
TZOFFSETTO:-0800
TZNAME:PST
DTSTART:20251102T090000
END:STANDARD
BEGIN:DAYLIGHT
TZOFFSETFROM:-0800
TZOFFSETTO:-0700
TZNAME:PDT
DTSTART:20260308T100000
END:DAYLIGHT
BEGIN:STANDARD
TZOFFSETFROM:-0700
TZOFFSETTO:-0800
TZNAME:PST
DTSTART:20261101T090000
END:STANDARD
BEGIN:DAYLIGHT
TZOFFSETFROM:-0800
TZOFFSETTO:-0700
TZNAME:PDT
DTSTART:20270314T100000
END:DAYLIGHT
BEGIN:STANDARD
TZOFFSETFROM:-0700
TZOFFSETTO:-0800
TZNAME:PST
DTSTART:20271107T090000
END:STANDARD
END:VTIMEZONE
BEGIN:VEVENT
DTSTART;TZID=America/Los_Angeles:20260920T000000
DTEND;TZID=America/Los_Angeles:20260920T235959
DTSTAMP:20260420T183228
CREATED:20251023T210131Z
LAST-MODIFIED:20260401T173355Z
UID:10001994-1789862400-1789948799@www.visitmtsthelens.com
SUMMARY:The Realms Unknown Festival
DESCRIPTION:The Realms Unknown Festival is a 3-day\, all genre fantasy festival with camping\, nestled on 50 acres of lush greens in Woodland\, Washington on the Lewis River Golf Course.  This is an interactive event offering experiential activities and unique entertainment for all ages! Our festival is also ADA friendly\, and much intentionality is going into ensuring accessibility for all of our guests and participants!September 18\, 19 & 20 2026
URL:https://www.visitmtsthelens.com/event/the-realms-unknown-festival-2-2/
LOCATION:Lewis River Golf Course\, 3209 Old Lewis River Road\, Woodland\, Washington\, 98674
CATEGORIES:Events & Festivals,Woodland
ATTACH;FMTTYPE=image/jpeg:https://www.visitmtsthelens.com/wp-content/uploads/2025/10/Realms-Unknown-Festival-Logo.jpg
END:VEVENT
BEGIN:VEVENT
DTSTART;TZID=America/Los_Angeles:20260926T090000
DTEND;TZID=America/Los_Angeles:20260926T140000
DTSTAMP:20260420T183228
CREATED:20260413T220802Z
LAST-MODIFIED:20260413T221337Z
UID:10002246-1790413200-1790431200@www.visitmtsthelens.com
SUMMARY:Cowlitz Community Farmers Market
DESCRIPTION:About Cowlitz Community Farmers Market \n\n\n\nThe Cowlitz Community Farmers Market is a vibrant gathering place where local farmers\, artisans\, and neighbors come together to celebrate fresh food\, creativity\, and community spirit. Located in the heart of Cowlitz County\, our market is dedicated to supporting local agriculture\, small businesses\, and sustainable living. \n\n\n\nTheir mission is to strengthen the local economy and promote healthy lifestyles by providing access to fresh\, locally grown produce and handcrafted goods. We strive to create a welcoming space where community members can connect directly with the people who grow and make their food. \n\n\n\nWhat You’ll Find\n\n\n\nAt the market\, visitors can explore a wide variety of offerings\, including: \n\n\n\n\nFresh\, seasonal fruits and vegetables\n\n\n\nLocally raised meats and eggs\n\n\n\nHomemade baked goods and preserves\n\n\n\nArtisan crafts and handmade products\n\n\n\nFlowers\, plants\, and garden items\n\n\n\n\nMany of our vendors use sustainable and environmentally friendly practices\, ensuring high-quality products you can feel good about. \n\n\n\nSupporting Local\n\n\n\nWhen you shop at the Cowlitz Community Farmers Market\, you’re doing more than buying groceries—you’re supporting local farmers\, entrepreneurs\, and families. Every purchase helps keep money in the community and encourages the growth of small-scale agriculture.
URL:https://www.visitmtsthelens.com/event/cowlitz-community-farmers-market-6/2026-09-26/
LOCATION:Cowlitz Community Farmers Market – Saturdays\, 1900 7th Avenue\, Longview\, 98632
CATEGORIES:Events & Festivals,Longview
ATTACH;FMTTYPE=image/jpeg:https://www.visitmtsthelens.com/wp-content/uploads/2026/04/Farmers-Market.jpg
END:VEVENT
BEGIN:VEVENT
DTSTART;TZID=America/Los_Angeles:20260926T130000
DTEND;TZID=America/Los_Angeles:20260926T160000
DTSTAMP:20260420T183228
CREATED:20260316T191615Z
LAST-MODIFIED:20260414T220844Z
UID:10002195-1790427600-1790438400@www.visitmtsthelens.com
SUMMARY:Woodland Cedar Creek Grist Mill - Corn Bread Day
DESCRIPTION:Join us at the historic Cedar Creek Grist Mill for our annual Cornbread Day celebration! Enjoy fresh\, homemade cornbread made with cornmeal milled right at the mill while experiencing the sights and sounds of this working water-powered grist mill. \n\n\n\nVisitors can watch the milling process in action\, learn about traditional grain milling\, and explore the beautiful grounds surrounding this treasured historic landmark. Cornbread Day is a wonderful opportunity to enjoy great food\, local history\, and a relaxing day with family and friends. \n\n\n\nCome spend the day at Cedar Creek Grist Mill and enjoy a warm slice of cornbread while discovering how grains have been milled for generations.
URL:https://www.visitmtsthelens.com/event/woodland-cedar-creek-grist-mill-corn-bread-day/
LOCATION:Woodland Cedar Creek Grist Mill\, 43907 NE Grist Mill Road\, Woodland\, Washington\, 98674
CATEGORIES:Events & Festivals,Woodland
ATTACH;FMTTYPE=image/jpeg:https://www.visitmtsthelens.com/wp-content/uploads/2026/03/Cedar-Creek-Grist-Mill-2026.jpg
END:VEVENT
END:VCALENDAR