BEGIN:VCALENDAR
VERSION:2.0
PRODID:-//Visit Mt St Helens - ECPv6.15.20//NONSGML v1.0//EN
CALSCALE:GREGORIAN
METHOD:PUBLISH
X-WR-CALNAME:Visit Mt St Helens
X-ORIGINAL-URL:https://www.visitmtsthelens.com
X-WR-CALDESC:Events for Visit Mt St Helens
REFRESH-INTERVAL;VALUE=DURATION:PT1H
X-Robots-Tag:noindex
X-PUBLISHED-TTL:PT1H
BEGIN:VTIMEZONE
TZID:America/Los_Angeles
BEGIN:DAYLIGHT
TZOFFSETFROM:-0800
TZOFFSETTO:-0700
TZNAME:PDT
DTSTART:20250309T100000
END:DAYLIGHT
BEGIN:STANDARD
TZOFFSETFROM:-0700
TZOFFSETTO:-0800
TZNAME:PST
DTSTART:20251102T090000
END:STANDARD
BEGIN:DAYLIGHT
TZOFFSETFROM:-0800
TZOFFSETTO:-0700
TZNAME:PDT
DTSTART:20260308T100000
END:DAYLIGHT
BEGIN:STANDARD
TZOFFSETFROM:-0700
TZOFFSETTO:-0800
TZNAME:PST
DTSTART:20261101T090000
END:STANDARD
BEGIN:DAYLIGHT
TZOFFSETFROM:-0800
TZOFFSETTO:-0700
TZNAME:PDT
DTSTART:20270314T100000
END:DAYLIGHT
BEGIN:STANDARD
TZOFFSETFROM:-0700
TZOFFSETTO:-0800
TZNAME:PST
DTSTART:20271107T090000
END:STANDARD
END:VTIMEZONE
BEGIN:VEVENT
DTSTART;TZID=America/Los_Angeles:20260716T000000
DTEND;TZID=America/Los_Angeles:20260719T235959
DTSTAMP:20260419T225900
CREATED:20260202T224923Z
LAST-MODIFIED:20260401T181025Z
UID:10002058-1784160000-1784505599@www.visitmtsthelens.com
SUMMARY:Castle Rock Fair
DESCRIPTION:The Castle Rock Fair is a small community fair that strongly supports and encourages our local youth. Fun “old fashioned state fair” style quarter arcade games\, local 4H and FFA animal shows\, live entertainment\, and delicious fair food.
URL:https://www.visitmtsthelens.com/event/castle-rock-fair-3/
LOCATION:Castle Rock Fairgrounds\, 120 Fair Lane\, Castle Rock\, Washington\, 98611
CATEGORIES:Castle Rock,Events & Festivals
ATTACH;FMTTYPE=image/jpeg:https://www.visitmtsthelens.com/wp-content/uploads/2025/04/Castle-Rock-Fair-logo-002.jpeg
END:VEVENT
BEGIN:VEVENT
DTSTART;TZID=America/Los_Angeles:20260722T000000
DTEND;TZID=America/Los_Angeles:20260725T235959
DTSTAMP:20260419T225900
CREATED:20260126T221725Z
LAST-MODIFIED:20260401T180915Z
UID:10002052-1784678400-1785023999@www.visitmtsthelens.com
SUMMARY:Cowlitz County Fair
DESCRIPTION:The Cowlitz County Fair is an annual community fair held in Longview\, Washington that celebrates agriculture\, education\, and family-friendly entertainment for the region. It’s one of Southwest Washington’s summertime traditions\, drawing locals and visitors alike for fair food\, exhibits\, livestock shows\, entertainment\, and more. \n\n\n\nWhen & Where\n\n\n\n\nDates (2026): Wednesday\, July 22 – Saturday\, July 25\, 2026.\n\n\n\nLocation: Cowlitz County Event Center\, 1900 7th Avenue\, Longview\, WA.\n\n\n\nHours: Typically noon to 11 pm daily during the fair.\n\n\n\nAdmission: Entry to the fair grounds is free.\n\n\n\n\nWhat You’ll Find There\n\n\n\nThe fair offers a broad mix of activities that reflect local culture and community spirit:Carnival & Rides – Fun midway attractions and rides for kids and adults.Food & Vendors – Classic fair foods and local vendors with crafts\, goods\, and specialties.Agricultural Exhibits – Livestock displays\, 4-H and FFA project presentations\, and farm animal competitions.Entertainment & Music – Live performances on community stages throughout the fair.Thunder Mountain Pro Rodeo – A featured rodeo event in the evenings.Family Activities – Interactive exhibits\, contests\, and community stages with local acts. \n\n\n\nCommunity & Culture\n\n\n\nThe fair has long been a showcase for local agriculture and youth programs. It supports 4-H and FFA exhibitors by providing opportunities to present their projects and compete. Through these exhibits and demonstrations\, the fair aims to deepen understanding of farming traditions and local industries
URL:https://www.visitmtsthelens.com/event/cowlitz-county-fair-6/
LOCATION:Cowlitz County Fairgrounds\, 1900 7th Avenue\, Longview\, 98632
CATEGORIES:Events & Festivals,Longview
ATTACH;FMTTYPE=image/jpeg:https://www.visitmtsthelens.com/wp-content/uploads/2026/01/CCF-Logo.jpg
END:VEVENT
BEGIN:VEVENT
DTSTART;TZID=America/Los_Angeles:20260722T190000
DTEND;TZID=America/Los_Angeles:20260722T190000
DTSTAMP:20260419T225900
CREATED:20260126T223909Z
LAST-MODIFIED:20260401T180710Z
UID:10002053-1784746800-1784746800@www.visitmtsthelens.com
SUMMARY:KUKN - Cookin' Country Concert at the Cowlitz County Fair!
DESCRIPTION:Clay Walker at the Cowlitz County Fair! Tickets are $40 bucks! Get them upstairs at Bob’s Sporting Goods and https://www.kukn.com/fair.
URL:https://www.visitmtsthelens.com/event/kukn-cookin-concert-2/
LOCATION:Cowlitz County Fairgrounds\, 1900 7th Avenue\, Longview\, 98632
CATEGORIES:Events & Festivals,Longview
ATTACH;FMTTYPE=image/png:https://www.visitmtsthelens.com/wp-content/uploads/2026/01/KUKN-Logo-2026.png
END:VEVENT
BEGIN:VEVENT
DTSTART;TZID=America/Los_Angeles:20260723T190000
DTEND;TZID=America/Los_Angeles:20260723T190000
DTSTAMP:20260419T225900
CREATED:20250923T194051Z
LAST-MODIFIED:20260401T180807Z
UID:10001958-1784833200-1784833200@www.visitmtsthelens.com
SUMMARY:Thunder Mt Pro Rodeo
DESCRIPTION:The Thunder Mt Pro Rodeo takes place in Longview WA\, located at the Cowlitz County Fairgrounds.The Rodeo is Thursday July 23rd\, Friday July 24th & Saturday July 25th. Gates open at 5:00 and the rodeo begins at 7:00 pm.
URL:https://www.visitmtsthelens.com/event/thunder-mt-pro-rodeo-4-2-2-2-2-2/
LOCATION:Cowlitz County Fairgrounds\, 1900 7th Avenue\, Longview\, 98632
CATEGORIES:Events & Festivals,Longview
ATTACH;FMTTYPE=image/jpeg:https://www.visitmtsthelens.com/wp-content/uploads/2025/09/Thunder-Mt-Pro-Rodeo-2026.jpg
END:VEVENT
BEGIN:VEVENT
DTSTART;TZID=America/Los_Angeles:20260724T190000
DTEND;TZID=America/Los_Angeles:20260724T190000
DTSTAMP:20260419T225900
CREATED:20250923T193835Z
LAST-MODIFIED:20260401T180554Z
UID:10001957-1784919600-1784919600@www.visitmtsthelens.com
SUMMARY:Thunder Mt Pro Rodeo
DESCRIPTION:The Thunder Mt Pro Rodeo takes place in Longview WA\, located at the Cowlitz County Fairgrounds.The Rodeo is Thursday July 23rd\, Friday July 24th & Saturday July 25th. Gates open at 5:00 and the rodeo begins at 7:00 pm.
URL:https://www.visitmtsthelens.com/event/thunder-mt-pro-rodeo-4-2-2-2-2/
LOCATION:Cowlitz County Fairgrounds\, 1900 7th Avenue\, Longview\, 98632
CATEGORIES:Events & Festivals,Longview
ATTACH;FMTTYPE=image/jpeg:https://www.visitmtsthelens.com/wp-content/uploads/2025/01/Thunder-Mt-Pro-Rodeo-2025.jpg
END:VEVENT
BEGIN:VEVENT
DTSTART;TZID=America/Los_Angeles:20260725T090000
DTEND;TZID=America/Los_Angeles:20260725T140000
DTSTAMP:20260419T225900
CREATED:20260413T220802Z
LAST-MODIFIED:20260413T221337Z
UID:10002237-1784970000-1784988000@www.visitmtsthelens.com
SUMMARY:Cowlitz Community Farmers Market
DESCRIPTION:About Cowlitz Community Farmers Market \n\n\n\nThe Cowlitz Community Farmers Market is a vibrant gathering place where local farmers\, artisans\, and neighbors come together to celebrate fresh food\, creativity\, and community spirit. Located in the heart of Cowlitz County\, our market is dedicated to supporting local agriculture\, small businesses\, and sustainable living. \n\n\n\nTheir mission is to strengthen the local economy and promote healthy lifestyles by providing access to fresh\, locally grown produce and handcrafted goods. We strive to create a welcoming space where community members can connect directly with the people who grow and make their food. \n\n\n\nWhat You’ll Find\n\n\n\nAt the market\, visitors can explore a wide variety of offerings\, including: \n\n\n\n\nFresh\, seasonal fruits and vegetables\n\n\n\nLocally raised meats and eggs\n\n\n\nHomemade baked goods and preserves\n\n\n\nArtisan crafts and handmade products\n\n\n\nFlowers\, plants\, and garden items\n\n\n\n\nMany of our vendors use sustainable and environmentally friendly practices\, ensuring high-quality products you can feel good about. \n\n\n\nSupporting Local\n\n\n\nWhen you shop at the Cowlitz Community Farmers Market\, you’re doing more than buying groceries—you’re supporting local farmers\, entrepreneurs\, and families. Every purchase helps keep money in the community and encourages the growth of small-scale agriculture.
URL:https://www.visitmtsthelens.com/event/cowlitz-community-farmers-market-6/2026-07-25/
LOCATION:Cowlitz Community Farmers Market – Saturdays\, 1900 7th Avenue\, Longview\, 98632
CATEGORIES:Events & Festivals,Longview
ATTACH;FMTTYPE=image/jpeg:https://www.visitmtsthelens.com/wp-content/uploads/2026/04/Farmers-Market.jpg
END:VEVENT
BEGIN:VEVENT
DTSTART;TZID=America/Los_Angeles:20260725T130000
DTEND;TZID=America/Los_Angeles:20260725T160000
DTSTAMP:20260419T225900
CREATED:20260316T183552Z
LAST-MODIFIED:20260401T180447Z
UID:10002193-1784984400-1784995200@www.visitmtsthelens.com
SUMMARY:Woodland Cedar Creek Grist Mill - Blueberry Pancake Day
DESCRIPTION:Cedar Creek Grist Mill – Blueberry Pancake Day \n\n\n\nJoin us at the historic Cedar Creek Grist Mill for our annual Blueberry Pancake Day! Enjoy a delicious stack of fresh blueberry pancakes made with flour milled right at the mill. \n\n\n\nVisitors can watch the historic water-powered mill in action\, learn about traditional grain milling\, and experience a taste of history while enjoying this summertime favorite. The event is a fun and relaxing outing for families\, friends\, and anyone who appreciates great food and local heritage. \n\n\n\nCome spend the day at one of Washington’s most treasured historic landmarks and enjoy warm blueberry pancakes in a beautiful natural setting. \n\n\n\nBring your appetite and enjoy a sweet summer tradition at Cedar Creek Grist Mill.
URL:https://www.visitmtsthelens.com/event/woodland-cedar-creek-grist-mill-blueberry-pancake-day/
LOCATION:Woodland Cedar Creek Grist Mill\, 43907 NE Grist Mill Road\, Woodland\, Washington\, 98674
CATEGORIES:Events & Festivals,Woodland
ATTACH;FMTTYPE=image/jpeg:https://www.visitmtsthelens.com/wp-content/uploads/2026/03/Cedar-Creek-Grist-Mill-2026.jpg
END:VEVENT
BEGIN:VEVENT
DTSTART;TZID=America/Los_Angeles:20260725T190000
DTEND;TZID=America/Los_Angeles:20260725T190000
DTSTAMP:20260419T225900
CREATED:20250923T193646Z
LAST-MODIFIED:20260401T180122Z
UID:10001956-1785006000-1785006000@www.visitmtsthelens.com
SUMMARY:Thunder Mt Pro Rodeo
DESCRIPTION:The Thunder Mt Pro Rodeo takes place in Longview WA\, located at the Cowlitz County Fairgrounds.The Rodeo is Thursday July 23rd\, Friday July 24th & Saturday July 25th. Gates open at 5:30 and the rodeo begins at 7:00 pm.
URL:https://www.visitmtsthelens.com/event/thunder-mt-pro-rodeo-4-2-2-2/
LOCATION:Cowlitz County Fairgrounds\, 1900 7th Avenue\, Longview\, 98632
CATEGORIES:Events & Festivals,Longview
ATTACH;FMTTYPE=image/jpeg:https://www.visitmtsthelens.com/wp-content/uploads/2025/01/Thunder-Mt-Pro-Rodeo-2025.jpg
END:VEVENT
END:VCALENDAR