BEGIN:VCALENDAR
VERSION:2.0
PRODID:-//Visit Mt St Helens - ECPv6.15.20//NONSGML v1.0//EN
CALSCALE:GREGORIAN
METHOD:PUBLISH
X-ORIGINAL-URL:https://www.visitmtsthelens.com
X-WR-CALDESC:Events for Visit Mt St Helens
REFRESH-INTERVAL;VALUE=DURATION:PT1H
X-Robots-Tag:noindex
X-PUBLISHED-TTL:PT1H
BEGIN:VTIMEZONE
TZID:America/Los_Angeles
BEGIN:DAYLIGHT
TZOFFSETFROM:-0800
TZOFFSETTO:-0700
TZNAME:PDT
DTSTART:20250309T100000
END:DAYLIGHT
BEGIN:STANDARD
TZOFFSETFROM:-0700
TZOFFSETTO:-0800
TZNAME:PST
DTSTART:20251102T090000
END:STANDARD
BEGIN:DAYLIGHT
TZOFFSETFROM:-0800
TZOFFSETTO:-0700
TZNAME:PDT
DTSTART:20260308T100000
END:DAYLIGHT
BEGIN:STANDARD
TZOFFSETFROM:-0700
TZOFFSETTO:-0800
TZNAME:PST
DTSTART:20261101T090000
END:STANDARD
BEGIN:DAYLIGHT
TZOFFSETFROM:-0800
TZOFFSETTO:-0700
TZNAME:PDT
DTSTART:20270314T100000
END:DAYLIGHT
BEGIN:STANDARD
TZOFFSETFROM:-0700
TZOFFSETTO:-0800
TZNAME:PST
DTSTART:20271107T090000
END:STANDARD
END:VTIMEZONE
BEGIN:VEVENT
DTSTART;TZID=America/Los_Angeles:20260618T000000
DTEND;TZID=America/Los_Angeles:20260621T235959
DTSTAMP:20260419T101444
CREATED:20260202T230503Z
LAST-MODIFIED:20260401T185257Z
UID:10002059-1781740800-1782086399@www.visitmtsthelens.com
SUMMARY:Woodland Planters Days
DESCRIPTION:Woodland Planters Days Celebration is the longest community event in WA celebrating the successful completion of the dikes protecting Woodland!
URL:https://www.visitmtsthelens.com/event/woodland-planters-days-6/
LOCATION:Washington
CATEGORIES:Events & Festivals,Woodland
ATTACH;FMTTYPE=image/jpeg:https://www.visitmtsthelens.com/wp-content/uploads/2026/02/Planters-Days-Logo.jpg
END:VEVENT
BEGIN:VEVENT
DTSTART;TZID=America/Los_Angeles:20260621T090000
DTEND;TZID=America/Los_Angeles:20260621T150000
DTSTAMP:20260419T101444
CREATED:20260130T224723Z
LAST-MODIFIED:20260401T185025Z
UID:10002055-1782032400-1782054000@www.visitmtsthelens.com
SUMMARY:Woodland Planters Days Car Show
DESCRIPTION:Get ready for one of the BIGGEST Father’s Day celebrations in Southwest Washington! On Sunday\, June 21\, 2026\, Planters Days takes over ALL of downtown Woodland for an unforgettable\, full-throttle car show that fills every street with chrome\, horsepower\, and community pride. \n\n\n\nYes — every street in downtown Woodland will be BLOCKED OFF to create a massive car show experience right in the heart of town. \n\n\n\nThis event is open to ALL vehicles and ALL people. Whether you’re bringing a classic car\, lifted truck\, hot rod\, motorcycle\, daily driver\, or just coming to enjoy the show\, everyone is welcome. \n\n\n\nSUPPORTING A GREAT CAUSE \n\n\n\nBest of all\, 100% of the money raised goes directly to Northwest Battle Buddies\, a nonprofit dedicated to providing service dogs to combat veterans dealing with PTSD and other service-related challenges. \n\n\n\nWhen you show up\, you’re not just enjoying an amazing car show—you’re making a real difference in the lives of our veterans
URL:https://www.visitmtsthelens.com/event/woodland-planters-days-car-show/
LOCATION:Downtown Woodland\, 100 Davidson Street\, Woodland\, Washington\, 98674
CATEGORIES:Events & Festivals,Woodland
ATTACH;FMTTYPE=image/jpeg:https://www.visitmtsthelens.com/wp-content/uploads/2026/01/Planters-Day-Car-Show-2026.jpg
END:VEVENT
BEGIN:VEVENT
DTSTART;TZID=America/Los_Angeles:20260626T100000
DTEND;TZID=America/Los_Angeles:20260626T160000
DTSTAMP:20260419T101444
CREATED:20260205T213144Z
LAST-MODIFIED:20260401T184324Z
UID:10002132-1782468000-1782489600@www.visitmtsthelens.com
SUMMARY:Mojo Fest 2026
DESCRIPTION:June 26\, 27 & 28 2026 – 10 am to 4 pm1108 Dike Road SW – Woodland Bottoms – On the RiverJoin us this summer as Mojo Family Fest returns for its sixth year! This weekend is packed with a variety of music\, art\, food\, vending\, camping\, and much more. We hope to see you there!We’re excited to announce the new location for our summer festival — a 40-acre island Nestled on the banks of the Columbia River\, just a short 30-minute drive from Portland in Woodland\, WA. Just a couple miles (across the river) from our previous location in Deer Island.  \n\n\n\nHuge grass fields for camping\, several hundred feet of sandy beach\, swimming\, and lots more. We will have plenty of space to unfurl and have a good ol’ time—we can’t wait. Exit I-5 at Exit 22 Go ”west” past Walmart and Les Schwab You will be on Dike Access Rd. \n\n\n\nProceed 2 miles West Until you come to a “T” in the Road. Turn Left at the “T”\, which will be Dike Road \n\n\n\nGo 1/3 mile\, just past the burke island bridge\, Mojo Fest Entrance will be on your right.
URL:https://www.visitmtsthelens.com/event/mojo-fest-2026/
LOCATION:Mojo Fest 2026\, 1108 Dike Road\, Woodland\, Washington\, 98674
CATEGORIES:Events & Festivals,Woodland
ATTACH;FMTTYPE=image/jpeg:https://www.visitmtsthelens.com/wp-content/uploads/2026/02/Mojo-Fest-2026-Woodland-WA.jpg
END:VEVENT
BEGIN:VEVENT
DTSTART;TZID=America/Los_Angeles:20260627T090000
DTEND;TZID=America/Los_Angeles:20260627T140000
DTSTAMP:20260419T101444
CREATED:20260413T220802Z
LAST-MODIFIED:20260413T221337Z
UID:10002233-1782550800-1782568800@www.visitmtsthelens.com
SUMMARY:Cowlitz Community Farmers Market
DESCRIPTION:About Cowlitz Community Farmers Market \n\n\n\nThe Cowlitz Community Farmers Market is a vibrant gathering place where local farmers\, artisans\, and neighbors come together to celebrate fresh food\, creativity\, and community spirit. Located in the heart of Cowlitz County\, our market is dedicated to supporting local agriculture\, small businesses\, and sustainable living. \n\n\n\nTheir mission is to strengthen the local economy and promote healthy lifestyles by providing access to fresh\, locally grown produce and handcrafted goods. We strive to create a welcoming space where community members can connect directly with the people who grow and make their food. \n\n\n\nWhat You’ll Find\n\n\n\nAt the market\, visitors can explore a wide variety of offerings\, including: \n\n\n\n\nFresh\, seasonal fruits and vegetables\n\n\n\nLocally raised meats and eggs\n\n\n\nHomemade baked goods and preserves\n\n\n\nArtisan crafts and handmade products\n\n\n\nFlowers\, plants\, and garden items\n\n\n\n\nMany of our vendors use sustainable and environmentally friendly practices\, ensuring high-quality products you can feel good about. \n\n\n\nSupporting Local\n\n\n\nWhen you shop at the Cowlitz Community Farmers Market\, you’re doing more than buying groceries—you’re supporting local farmers\, entrepreneurs\, and families. Every purchase helps keep money in the community and encourages the growth of small-scale agriculture.
URL:https://www.visitmtsthelens.com/event/cowlitz-community-farmers-market-6/2026-06-27/
LOCATION:Cowlitz Community Farmers Market – Saturdays\, 1900 7th Avenue\, Longview\, 98632
CATEGORIES:Events & Festivals,Longview
ATTACH;FMTTYPE=image/jpeg:https://www.visitmtsthelens.com/wp-content/uploads/2026/04/Farmers-Market.jpg
END:VEVENT
BEGIN:VEVENT
DTSTART;TZID=America/Los_Angeles:20260627T090000
DTEND;TZID=America/Los_Angeles:20260627T143000
DTSTAMP:20260419T101444
CREATED:20260210T171316Z
LAST-MODIFIED:20260401T184216Z
UID:10002145-1782550800-1782570600@www.visitmtsthelens.com
SUMMARY:Hot Rods for Hevin
DESCRIPTION:SAVE THE DATE! This Year’s HOT RODS FOR HEVIN CAR AND BIKE SHOW FUNDRAISER will be held at Three Rivers Crossing!! June 27thSponsorship opportunities available!Vendor spots are available! \n\n\n\nFREE KIDS ZONE will be back even better with the Reptile Road Show back this year! Along with free face painting by Didymus Ink and new FREE obstacle courses by Kelso Bounce House Rental LLC! \n\n\n\nRaffles- DJ- Pin ups- food- drink- live music and more!!Please call us for more info!
URL:https://www.visitmtsthelens.com/event/hot-rods-for-hevin-2/
LOCATION:Three Rivers Crossing\, 351 Three Rivers Drive\, Kelso\, Washington\, 98626
CATEGORIES:Events & Festivals,Kelso
ATTACH;FMTTYPE=image/jpeg:https://www.visitmtsthelens.com/wp-content/uploads/2026/02/Hot-Rods-for-Hevin-2026.jpg
END:VEVENT
BEGIN:VEVENT
DTSTART;TZID=America/Los_Angeles:20260627T100000
DTEND;TZID=America/Los_Angeles:20260627T160000
DTSTAMP:20260419T101444
CREATED:20260205T214306Z
LAST-MODIFIED:20260401T184123Z
UID:10002133-1782554400-1782576000@www.visitmtsthelens.com
SUMMARY:Mojo Fest 2026
DESCRIPTION:June 26\, 27 & 28 2026 – 10 am to 4 pm1108 Dike Road SW – Woodland Bottoms – On the RiverJoin us this summer as Mojo Family Fest returns for its sixth year! This weekend is packed with a variety of music\, art\, food\, vending\, camping\, and much more. We hope to see you there!We’re excited to announce the new location for our summer festival — a 40-acre island Nestled on the banks of the Columbia River\, just a short 30-minute drive from Portland in Woodland\, WA. Just a couple miles (across the river) from our previous location in Deer Island.  \n\n\n\nHuge grass fields for camping\, several hundred feet of sandy beach\, swimming\, and lots more. We will have plenty of space to unfurl and have a good ol’ time—we can’t wait. Exit I-5 at Exit 22 Go ”west” past Walmart and Les Schwab You will be on Dike Access Rd. \n\n\n\nProceed 2 miles West Until you come to a “T” in the Road. Turn Left at the “T”\, which will be Dike Road \n\n\n\nGo 1/3 mile\, just past the burke island bridge\, Mojo Fest Entrance will be on your right.
URL:https://www.visitmtsthelens.com/event/mojo-fest-2026-2/
LOCATION:Mojo Fest 2026\, 1108 Dike Road\, Woodland\, Washington\, 98674
CATEGORIES:Events & Festivals,Woodland
ATTACH;FMTTYPE=image/jpeg:https://www.visitmtsthelens.com/wp-content/uploads/2026/02/Mojo-Fest-2026-Woodland-WA.jpg
END:VEVENT
BEGIN:VEVENT
DTSTART;TZID=America/Los_Angeles:20260627T100000
DTEND;TZID=America/Los_Angeles:20260627T170000
DTSTAMP:20260419T101444
CREATED:20260212T202011Z
LAST-MODIFIED:20260401T184018Z
UID:10002146-1782554400-1782579600@www.visitmtsthelens.com
SUMMARY:Arts of the Mountain
DESCRIPTION:Arts of the Mountain 2026 June 27 & 28\, 2026 | Silver Lake Grange — Silver Lake\, WA \n\n\n\nJoin us for a weekend filled with art\, artisan crafts\, and acoustic music at the beautiful and historic Silver Lake Grange! This annual summer celebration brings together talented local and regional artists alongside wonderful live music in a scenic setting with views of Silver Lake and Mt. St. Helens. \n\n\n\nWhat to Expect:Original artwork and handcrafted items from a wide variety of artisans — including jewelry\, stained glass\, woodwork\, metal art\, mixed media\, painting\, and more.Enjoy acoustic performances throughout the weekend — perfect for relaxing\, discovering new artists\, and soaking up summer vibes.The event takes place in a park-like setting at the Silver Lake Grange\, with the glistening waters of Silver Lake and the backdrop of Mt. St. Helens creating an unforgettable atmosphere. \n\n\n\nAdmission:Free and open to all ages — bring family and friends! \n\n\n\nArtists & Musicians:Interested in showcasing your work or performing? Visit our website or contact the festival organizers for vendor and artist application details. \n\n\n\nStay Connected:For updates\, performer line-ups\, vendor lists\, and more — follow our Facebook event/page or visit artsofthemountain.org.
URL:https://www.visitmtsthelens.com/event/arts-of-the-mountain-3/
LOCATION:Silver Lake Grange\, 3104 Spirit Lake Hwy.\, Castle Rock\, Washington\, 98611
CATEGORIES:Castle Rock,Events & Festivals
ATTACH;FMTTYPE=image/jpeg:https://www.visitmtsthelens.com/wp-content/uploads/2026/02/Arts-of-the-Mountain.jpg
END:VEVENT
BEGIN:VEVENT
DTSTART;TZID=America/Los_Angeles:20260627T130000
DTEND;TZID=America/Los_Angeles:20260627T160000
DTSTAMP:20260419T101444
CREATED:20260316T183204Z
LAST-MODIFIED:20260401T183755Z
UID:10002192-1782565200-1782576000@www.visitmtsthelens.com
SUMMARY:Woodland Cedar Creek Grist Mill - Strawberry Shortcake Day
DESCRIPTION:Celebrate summer at the historic Cedar Creek Grist Mill during our annual Strawberry Shortcake Day! Join us for a delicious afternoon featuring fresh strawberry shortcake served in the beautiful surroundings of this historic landmark. \n\n\n\nGuests can enjoy homemade shortcake topped with fresh strawberries and whipped cream while exploring the grounds and learning about the history of the mill. It’s the perfect way to spend a relaxing summer afternoon with family and friends. \n\n\n\nBring the whole family\, enjoy a sweet treat\, and experience one of the Pacific Northwest’s most charming historic sites. \n\n\n\nStrawberry shortcake will be served from 1:00 PM to 4:00 PM while supplies last.
URL:https://www.visitmtsthelens.com/event/woodland-cedar-creek-grist-mill-strawberry-shortcake-day/
LOCATION:Woodland Cedar Creek Grist Mill\, 43907 NE Grist Mill Road\, Woodland\, Washington\, 98674
CATEGORIES:Events & Festivals,Woodland
ATTACH;FMTTYPE=image/jpeg:https://www.visitmtsthelens.com/wp-content/uploads/2026/03/Cedar-Creek-Grist-Mill-2026.jpg
END:VEVENT
END:VCALENDAR