BEGIN:VCALENDAR
VERSION:2.0
PRODID:-//Visit Mt St Helens - ECPv6.15.20//NONSGML v1.0//EN
CALSCALE:GREGORIAN
METHOD:PUBLISH
X-WR-CALNAME:Visit Mt St Helens
X-ORIGINAL-URL:https://www.visitmtsthelens.com
X-WR-CALDESC:Events for Visit Mt St Helens
REFRESH-INTERVAL;VALUE=DURATION:PT1H
X-Robots-Tag:noindex
X-PUBLISHED-TTL:PT1H
BEGIN:VTIMEZONE
TZID:America/Los_Angeles
BEGIN:DAYLIGHT
TZOFFSETFROM:-0800
TZOFFSETTO:-0700
TZNAME:PDT
DTSTART:20250309T100000
END:DAYLIGHT
BEGIN:STANDARD
TZOFFSETFROM:-0700
TZOFFSETTO:-0800
TZNAME:PST
DTSTART:20251102T090000
END:STANDARD
BEGIN:DAYLIGHT
TZOFFSETFROM:-0800
TZOFFSETTO:-0700
TZNAME:PDT
DTSTART:20260308T100000
END:DAYLIGHT
BEGIN:STANDARD
TZOFFSETFROM:-0700
TZOFFSETTO:-0800
TZNAME:PST
DTSTART:20261101T090000
END:STANDARD
BEGIN:DAYLIGHT
TZOFFSETFROM:-0800
TZOFFSETTO:-0700
TZNAME:PDT
DTSTART:20270314T100000
END:DAYLIGHT
BEGIN:STANDARD
TZOFFSETFROM:-0700
TZOFFSETTO:-0800
TZNAME:PST
DTSTART:20271107T090000
END:STANDARD
END:VTIMEZONE
BEGIN:VEVENT
DTSTART;TZID=America/Los_Angeles:20260605T140000
DTEND;TZID=America/Los_Angeles:20260605T230000
DTSTAMP:20260419T121307
CREATED:20260205T174739Z
LAST-MODIFIED:20260401T195851Z
UID:10002124-1780668000-1780700400@www.visitmtsthelens.com
SUMMARY:Thunder Mountain Tattoo Expo
DESCRIPTION:Thunder Mountain Tattoo Expo is the premier tattoo and lifestyle event in the Northwest\, taking place June 5th–7th\, 2026\, at the Cowlitz County Event Center. This three-day festival brings together tattoo enthusiasts\, artists\, and the community for a celebration of art\, music\, and culture. \n\n\n\nThe expo features over 60 tattoo booths showcasing talented artists\, a vibrant craft vendor hall\, and a variety of entertainment options\, including live music\, outdoor vendors\, a Bike Show\, and fun activities for all ages\, such as bounce houses and a beer garden. \n\n\n\nAttendees can participate in tattoo and piercing contests\, enjoy the Miss Thunder Mountain Pin-Up Girl competition\, and take part in a charity art auction supporting the NW Tattoo Museum. Experience Art Fusion collaborations and discover even more surprises throughout the weekend. \n\n\n\nCome be part of an unforgettable celebration at Thunder Mountain Tattoo Expo!
URL:https://www.visitmtsthelens.com/event/thunder-mtn-tattoo-expo/
LOCATION:Cowlitz County Event Center\, 1900 7th Avenue\, Longview\, 98632
CATEGORIES:Events & Festivals,Longview
ATTACH;FMTTYPE=image/jpeg:https://www.visitmtsthelens.com/wp-content/uploads/2026/02/Thunder-Mt-Tattoo-Expo.jpg
END:VEVENT
BEGIN:VEVENT
DTSTART;TZID=America/Los_Angeles:20260606T090000
DTEND;TZID=America/Los_Angeles:20260606T140000
DTSTAMP:20260419T121307
CREATED:20260413T220802Z
LAST-MODIFIED:20260413T221337Z
UID:10002230-1780736400-1780754400@www.visitmtsthelens.com
SUMMARY:Cowlitz Community Farmers Market
DESCRIPTION:About Cowlitz Community Farmers Market \n\n\n\nThe Cowlitz Community Farmers Market is a vibrant gathering place where local farmers\, artisans\, and neighbors come together to celebrate fresh food\, creativity\, and community spirit. Located in the heart of Cowlitz County\, our market is dedicated to supporting local agriculture\, small businesses\, and sustainable living. \n\n\n\nTheir mission is to strengthen the local economy and promote healthy lifestyles by providing access to fresh\, locally grown produce and handcrafted goods. We strive to create a welcoming space where community members can connect directly with the people who grow and make their food. \n\n\n\nWhat You’ll Find\n\n\n\nAt the market\, visitors can explore a wide variety of offerings\, including: \n\n\n\n\nFresh\, seasonal fruits and vegetables\n\n\n\nLocally raised meats and eggs\n\n\n\nHomemade baked goods and preserves\n\n\n\nArtisan crafts and handmade products\n\n\n\nFlowers\, plants\, and garden items\n\n\n\n\nMany of our vendors use sustainable and environmentally friendly practices\, ensuring high-quality products you can feel good about. \n\n\n\nSupporting Local\n\n\n\nWhen you shop at the Cowlitz Community Farmers Market\, you’re doing more than buying groceries—you’re supporting local farmers\, entrepreneurs\, and families. Every purchase helps keep money in the community and encourages the growth of small-scale agriculture.
URL:https://www.visitmtsthelens.com/event/cowlitz-community-farmers-market-6/2026-06-06/
LOCATION:Cowlitz Community Farmers Market – Saturdays\, 1900 7th Avenue\, Longview\, 98632
CATEGORIES:Events & Festivals,Longview
ATTACH;FMTTYPE=image/jpeg:https://www.visitmtsthelens.com/wp-content/uploads/2026/04/Farmers-Market.jpg
END:VEVENT
BEGIN:VEVENT
DTSTART;TZID=America/Los_Angeles:20260606T110000
DTEND;TZID=America/Los_Angeles:20260606T230000
DTSTAMP:20260419T121307
CREATED:20260205T174851Z
LAST-MODIFIED:20260401T195512Z
UID:10002125-1780743600-1780786800@www.visitmtsthelens.com
SUMMARY:Thunder Mountain Tattoo Expo
DESCRIPTION:Thunder Mountain Tattoo Expo is the premier tattoo and lifestyle event in the Northwest\, taking place June 5th–7th\, 2026\, at the Cowlitz County Event Center. This three-day festival brings together tattoo enthusiasts\, artists\, and the community for a celebration of art\, music\, and culture. \n\n\n\nThe expo features over 60 tattoo booths showcasing talented artists\, a vibrant craft vendor hall\, and a variety of entertainment options\, including live music\, outdoor vendors\, a Bike Show\, and fun activities for all ages\, such as bounce houses and a beer garden. \n\n\n\nAttendees can participate in tattoo and piercing contests\, enjoy the Miss Thunder Mountain Pin-Up Girl competition\, and take part in a charity art auction supporting the NW Tattoo Museum. Experience Art Fusion collaborations and discover even more surprises throughout the weekend. \n\n\n\nCome be part of an unforgettable celebration at Thunder Mountain Tattoo Expo!
URL:https://www.visitmtsthelens.com/event/thunder-mtn-tattoo-expo-2/
LOCATION:Cowlitz County Event Center\, 1900 7th Avenue\, Longview\, 98632
CATEGORIES:Events & Festivals,Longview
ATTACH;FMTTYPE=image/jpeg:https://www.visitmtsthelens.com/wp-content/uploads/2026/02/Thunder-Mt-Tattoo-Expo.jpg
END:VEVENT
BEGIN:VEVENT
DTSTART;TZID=America/Los_Angeles:20260606T190000
DTEND;TZID=America/Los_Angeles:20260606T190000
DTSTAMP:20260419T121307
CREATED:20260116T213607Z
LAST-MODIFIED:20260401T195132Z
UID:10002049-1780772400-1780772400@www.visitmtsthelens.com
SUMMARY:Lelooska Foundation & Cultural Center - Living History Performances
DESCRIPTION:Experience magnificent Northwest Coast masks as they come to life in the glimmering firelight of a Kwakwaka’wakw ceremonial house. The Lelooska Family shares the songs\, dances\, stories\, and masks which display the rights\, crests\, and privileges bestowed on them by the late Chief James Aul Sewid.
URL:https://www.visitmtsthelens.com/event/lelooska-foundation-cultural-center-living-history-performances-2-2/
LOCATION:Lelooska Foundation & Cultural Center\, 165 Merwin Village Road\, Ariel\, Washington\, 98603\, United States
CATEGORIES:Ariel,Events & Festivals,Woodland
ATTACH;FMTTYPE=image/jpeg:https://www.visitmtsthelens.com/wp-content/uploads/2026/01/Spring-Flyer-Lelooska-.jpg
END:VEVENT
END:VCALENDAR