BEGIN:VCALENDAR
VERSION:2.0
PRODID:-//Visit Mt St Helens - ECPv6.15.20//NONSGML v1.0//EN
CALSCALE:GREGORIAN
METHOD:PUBLISH
X-ORIGINAL-URL:https://www.visitmtsthelens.com
X-WR-CALDESC:Events for Visit Mt St Helens
REFRESH-INTERVAL;VALUE=DURATION:PT1H
X-Robots-Tag:noindex
X-PUBLISHED-TTL:PT1H
BEGIN:VTIMEZONE
TZID:America/Los_Angeles
BEGIN:DAYLIGHT
TZOFFSETFROM:-0800
TZOFFSETTO:-0700
TZNAME:PDT
DTSTART:20250309T100000
END:DAYLIGHT
BEGIN:STANDARD
TZOFFSETFROM:-0700
TZOFFSETTO:-0800
TZNAME:PST
DTSTART:20251102T090000
END:STANDARD
BEGIN:DAYLIGHT
TZOFFSETFROM:-0800
TZOFFSETTO:-0700
TZNAME:PDT
DTSTART:20260308T100000
END:DAYLIGHT
BEGIN:STANDARD
TZOFFSETFROM:-0700
TZOFFSETTO:-0800
TZNAME:PST
DTSTART:20261101T090000
END:STANDARD
BEGIN:DAYLIGHT
TZOFFSETFROM:-0800
TZOFFSETTO:-0700
TZNAME:PDT
DTSTART:20270314T100000
END:DAYLIGHT
BEGIN:STANDARD
TZOFFSETFROM:-0700
TZOFFSETTO:-0800
TZNAME:PST
DTSTART:20271107T090000
END:STANDARD
END:VTIMEZONE
BEGIN:VEVENT
DTSTART;TZID=America/Los_Angeles:20260530T090000
DTEND;TZID=America/Los_Angeles:20260530T140000
DTSTAMP:20260419T162858
CREATED:20260413T220802Z
LAST-MODIFIED:20260413T221337Z
UID:10002229-1780131600-1780149600@www.visitmtsthelens.com
SUMMARY:Cowlitz Community Farmers Market
DESCRIPTION:About Cowlitz Community Farmers Market \n\n\n\nThe Cowlitz Community Farmers Market is a vibrant gathering place where local farmers\, artisans\, and neighbors come together to celebrate fresh food\, creativity\, and community spirit. Located in the heart of Cowlitz County\, our market is dedicated to supporting local agriculture\, small businesses\, and sustainable living. \n\n\n\nTheir mission is to strengthen the local economy and promote healthy lifestyles by providing access to fresh\, locally grown produce and handcrafted goods. We strive to create a welcoming space where community members can connect directly with the people who grow and make their food. \n\n\n\nWhat You’ll Find\n\n\n\nAt the market\, visitors can explore a wide variety of offerings\, including: \n\n\n\n\nFresh\, seasonal fruits and vegetables\n\n\n\nLocally raised meats and eggs\n\n\n\nHomemade baked goods and preserves\n\n\n\nArtisan crafts and handmade products\n\n\n\nFlowers\, plants\, and garden items\n\n\n\n\nMany of our vendors use sustainable and environmentally friendly practices\, ensuring high-quality products you can feel good about. \n\n\n\nSupporting Local\n\n\n\nWhen you shop at the Cowlitz Community Farmers Market\, you’re doing more than buying groceries—you’re supporting local farmers\, entrepreneurs\, and families. Every purchase helps keep money in the community and encourages the growth of small-scale agriculture.
URL:https://www.visitmtsthelens.com/event/cowlitz-community-farmers-market-6/2026-05-30/
LOCATION:Cowlitz Community Farmers Market – Saturdays\, 1900 7th Avenue\, Longview\, 98632
CATEGORIES:Events & Festivals,Longview
ATTACH;FMTTYPE=image/jpeg:https://www.visitmtsthelens.com/wp-content/uploads/2026/04/Farmers-Market.jpg
END:VEVENT
BEGIN:VEVENT
DTSTART;TZID=America/Los_Angeles:20260530T130000
DTEND;TZID=America/Los_Angeles:20260530T160000
DTSTAMP:20260419T162858
CREATED:20260316T182801Z
LAST-MODIFIED:20260402T165405Z
UID:10002191-1780146000-1780156800@www.visitmtsthelens.com
SUMMARY:Woodland Cedar Creek Grist Mill - Bread Day
DESCRIPTION:Cedar Creek Grist Mill – Bread DaySaturday\, May 30 \n\n\n\nStep back in time and experience traditional bread making at the historic Cedar Creek Grist Mill. Join us for Bread Day\, where visitors can watch demonstrations of freshly milled flour being turned into delicious homemade bread using traditional methods. \n\n\n\nThroughout the day\, guests will learn about the history of the mill\, see the grinding process in action\, and enjoy the sights\, sounds\, and smells of bread being baked the old-fashioned way. \n\n\n\nBring the whole family and enjoy a relaxing day at one of Washington’s most treasured historic landmarks while discovering how flour was milled and bread was made generations ago. \n\n\n\nBread Day is a great opportunity to explore the mill\, learn local history\, and experience a timeless tradition.
URL:https://www.visitmtsthelens.com/event/cedar-creek-grist-mill-bread-day/
LOCATION:Woodland Cedar Creek Grist Mill\, 43907 NE Grist Mill Road\, Woodland\, Washington\, 98674
CATEGORIES:Events & Festivals,Woodland
ATTACH;FMTTYPE=image/jpeg:https://www.visitmtsthelens.com/wp-content/uploads/2026/03/Cedar-Creek-Grist-Mill-2026.jpg
END:VEVENT
END:VCALENDAR