BEGIN:VCALENDAR
VERSION:2.0
PRODID:-//Visit Mt St Helens - ECPv6.15.20//NONSGML v1.0//EN
CALSCALE:GREGORIAN
METHOD:PUBLISH
X-WR-CALNAME:Visit Mt St Helens
X-ORIGINAL-URL:https://www.visitmtsthelens.com
X-WR-CALDESC:Events for Visit Mt St Helens
REFRESH-INTERVAL;VALUE=DURATION:PT1H
X-Robots-Tag:noindex
X-PUBLISHED-TTL:PT1H
BEGIN:VTIMEZONE
TZID:America/Los_Angeles
BEGIN:DAYLIGHT
TZOFFSETFROM:-0800
TZOFFSETTO:-0700
TZNAME:PDT
DTSTART:20240310T100000
END:DAYLIGHT
BEGIN:STANDARD
TZOFFSETFROM:-0700
TZOFFSETTO:-0800
TZNAME:PST
DTSTART:20241103T090000
END:STANDARD
BEGIN:DAYLIGHT
TZOFFSETFROM:-0800
TZOFFSETTO:-0700
TZNAME:PDT
DTSTART:20250309T100000
END:DAYLIGHT
BEGIN:STANDARD
TZOFFSETFROM:-0700
TZOFFSETTO:-0800
TZNAME:PST
DTSTART:20251102T090000
END:STANDARD
BEGIN:DAYLIGHT
TZOFFSETFROM:-0800
TZOFFSETTO:-0700
TZNAME:PDT
DTSTART:20260308T100000
END:DAYLIGHT
BEGIN:STANDARD
TZOFFSETFROM:-0700
TZOFFSETTO:-0800
TZNAME:PST
DTSTART:20261101T090000
END:STANDARD
END:VTIMEZONE
BEGIN:VEVENT
DTSTART;TZID=America/Los_Angeles:20250824T083000
DTEND;TZID=America/Los_Angeles:20250824T083000
DTSTAMP:20260419T201151
CREATED:20250611T200739Z
LAST-MODIFIED:20250611T200743Z
UID:10001761-1756024200-1756024200@www.visitmtsthelens.com
SUMMARY:7th Annual Deputy Justin DeRosier - Memorial Ride
DESCRIPTION:We are gearing up for another great ride this year! Please note some big changes to this year’s event… We will be changing our starting location to the COWLITZ COUNTY HALL OF JUSTICE to start our ride down the Justin DeRosier Memorial Highway. The ride will also take place on a SUNDAY. Mark your calendar and tell your friends! We can’t wait to see you there!Registration Begins at 8:30 amCowlitz County Hall of Justice to Elk Rock Viewpoint – Mt St Helens
URL:https://www.visitmtsthelens.com/event/7th-annual-deputy-justin-derosier-memorial-ride/
LOCATION:Washington
CATEGORIES:Events & Festivals,Kelso,Mt St Helens
ATTACH;FMTTYPE=image/jpeg:https://www.visitmtsthelens.com/wp-content/uploads/2025/06/Justin-DeRosier-Memorial-Ride-2025.jpg
END:VEVENT
BEGIN:VEVENT
DTSTART;TZID=America/Los_Angeles:20250824T110000
DTEND;TZID=America/Los_Angeles:20250824T150000
DTSTAMP:20260419T201151
CREATED:20250507T185358Z
LAST-MODIFIED:20250507T185401Z
UID:10001695-1756033200-1756047600@www.visitmtsthelens.com
SUMMARY:Castle Rock Sunday Market
DESCRIPTION:Food\, Handmades\, Clothes\, Antiques\, Crystals\, Decor and Much More!
URL:https://www.visitmtsthelens.com/event/castle-rock-sunday-market/2025-08-24/
LOCATION:Castle Rock Sunday Market\, 161 Huntington Avenue N\, Castle Rock\, Washington\, 98611
CATEGORIES:Events & Festivals,Longview
ATTACH;FMTTYPE=image/jpeg:https://www.visitmtsthelens.com/wp-content/uploads/2025/05/Castle-Rock-Sunday-Market.jpg
END:VEVENT
BEGIN:VEVENT
DTSTART;TZID=America/Los_Angeles:20250824T110000
DTEND;TZID=America/Los_Angeles:20250824T170000
DTSTAMP:20260419T201151
CREATED:20250115T235216Z
LAST-MODIFIED:20250205T192647Z
UID:10001166-1756033200-1756054800@www.visitmtsthelens.com
SUMMARY:Kalama Cultural Festival
DESCRIPTION:For many years\, the Kalama community has had a festival celebrating the unique blending of Hawaiian and Native American cultures of the Pacific Northwest. We’ll return in 2025 to continue this proud tradition!
URL:https://www.visitmtsthelens.com/event/kalama-cultural-festival-2/
LOCATION:Kalama Cultural Festival\, 215 North Hendrickson Drive\, Kalama\, Washington\, 98625
CATEGORIES:Events & Festivals,Kalama
ATTACH;FMTTYPE=image/jpeg:https://www.visitmtsthelens.com/wp-content/uploads/2025/01/Kalama-Cultural-Festival.jpg
END:VEVENT
BEGIN:VEVENT
DTSTART;TZID=America/Los_Angeles:20250826T120000
DTEND;TZID=America/Los_Angeles:20250826T180000
DTSTAMP:20260419T201151
CREATED:20250507T180852Z
LAST-MODIFIED:20250829T202049Z
UID:10001649-1756209600-1756231200@www.visitmtsthelens.com
SUMMARY:Cowlitz Community Farmers Market
DESCRIPTION:NEW LOCATION: 15th & Broadway in front of the City of Longview buildingNEW HOURS: Starting at 12pm ending at 6 pm
URL:https://www.visitmtsthelens.com/event/cowlitz-community-farmers-market-3/2025-08-26/
LOCATION:Cowlitz Community Farmers Market – Tuesday\, 15th & Broadway\, Longview\, Washington\, 98632
CATEGORIES:Events & Festivals,Longview
ATTACH;FMTTYPE=image/jpeg:https://www.visitmtsthelens.com/wp-content/uploads/2025/05/Tuesdays-Farmers-Market.jpg
END:VEVENT
BEGIN:VEVENT
DTSTART;TZID=America/Los_Angeles:20250829T080000
DTEND;TZID=America/Los_Angeles:20250831T080000
DTSTAMP:20260419T201151
CREATED:20250828T211440Z
LAST-MODIFIED:20250828T211658Z
UID:10001903-1756454400-1756627200@www.visitmtsthelens.com
SUMMARY:Rumble at the Rock
DESCRIPTION:Gear up for the most thrilling motorcycle racing event of the year! Join us this Labor Day Weekend at Rumble at the Rock in Castle Rock\, WA. Experience intense racing action\, fierce competition\, and a chance to win part of the $10\,000 purse on Saturday\, August 30th. \n\n\n\nKey Event Highlights:\n\n\n\nFun for the whole family! \n\n\n\n\n$10\,000 Purse up for grabs on Saturday\, August 30th\n\n\n\nBouncin’ Bob Malley Tribute: Saturday night – Honoring a local racing legend with a special tribute and ash scattering ceremony\n\n\n\nMotorcycle Racing: Multiple classes and categories\, including vintage and open money races\n\n\n\n100% Payback for all amateur classes\n\n\n\nCamping: On-site camping available for the weekend\n\n\n\n\nAdmission & Fees\n\n\n\n\nGeneral Admission: $15 per person\, per day\n\n\n\nChildren (6 and Under): Free\n\n\n\nCamping: $25 for the weekend\n\n\n\n\nLocation: Castle Rock Fairgrounds\, Castle Rock\, WashingtonGates Open: 8:00 AM (Friday\, Saturday\, Sunday)
URL:https://www.visitmtsthelens.com/event/rumble-at-the-rock/2025-08-29/
LOCATION:Washington
CATEGORIES:Castle Rock,Events & Festivals
ATTACH;FMTTYPE=image/jpeg:https://www.visitmtsthelens.com/wp-content/uploads/2025/08/Rumble-at-the-Rock-1.jpg
END:VEVENT
BEGIN:VEVENT
DTSTART;TZID=America/Los_Angeles:20250829T140000
DTEND;TZID=America/Los_Angeles:20250829T140000
DTSTAMP:20260419T201151
CREATED:20250827T165913Z
LAST-MODIFIED:20250827T165946Z
UID:10001841-1756476000-1756476000@www.visitmtsthelens.com
SUMMARY:Cool Nights in August
DESCRIPTION:Cool August Nights – Auto Showcase Across the FairwaysFriday\, August 29\, 2025 | Longview Country Club \n\n\n\nJoin us for an unforgettable evening as the 3rd Annual Cool August Nights returns to Longview Country Club! Enjoy a stunning display of classic cars and motorcycles set against the backdrop of our beautifully manicured fairways. \n\n\n\nEvent Features:– Free Admission for Spectators (2 PM – Sunset)– Car & Motorcycle Show Entry: $35 per vehicle– Live Music from Petty Fever\, 24-7 Band & Rock City– Great Food\, Cold Drinks\, and Family Activities– Pool Access\, Bounce House\, Face Painting & More \n\n\n\nRegister your vehicle or get full event details at:https://www.coolaugustnights.com \n\n\n\nWhether you’re a gearhead\, a music fan\, or just looking for fun with the family — this night has it all. Don’t miss it!
URL:https://www.visitmtsthelens.com/event/cool-nights-in-august/
LOCATION:Washington
CATEGORIES:Events & Festivals,Longview
ATTACH;FMTTYPE=image/jpeg:https://www.visitmtsthelens.com/wp-content/uploads/2025/08/Cool-August-Nights-Car-Show.jpg
END:VEVENT
BEGIN:VEVENT
DTSTART;TZID=America/Los_Angeles:20250829T193000
DTEND;TZID=America/Los_Angeles:20250829T193000
DTSTAMP:20260419T201151
CREATED:20250528T183241Z
LAST-MODIFIED:20250528T183246Z
UID:10001747-1756495800-1756495800@www.visitmtsthelens.com
SUMMARY:Under the Stars Movie Nights - Moana 2
DESCRIPTION:Longview Parks & Recreation presents Under the Stars Movie Nights. Free admission to 4 of your all-time favorite movies. Movies begin at dusk. Bring your family & friends\, don’t forget your lawn chairs or blanket for a movie night under the stars! Pre-Movie activities start at 7:30 pm. Lake Sacajawea will be the location for Moana 2.
URL:https://www.visitmtsthelens.com/event/under-the-stars-movie-nights-ghostbusters-2-2/
LOCATION:Washington
CATEGORIES:Events & Festivals,Longview
ATTACH;FMTTYPE=image/jpeg:https://www.visitmtsthelens.com/wp-content/uploads/2025/05/Movie-Nights-at-the-Lake-LPR-2025-002.jpg
END:VEVENT
BEGIN:VEVENT
DTSTART;TZID=America/Los_Angeles:20250830T090000
DTEND;TZID=America/Los_Angeles:20250830T140000
DTSTAMP:20260419T201151
CREATED:20250507T182052Z
LAST-MODIFIED:20250507T182055Z
UID:10001671-1756544400-1756562400@www.visitmtsthelens.com
SUMMARY:Cowlitz Community Farmers Market
DESCRIPTION:Saturdays 9:00 AM – 2:00 PM at FairgroundsIn the parking lot across 7th Ave from the Fairgrounds: 1900 7th Ave Longview\, Washington 98632
URL:https://www.visitmtsthelens.com/event/cowlitz-community-farmers-market-4/2025-08-30/
LOCATION:Cowlitz Community Farmers Market – Saturdays\, 1900 7th Avenue\, Longview\, 98632
CATEGORIES:Events & Festivals,Longview
ATTACH;FMTTYPE=image/jpeg:https://www.visitmtsthelens.com/wp-content/uploads/2025/05/Saturdays-Farmers-Market.jpg
END:VEVENT
BEGIN:VEVENT
DTSTART;TZID=America/Los_Angeles:20250830T130000
DTEND;TZID=America/Los_Angeles:20250830T130000
DTSTAMP:20260419T201151
CREATED:20250827T185803Z
LAST-MODIFIED:20250827T211500Z
UID:10001842-1756558800-1756558800@www.visitmtsthelens.com
SUMMARY:Woodland Cedar Creek Grist Mill
DESCRIPTION:Treat Day!Whole wheat never tasted so good! Cookies\, cakes\, muffins\, scones\, even dog biscuits can show up today. Always new\, always great. Doors are open until 4 pm but the treats are available as long as they last.Woodland Cedar Creek Grist Mill is a beautifully preserved 19th-century water-powered mill nestled in the lush forests of Woodland\, Washington. Still fully operational\, the mill offers a glimpse into the past with live demonstrations of stone-ground grain milling. Open to visitors seasonally\, it’s a picturesque and educational destination perfect for families\, history buffs\, and photographers alike—featuring scenic views\, walking trails\, and a peaceful riverside setting.
URL:https://www.visitmtsthelens.com/event/cedar-creek-grist-mill-treat-day/
LOCATION:Woodland Cedar Creek Grist Mill\, 43907 NE Grist Mill Road\, Woodland\, Washington\, 98674
CATEGORIES:Events & Festivals,Woodland
ATTACH;FMTTYPE=image/jpeg:https://www.visitmtsthelens.com/wp-content/uploads/2025/08/Treat-Day-Cedar-Creek-Grist-Mill-8.30.25.jpg
END:VEVENT
BEGIN:VEVENT
DTSTART;TZID=America/Los_Angeles:20250830T190000
DTEND;TZID=America/Los_Angeles:20250830T190000
DTSTAMP:20260419T201151
CREATED:20250808T171856Z
LAST-MODIFIED:20250829T214933Z
UID:10001830-1756580400-1756580400@www.visitmtsthelens.com
SUMMARY:Silver Lake Lighted Boat Parade
DESCRIPTION:Get ready for a magical evening on the water at the Silver Lake Lighted Boat Parade! Taking place Saturday\, August 30th at 7:00 PM\, this beloved annual tradition lights up Silver Lake (just outside Castle Rock\, WA) with a festive parade of glowing boats. \n\n\n\nFrom kayaks and canoes to bass boats and pontoons\, local boaters decorate their vessels with lights\, music\, and creative themes as they cruise along the lake—creating a breathtaking\, family-friendly show that reflects beautifully across the water. \n\n\n\n\n\n\n\nGreat viewing spots include: \n\n\n\n\nStreeter’s Resort\n\n\n\nSilver Lake Resort\n\n\n\nSilver Cove RV Resort (RV Inn Style Resorts)\n\n\n\nAnd along the public shoreline near local campgrounds\n\n\n\n\nWhether you’re watching from the shore or joining the parade on the water\, this is a one-of-a-kind summer evening you won’t want to miss!
URL:https://www.visitmtsthelens.com/event/silver-lake-lighted-boat-parade-2/
LOCATION:Washington
CATEGORIES:Events & Festivals,Silverlake
ATTACH;FMTTYPE=image/jpeg:https://www.visitmtsthelens.com/wp-content/uploads/2025/08/Lighted-Boat-Parade-8.30.25.jpg
END:VEVENT
END:VCALENDAR