BEGIN:VCALENDAR
VERSION:2.0
PRODID:-//Visit Mt St Helens - ECPv6.15.20//NONSGML v1.0//EN
CALSCALE:GREGORIAN
METHOD:PUBLISH
X-WR-CALNAME:Visit Mt St Helens
X-ORIGINAL-URL:https://www.visitmtsthelens.com
X-WR-CALDESC:Events for Visit Mt St Helens
REFRESH-INTERVAL;VALUE=DURATION:PT1H
X-Robots-Tag:noindex
X-PUBLISHED-TTL:PT1H
BEGIN:VTIMEZONE
TZID:America/Los_Angeles
BEGIN:DAYLIGHT
TZOFFSETFROM:-0800
TZOFFSETTO:-0700
TZNAME:PDT
DTSTART:20240310T100000
END:DAYLIGHT
BEGIN:STANDARD
TZOFFSETFROM:-0700
TZOFFSETTO:-0800
TZNAME:PST
DTSTART:20241103T090000
END:STANDARD
BEGIN:DAYLIGHT
TZOFFSETFROM:-0800
TZOFFSETTO:-0700
TZNAME:PDT
DTSTART:20250309T100000
END:DAYLIGHT
BEGIN:STANDARD
TZOFFSETFROM:-0700
TZOFFSETTO:-0800
TZNAME:PST
DTSTART:20251102T090000
END:STANDARD
BEGIN:DAYLIGHT
TZOFFSETFROM:-0800
TZOFFSETTO:-0700
TZNAME:PDT
DTSTART:20260308T100000
END:DAYLIGHT
BEGIN:STANDARD
TZOFFSETFROM:-0700
TZOFFSETTO:-0800
TZNAME:PST
DTSTART:20261101T090000
END:STANDARD
END:VTIMEZONE
BEGIN:VEVENT
DTSTART;TZID=America/Los_Angeles:20250810T110000
DTEND;TZID=America/Los_Angeles:20250810T150000
DTSTAMP:20260419T214404
CREATED:20250507T185358Z
LAST-MODIFIED:20250507T185401Z
UID:10001693-1754823600-1754838000@www.visitmtsthelens.com
SUMMARY:Castle Rock Sunday Market
DESCRIPTION:Food\, Handmades\, Clothes\, Antiques\, Crystals\, Decor and Much More!
URL:https://www.visitmtsthelens.com/event/castle-rock-sunday-market/2025-08-10/
LOCATION:Castle Rock Sunday Market\, 161 Huntington Avenue N\, Castle Rock\, Washington\, 98611
CATEGORIES:Events & Festivals,Longview
ATTACH;FMTTYPE=image/jpeg:https://www.visitmtsthelens.com/wp-content/uploads/2025/05/Castle-Rock-Sunday-Market.jpg
END:VEVENT
BEGIN:VEVENT
DTSTART;TZID=America/Los_Angeles:20250812T120000
DTEND;TZID=America/Los_Angeles:20250812T180000
DTSTAMP:20260419T214404
CREATED:20250507T180852Z
LAST-MODIFIED:20250829T202049Z
UID:10001647-1755000000-1755021600@www.visitmtsthelens.com
SUMMARY:Cowlitz Community Farmers Market
DESCRIPTION:NEW LOCATION: 15th & Broadway in front of the City of Longview buildingNEW HOURS: Starting at 12pm ending at 6 pm
URL:https://www.visitmtsthelens.com/event/cowlitz-community-farmers-market-3/2025-08-12/
LOCATION:Cowlitz Community Farmers Market – Tuesday\, 15th & Broadway\, Longview\, Washington\, 98632
CATEGORIES:Events & Festivals,Longview
ATTACH;FMTTYPE=image/jpeg:https://www.visitmtsthelens.com/wp-content/uploads/2025/05/Tuesdays-Farmers-Market.jpg
END:VEVENT
BEGIN:VEVENT
DTSTART;TZID=America/Los_Angeles:20250814T180000
DTEND;TZID=America/Los_Angeles:20250814T180000
DTSTAMP:20260419T214404
CREATED:20250528T212930Z
LAST-MODIFIED:20250528T213233Z
UID:10001754-1755194400-1755194400@www.visitmtsthelens.com
SUMMARY:Concerts at the Lake
DESCRIPTION:The Summer Concerts at the Lake in Longview\, WA\, are a cherished community tradition\, offering free\, family-friendly live music at Lake Sacajawea. For 2025\, the concerts are scheduled every Thursday evening from July 10 through August 14\, running from 6:00 PM to 8:00 PM at Martin’s Dock\, located at 1051 Kessler Blvd.\, Longview\, WA 98632.  \n\n\n\nThe 2025 lineup features a diverse array of musical acts\, including: \n\n\n\n\nAugust 14 – Stacy Jones\n\n\n\n\nThese concerts are presented by Longview Parks and Recreation and are free to the public. \n\n\n\nFor the most current information and updates\, please visit the official event page: Summer Concerts at the Lake – City of Longview.
URL:https://www.visitmtsthelens.com/event/concerts-at-the-lake-2-2-2-2-2/
LOCATION:Martins Dock – Lake Sacajawea\, 1051 Kessler Blvd.\, Longview\, Washington\, 98632
CATEGORIES:Events & Festivals,Longview
ATTACH;FMTTYPE=image/png:https://www.visitmtsthelens.com/wp-content/uploads/2025/05/Summer-Concerts-at-the-Lake-2025-2.png
END:VEVENT
BEGIN:VEVENT
DTSTART;TZID=America/Los_Angeles:20250815T120000
DTEND;TZID=America/Los_Angeles:20250817T120000
DTSTAMP:20260419T214404
CREATED:20250811T174253Z
LAST-MODIFIED:20250811T174258Z
UID:10001833-1755259200-1755432000@www.visitmtsthelens.com
SUMMARY:Estranged Car Show & Drag Race
DESCRIPTION:August 15\, 16 & 17 – The Toutle Motorsports Park has its annual ESTRANGED car show/drag race weekend. Cash only at the gate. Gate times/fees are as follows:Early entry Wednesday August 13th\, 4 p.m. – 9 p.m.Thursday August 14th – Sunday August 17thGates open from 8 a.m. – 9 p.m. each day \n\n\n\n$15/ person per day general admission$50/ day to race$10/ night to camp$40/ weekend swap meet spot
URL:https://www.visitmtsthelens.com/event/estranged-car-show-drag-race/
LOCATION:Toutle Motorsports\, 250 Rodale Drive\, Toutle\, Washington\, 98649
CATEGORIES:Events & Festivals,Toutle
ATTACH;FMTTYPE=image/jpeg:https://www.visitmtsthelens.com/wp-content/uploads/2025/08/Drag-Show-Toutle-8.15-17-2025.jpg
END:VEVENT
BEGIN:VEVENT
DTSTART;TZID=America/Los_Angeles:20250815T180000
DTEND;TZID=America/Los_Angeles:20250815T213000
DTSTAMP:20260419T214404
CREATED:20250811T210252Z
LAST-MODIFIED:20250811T210345Z
UID:10001837-1755280800-1755293400@www.visitmtsthelens.com
SUMMARY:Nutty Comedy Night
DESCRIPTION:Nutty Comedy Night is ON!  \n\n\n\nJumpstart your Squirrel Fest  weekend with a night of laughs\, music\, food\, and fun! \n\n\n\nFriday\, August 15\, 20256:00 PM – 9:30 PM (gates open at 5:30)Civic Circle\, Longview WA21 & Over Only \n\n\n\nGet ready for an unforgettable evening hosted by the one and only Master of Ceremonies\, Sandy B. McNutt! This year’s lineup brings the funny and the funky with: \n\n\n\nMichael Glatzmaier – musical improv and mayhemDave Nudo Band – bringing country rock energyDakota Robins – amazing country musicJordan Cerminara – sharp wit with wild twistsTodd Basil – clever\, absurd\, and full of surprises \n\n\n\nGreat food and drink available all night!Exclusive Food Vendors open through the show! \n\n\n\nLet’s get nutty and launch Squirrel Fest 14 with laughter and live music!Get Your Tickets on Eventbrite \n\n\n\nhttps://www.eventbrite.com/…/nutty-comedy-night-tickets…
URL:https://www.visitmtsthelens.com/event/nutty-comedy-night/
LOCATION:Washington
CATEGORIES:Events & Festivals,Longview
ATTACH;FMTTYPE=image/jpeg:https://www.visitmtsthelens.com/wp-content/uploads/2025/08/Nutty-Night-Comedy-2025-002.jpg
END:VEVENT
BEGIN:VEVENT
DTSTART;TZID=America/Los_Angeles:20250815T193000
DTEND;TZID=America/Los_Angeles:20250815T193000
DTSTAMP:20260419T214404
CREATED:20250528T182431Z
LAST-MODIFIED:20250528T182713Z
UID:10001745-1755286200-1755286200@www.visitmtsthelens.com
SUMMARY:Under the Stars Movie Nights - Ghostbusters
DESCRIPTION:Longview Parks & Recreation presents Under the Stars Movie Nights. Free admission to 4 of your all-time favorite movies. Movies begin at dusk. Bring your family & friends\, don’t forget your lawn chairs or blanket for a movie night under the stars! Pre-Movie activities start at 7:30 pm. Lake Sacajawea will be the location for Ghostbusters.
URL:https://www.visitmtsthelens.com/event/under-the-stars-movie-nights-ghostbusters/
LOCATION:Washington
CATEGORIES:Events & Festivals,Longview
ATTACH;FMTTYPE=image/jpeg:https://www.visitmtsthelens.com/wp-content/uploads/2025/05/Movie-Nights-at-the-Lake-LPR-2025-002.jpg
END:VEVENT
BEGIN:VEVENT
DTSTART;TZID=America/Los_Angeles:20250816T020000
DTEND;TZID=America/Los_Angeles:20250816T200000
DTSTAMP:20260419T214404
CREATED:20250811T190829Z
LAST-MODIFIED:20250811T190833Z
UID:10001835-1755309600-1755374400@www.visitmtsthelens.com
SUMMARY:Kalama Harbor Lodge Brew Fest
DESCRIPTION: 4th Annual Kalama Harbor Brewfest21+ to purchase. All ages welcome.2:00PM – 8:00PMKalama Harbor Lodge – Westin Amphitheater215 N Hendrickson DrKalama\, WA 98625Saturday August 16th\, 2025One ticket includes 10 tokens and a specialty pint glass.Spend the afternoon overlooking the Columbia River tasting beer – what better way to spend a summer day? We’re hosting local breweries and cideries\, and they’ll bring their most delicious summer concoctions for you to taste.
URL:https://www.visitmtsthelens.com/event/kalama-harbor-lodge-brew-fest/
LOCATION:Washington
CATEGORIES:Events & Festivals,Kalama
ATTACH;FMTTYPE=image/jpeg:https://www.visitmtsthelens.com/wp-content/uploads/2025/08/Kalama-Harbor-Lodge-Brewfest-8.16.jpg
END:VEVENT
BEGIN:VEVENT
DTSTART;TZID=America/Los_Angeles:20250816T080000
DTEND;TZID=America/Los_Angeles:20250816T140000
DTSTAMP:20260419T214404
CREATED:20250516T222146Z
LAST-MODIFIED:20250516T222149Z
UID:10001712-1755331200-1755352800@www.visitmtsthelens.com
SUMMARY:Mountain Mania Car Show
DESCRIPTION:Cars\, trucks\, motorcycles\, vendors\, food\, and fun for the whole family.Location is Cowlitz St W from Huntington Ave to 2nd St\, Front Street between Jackson and A St\, 1st Street between Cowlitz and A St. Vendors will be in Bradfield’s Parking lot.Early registration is open. Each vehicle is $25. Car show shirts and hoodies are also available for preorder.https://greatercrc.com/event/mountain-mania-car-show/ \n\n\n\n**Vehicle registration begins at 7am and is $25 per vehicle. Registration will be in front Bradfield’s hardware. Bring your show car\, truck\, or motorcycle down.
URL:https://www.visitmtsthelens.com/event/mountain-mania-car-show-2/
LOCATION:Washington
CATEGORIES:Castle Rock,Events & Festivals
ATTACH;FMTTYPE=image/webp:https://www.visitmtsthelens.com/wp-content/uploads/2025/05/Mt-Mania-Car-Show-1.webp
END:VEVENT
BEGIN:VEVENT
DTSTART;TZID=America/Los_Angeles:20250816T080000
DTEND;TZID=America/Los_Angeles:20250816T150000
DTSTAMP:20260419T214404
CREATED:20250811T173045Z
LAST-MODIFIED:20250811T173048Z
UID:10001832-1755331200-1755356400@www.visitmtsthelens.com
SUMMARY:Westview Church Car Show & Garage Sale
DESCRIPTION:
URL:https://www.visitmtsthelens.com/event/westview-church-car-show-garage-sale/
LOCATION:Washington
CATEGORIES:Events & Festivals,Longview
ATTACH;FMTTYPE=image/jpeg:https://www.visitmtsthelens.com/wp-content/uploads/2025/08/Car-Show-Garage-Sale-8.16.jpg
END:VEVENT
BEGIN:VEVENT
DTSTART;TZID=America/Los_Angeles:20250816T090000
DTEND;TZID=America/Los_Angeles:20250816T140000
DTSTAMP:20260419T214404
CREATED:20250507T182052Z
LAST-MODIFIED:20250507T182055Z
UID:10001669-1755334800-1755352800@www.visitmtsthelens.com
SUMMARY:Cowlitz Community Farmers Market
DESCRIPTION:Saturdays 9:00 AM – 2:00 PM at FairgroundsIn the parking lot across 7th Ave from the Fairgrounds: 1900 7th Ave Longview\, Washington 98632
URL:https://www.visitmtsthelens.com/event/cowlitz-community-farmers-market-4/2025-08-16/
LOCATION:Cowlitz Community Farmers Market – Saturdays\, 1900 7th Avenue\, Longview\, 98632
CATEGORIES:Events & Festivals,Longview
ATTACH;FMTTYPE=image/jpeg:https://www.visitmtsthelens.com/wp-content/uploads/2025/05/Saturdays-Farmers-Market.jpg
END:VEVENT
BEGIN:VEVENT
DTSTART;TZID=America/Los_Angeles:20250816T100000
DTEND;TZID=America/Los_Angeles:20250816T200000
DTSTAMP:20260419T214404
CREATED:20250317T234725Z
LAST-MODIFIED:20250317T234919Z
UID:10001233-1755338400-1755374400@www.visitmtsthelens.com
SUMMARY:Longview Squirrel Fest 2025
DESCRIPTION:Squirrel Fest is the first of its kind on the West Coast and in the Mount St. Helens region! We’re nuts over this celebration in honor or our furry friends and so are our 3\,500+ guests we reconnect with annually. Longview is known for its Squirrel bridges near the Civic Center and we’re excited to invite you to celebrate with us! With a wide variety of nutty activities\, Squirrel Fest offers something for everyone. Located at Longview Civic Center Park\, the event features local vendors\, performances\, children’s activities\, delicious foods and more!
URL:https://www.visitmtsthelens.com/event/longview-squirrel-fest-2025/
LOCATION:Longview Squirrel Fest                                                                                Longview Civic Circle Park\, 1400 17th Avenue\, Longview\, Washington\, 98632\, United States
CATEGORIES:Events & Festivals,Longview
ATTACH;FMTTYPE=image/jpeg:https://www.visitmtsthelens.com/wp-content/uploads/2025/03/Squirrel-Fest-2025-002.jpg
END:VEVENT
BEGIN:VEVENT
DTSTART;TZID=America/Los_Angeles:20250816T110000
DTEND;TZID=America/Los_Angeles:20250816T220000
DTSTAMP:20260419T214404
CREATED:20250811T205121Z
LAST-MODIFIED:20250811T205126Z
UID:10001836-1755342000-1755381600@www.visitmtsthelens.com
SUMMARY:Crafted Beer & Food Fest
DESCRIPTION:Crafted Beer & Food Festival at Squirrel Fest – August 16th\, 2025\n\n\n\nGet ready for a day of craft brews\, delicious bites\, and unforgettable memories at the Crafted Beer & Food Festival during Squirrel Fest in Longview on August 16th\, 2025! This annual celebration brings together the best local breweries\, food vendors\, and music for an epic day of flavors and fun. \n\n\n\nWhat to Expect: \n\n\n\nExclusive Tasting Experiences: For those who want a deeper dive\, the festival will feature special tasting sessions and meet-and-greet opportunities with brewers and food creators. Don’t miss your chance to learn the story behind your favorite brews and bites! \n\n\n\nCraft Beer Galore: Sample a wide variety of craft beers from the region’s top breweries. Whether you’re a fan of hoppy IPAs\, rich stouts\, or light lagers\, there’s a brew for every palate. Enjoy exclusive pours\, meet the brewers\, and discover your new favorite local beer. \n\n\n\nGourmet Food Trucks: Satisfy your taste buds with a tempting selection of food trucks offering everything from savory bites to sweet treats. Think gourmet tacos\, sizzling BBQ\, farm-fresh salads\, decadent desserts\, and so much more. Perfect pairings for your craft beer experience! \n\n\n\nLive Music & Entertainment: The festival wouldn’t be complete without a lively soundtrack! Enjoy performances from local bands and artists\, setting the perfect mood as you sip and savor your way through the day.
URL:https://www.visitmtsthelens.com/event/crafted-beer-food-fest/
LOCATION:Washington
CATEGORIES:Events & Festivals,Longview
ATTACH;FMTTYPE=image/png:https://www.visitmtsthelens.com/wp-content/uploads/2025/08/Crafted-logo.png
END:VEVENT
BEGIN:VEVENT
DTSTART;TZID=America/Los_Angeles:20250816T160000
DTEND;TZID=America/Los_Angeles:20250816T220000
DTSTAMP:20260419T214404
CREATED:20250812T224835Z
LAST-MODIFIED:20250812T224838Z
UID:10001839-1755360000-1755381600@www.visitmtsthelens.com
SUMMARY:Kalama Street Dance Party
DESCRIPTION:Live music with Total RecallBeer GardenFood VendorsPop up Market
URL:https://www.visitmtsthelens.com/event/kalama-street-dance-party/
LOCATION:Washington
CATEGORIES:Events & Festivals,Kalama
ATTACH;FMTTYPE=image/jpeg:https://www.visitmtsthelens.com/wp-content/uploads/2025/08/Kalamas-street-Dance-8.14.jpg
END:VEVENT
END:VCALENDAR