BEGIN:VCALENDAR
VERSION:2.0
PRODID:-//Visit Mt St Helens - ECPv6.15.20//NONSGML v1.0//EN
CALSCALE:GREGORIAN
METHOD:PUBLISH
X-WR-CALNAME:Visit Mt St Helens
X-ORIGINAL-URL:https://www.visitmtsthelens.com
X-WR-CALDESC:Events for Visit Mt St Helens
REFRESH-INTERVAL;VALUE=DURATION:PT1H
X-Robots-Tag:noindex
X-PUBLISHED-TTL:PT1H
BEGIN:VTIMEZONE
TZID:America/Los_Angeles
BEGIN:DAYLIGHT
TZOFFSETFROM:-0800
TZOFFSETTO:-0700
TZNAME:PDT
DTSTART:20240310T100000
END:DAYLIGHT
BEGIN:STANDARD
TZOFFSETFROM:-0700
TZOFFSETTO:-0800
TZNAME:PST
DTSTART:20241103T090000
END:STANDARD
BEGIN:DAYLIGHT
TZOFFSETFROM:-0800
TZOFFSETTO:-0700
TZNAME:PDT
DTSTART:20250309T100000
END:DAYLIGHT
BEGIN:STANDARD
TZOFFSETFROM:-0700
TZOFFSETTO:-0800
TZNAME:PST
DTSTART:20251102T090000
END:STANDARD
BEGIN:DAYLIGHT
TZOFFSETFROM:-0800
TZOFFSETTO:-0700
TZNAME:PDT
DTSTART:20260308T100000
END:DAYLIGHT
BEGIN:STANDARD
TZOFFSETFROM:-0700
TZOFFSETTO:-0800
TZNAME:PST
DTSTART:20261101T090000
END:STANDARD
END:VTIMEZONE
BEGIN:VEVENT
DTSTART;TZID=America/Los_Angeles:20250608T000000
DTEND;TZID=America/Los_Angeles:20250608T235959
DTSTAMP:20260419T042518
CREATED:20250411T223406Z
LAST-MODIFIED:20250507T192357Z
UID:10001708-1749340800-1749427199@www.visitmtsthelens.com
SUMMARY:Summer Stomp
DESCRIPTION:
URL:https://www.visitmtsthelens.com/event/summer-stomp/2025-06-08/
LOCATION:Lone Fir Resort\, 16806 Lewis River Road\, Cougar\, 98616
CATEGORIES:Cougar,Events & Festivals
ATTACH;FMTTYPE=image/jpeg:https://www.visitmtsthelens.com/wp-content/uploads/2025/04/Summer-Stomp.jpg
END:VEVENT
BEGIN:VEVENT
DTSTART;TZID=America/Los_Angeles:20250608T110000
DTEND;TZID=America/Los_Angeles:20250608T150000
DTSTAMP:20260419T042518
CREATED:20250507T185358Z
LAST-MODIFIED:20250507T185401Z
UID:10001684-1749380400-1749394800@www.visitmtsthelens.com
SUMMARY:Castle Rock Sunday Market
DESCRIPTION:Food\, Handmades\, Clothes\, Antiques\, Crystals\, Decor and Much More!
URL:https://www.visitmtsthelens.com/event/castle-rock-sunday-market/2025-06-08/
LOCATION:Castle Rock Sunday Market\, 161 Huntington Avenue N\, Castle Rock\, Washington\, 98611
CATEGORIES:Events & Festivals,Longview
ATTACH;FMTTYPE=image/jpeg:https://www.visitmtsthelens.com/wp-content/uploads/2025/05/Castle-Rock-Sunday-Market.jpg
END:VEVENT
BEGIN:VEVENT
DTSTART;TZID=America/Los_Angeles:20250610T120000
DTEND;TZID=America/Los_Angeles:20250610T180000
DTSTAMP:20260419T042518
CREATED:20250507T180852Z
LAST-MODIFIED:20250829T202049Z
UID:10001638-1749556800-1749578400@www.visitmtsthelens.com
SUMMARY:Cowlitz Community Farmers Market
DESCRIPTION:NEW LOCATION: 15th & Broadway in front of the City of Longview buildingNEW HOURS: Starting at 12pm ending at 6 pm
URL:https://www.visitmtsthelens.com/event/cowlitz-community-farmers-market-3/2025-06-10/
LOCATION:Cowlitz Community Farmers Market – Tuesday\, 15th & Broadway\, Longview\, Washington\, 98632
CATEGORIES:Events & Festivals,Longview
ATTACH;FMTTYPE=image/jpeg:https://www.visitmtsthelens.com/wp-content/uploads/2025/05/Tuesdays-Farmers-Market.jpg
END:VEVENT
BEGIN:VEVENT
DTSTART;TZID=America/Los_Angeles:20250610T183500
DTEND;TZID=America/Los_Angeles:20250610T183500
DTSTAMP:20260419T042518
CREATED:20250523T181455Z
LAST-MODIFIED:20250523T181457Z
UID:10001720-1749580500-1749580500@www.visitmtsthelens.com
SUMMARY:Cowlitz Black Bears vs Marion Berries
DESCRIPTION:Cowlitz Black Bears Baseball – 2025 Season \n\n\n\nExperience the thrill of summer baseball with the Cowlitz Black Bears\, Longview’s hometown team competing in the West Coast League! The 2025 season promises high-energy action\, rising collegiate talent\, and family-friendly fun at David Story Field. From themed nights and fireworks shows to local food vendors and fan giveaways\, every game offers something special. \n\n\n\nWhether you’re a longtime fan or a first-time visitor\, Black Bears games are a celebration of community spirit and America’s pastime. Come cheer on the Bears\, enjoy the warm Northwest evenings\, and make unforgettable memories all season long.ScheduleTickets
URL:https://www.visitmtsthelens.com/event/cowlitz-black-bears-vs-portland-pickles-2-2-2-2-2/
LOCATION:David Story Field\, 1700 19th Avenue\, Longview\, 98632
CATEGORIES:Events & Festivals,Longview,Sporting Events
ATTACH;FMTTYPE=image/png:https://www.visitmtsthelens.com/wp-content/uploads/2025/05/Black-Bears-Logo.png
END:VEVENT
BEGIN:VEVENT
DTSTART;TZID=America/Los_Angeles:20250611T183500
DTEND;TZID=America/Los_Angeles:20250611T183500
DTSTAMP:20260419T042518
CREATED:20250523T181532Z
LAST-MODIFIED:20250523T181535Z
UID:10001721-1749666900-1749666900@www.visitmtsthelens.com
SUMMARY:Cowlitz Black Bears vs Marion Berries
DESCRIPTION:Cowlitz Black Bears Baseball – 2025 Season \n\n\n\nExperience the thrill of summer baseball with the Cowlitz Black Bears\, Longview’s hometown team competing in the West Coast League! The 2025 season promises high-energy action\, rising collegiate talent\, and family-friendly fun at David Story Field. From themed nights and fireworks shows to local food vendors and fan giveaways\, every game offers something special. \n\n\n\nWhether you’re a longtime fan or a first-time visitor\, Black Bears games are a celebration of community spirit and America’s pastime. Come cheer on the Bears\, enjoy the warm Northwest evenings\, and make unforgettable memories all season long.ScheduleTickets
URL:https://www.visitmtsthelens.com/event/cowlitz-black-bears-vs-portland-pickles-2-2-2-2-2-2/
LOCATION:David Story Field\, 1700 19th Avenue\, Longview\, 98632
CATEGORIES:Events & Festivals,Longview,Sporting Events
ATTACH;FMTTYPE=image/png:https://www.visitmtsthelens.com/wp-content/uploads/2025/05/Black-Bears-Logo.png
END:VEVENT
BEGIN:VEVENT
DTSTART;TZID=America/Los_Angeles:20250612T183500
DTEND;TZID=America/Los_Angeles:20250612T183500
DTSTAMP:20260419T042518
CREATED:20250523T181612Z
LAST-MODIFIED:20250523T181616Z
UID:10001722-1749753300-1749753300@www.visitmtsthelens.com
SUMMARY:Cowlitz Black Bears vs Marion Berries
DESCRIPTION:Cowlitz Black Bears Baseball – 2025 Season \n\n\n\nExperience the thrill of summer baseball with the Cowlitz Black Bears\, Longview’s hometown team competing in the West Coast League! The 2025 season promises high-energy action\, rising collegiate talent\, and family-friendly fun at David Story Field. From themed nights and fireworks shows to local food vendors and fan giveaways\, every game offers something special. \n\n\n\nWhether you’re a longtime fan or a first-time visitor\, Black Bears games are a celebration of community spirit and America’s pastime. Come cheer on the Bears\, enjoy the warm Northwest evenings\, and make unforgettable memories all season long.ScheduleTickets
URL:https://www.visitmtsthelens.com/event/cowlitz-black-bears-vs-portland-pickles-2-2-2-2-2-2-2/
LOCATION:David Story Field\, 1700 19th Avenue\, Longview\, 98632
CATEGORIES:Events & Festivals,Longview,Sporting Events
ATTACH;FMTTYPE=image/png:https://www.visitmtsthelens.com/wp-content/uploads/2025/05/Black-Bears-Logo.png
END:VEVENT
BEGIN:VEVENT
DTSTART;TZID=America/Los_Angeles:20250614T090000
DTEND;TZID=America/Los_Angeles:20250614T140000
DTSTAMP:20260419T042518
CREATED:20250507T182052Z
LAST-MODIFIED:20250507T182055Z
UID:10001660-1749891600-1749909600@www.visitmtsthelens.com
SUMMARY:Cowlitz Community Farmers Market
DESCRIPTION:Saturdays 9:00 AM – 2:00 PM at FairgroundsIn the parking lot across 7th Ave from the Fairgrounds: 1900 7th Ave Longview\, Washington 98632
URL:https://www.visitmtsthelens.com/event/cowlitz-community-farmers-market-4/2025-06-14/
LOCATION:Cowlitz Community Farmers Market – Saturdays\, 1900 7th Avenue\, Longview\, 98632
CATEGORIES:Events & Festivals,Longview
ATTACH;FMTTYPE=image/jpeg:https://www.visitmtsthelens.com/wp-content/uploads/2025/05/Saturdays-Farmers-Market.jpg
END:VEVENT
BEGIN:VEVENT
DTSTART;TZID=America/Los_Angeles:20250614T120000
DTEND;TZID=America/Los_Angeles:20250614T160000
DTSTAMP:20260419T042518
CREATED:20250611T192658Z
LAST-MODIFIED:20250611T192702Z
UID:10001759-1749902400-1749916800@www.visitmtsthelens.com
SUMMARY:Rose Garden 60th Anniversary Party
DESCRIPTION:Cheers to 60 years of beautiful blooms at the Library Rose Garden! Come celebrate the garden in its glory\, tour the grounds\, and say thanks to the volunteers who help make it the jewel of the library.
URL:https://www.visitmtsthelens.com/event/rose-garden-60th-anniversary-party/
LOCATION:Longview Public Library\, 1600 Louisiana Street\, Longview\, Washington\, 98632
CATEGORIES:Events & Festivals,Longview
ATTACH;FMTTYPE=image/jpeg:https://www.visitmtsthelens.com/wp-content/uploads/2025/06/60th-Birthday-Longview-Library-Rose-Garden.jpg
END:VEVENT
END:VCALENDAR