BEGIN:VCALENDAR
VERSION:2.0
PRODID:-//Visit Mt St Helens - ECPv6.15.20//NONSGML v1.0//EN
CALSCALE:GREGORIAN
METHOD:PUBLISH
X-ORIGINAL-URL:https://www.visitmtsthelens.com
X-WR-CALDESC:Events for Visit Mt St Helens
REFRESH-INTERVAL;VALUE=DURATION:PT1H
X-Robots-Tag:noindex
X-PUBLISHED-TTL:PT1H
BEGIN:VTIMEZONE
TZID:America/Los_Angeles
BEGIN:DAYLIGHT
TZOFFSETFROM:-0800
TZOFFSETTO:-0700
TZNAME:PDT
DTSTART:20230312T100000
END:DAYLIGHT
BEGIN:STANDARD
TZOFFSETFROM:-0700
TZOFFSETTO:-0800
TZNAME:PST
DTSTART:20231105T090000
END:STANDARD
BEGIN:DAYLIGHT
TZOFFSETFROM:-0800
TZOFFSETTO:-0700
TZNAME:PDT
DTSTART:20240310T100000
END:DAYLIGHT
BEGIN:STANDARD
TZOFFSETFROM:-0700
TZOFFSETTO:-0800
TZNAME:PST
DTSTART:20241103T090000
END:STANDARD
BEGIN:DAYLIGHT
TZOFFSETFROM:-0800
TZOFFSETTO:-0700
TZNAME:PDT
DTSTART:20250309T100000
END:DAYLIGHT
BEGIN:STANDARD
TZOFFSETFROM:-0700
TZOFFSETTO:-0800
TZNAME:PST
DTSTART:20251102T090000
END:STANDARD
END:VTIMEZONE
BEGIN:VEVENT
DTSTART;TZID=America/Los_Angeles:20240625T143000
DTEND;TZID=America/Los_Angeles:20240625T150000
DTSTAMP:20260419T211303
CREATED:20240417T212224Z
LAST-MODIFIED:20240418T160701Z
UID:10000810-1719325800-1719327600@www.visitmtsthelens.com
SUMMARY:Cowlitz Community Farmers Market
DESCRIPTION:
URL:https://www.visitmtsthelens.com/event/cowlitz-community-farmers-market-2/2024-06-25/
LOCATION:Cowlitz Community Farmers Market – Tuesdays\, 1200 12th Avenue\, Longview\, Washington\, 98632\, United States
CATEGORIES:Events & Festivals,Kelso,Longview
ATTACH;FMTTYPE=image/jpeg:https://www.visitmtsthelens.com/wp-content/uploads/2024/04/Farmers-Market-001.jpg
END:VEVENT
BEGIN:VEVENT
DTSTART;TZID=America/Los_Angeles:20240629T090000
DTEND;TZID=America/Los_Angeles:20240629T140000
DTSTAMP:20260419T211303
CREATED:20240417T173632Z
LAST-MODIFIED:20240423T215138Z
UID:10000859-1719651600-1719669600@www.visitmtsthelens.com
SUMMARY:Cowlitz Community Farmers Market
DESCRIPTION:
URL:https://www.visitmtsthelens.com/event/cowlitz-community-farmers-market/2024-06-29/
LOCATION:Cowlitz Community Farmers Market – Saturdays\, 1900 7th Avenue\, Longview\, 98632
CATEGORIES:Events & Festivals,Kelso,Longview
ATTACH;FMTTYPE=image/jpeg:https://www.visitmtsthelens.com/wp-content/uploads/2024/04/Farmers-Market-001.jpg
END:VEVENT
BEGIN:VEVENT
DTSTART;TZID=America/Los_Angeles:20240629T100000
DTEND;TZID=America/Los_Angeles:20240629T170000
DTSTAMP:20260419T211303
CREATED:20240417T172124Z
LAST-MODIFIED:20240425T194138Z
UID:10000615-1719655200-1719680400@www.visitmtsthelens.com
SUMMARY:Arts of the Mountain at Silver Lake Grange
DESCRIPTION:Arts of the Mountain will be celebrating our 12th year!  June 29th & 30th 2024. A two-day Art and Music extravaganza!!! We bring together some of the best Artists and Acoustic Musicians for this fun event! A weekend of fun is sure to be had by all.Artists of many varieties\, Stained Glass\, Recycled Metal\, Jewelry\, Wood Working\, Mixed Media\, Painters and many others will be displaying and selling their wonderful artworks. While your eyes are entertained with beautiful artwork\, your ears will be delighted by our wonderful Acoustic Musicians. The festival takes place at the historic Silver Lake Grange\, in a park like setting with a beautiful view of Silver Lake’s glistening waters\, all under the magnificence of Mt St Helens
URL:https://www.visitmtsthelens.com/event/arts-of-the-mountain-at-silver-lake-grange-2/
LOCATION:Silver Lake Grange\, 3104 Spirit Lake Highway\, Castle Rock\,\, Washington\, 98611\, United States
CATEGORIES:Events & Festivals,Mt St Helens,Silverlake,Toutle
END:VEVENT
BEGIN:VEVENT
DTSTART;TZID=America/Los_Angeles:20240629T100000
DTEND;TZID=America/Los_Angeles:20240629T190000
DTSTAMP:20260419T211303
CREATED:20240417T220126Z
LAST-MODIFIED:20240417T220128Z
UID:10000991-1719655200-1719687600@www.visitmtsthelens.com
SUMMARY:Big Smoke in Little Kalama
DESCRIPTION:Haydu Park ~ 253 Kalama River Rd.\, Kalama\, WA 98625 \n\n\n\nDay 1 Hours: 10 AM – 6 PM music until 7 PM\n\n\n\nSaturday Morning – (DAY 1) \n\n\n\nAdmission is free but you’ll need to purchase BBQ tokens to sample what the teams are cooking and you’ll need Beer tokens to wash it down. \n\n\n\nHead to the center of the event to purchase:  \n\n\n\n\nBBQ Tokens (Food available 11 AM – 7 PM)\n\n\n\nBeer Tokens (12 PM – Last Call at 6:30 PM)\n\n\n\nRaffle Tickets (Raffle Tickets drawn at 3:30 pm on Sunday)\n\n\n\n\nCash or Credit Accepted \n\n\n\nYou’ll also be given three tickets to vote for your favorite team. \n\n\n\nOUTDOOR MARKET OPENS\n\n\n\n10 AM \n\n\n\nSaturday Morning – (DAY 1) \n\n\n\n\nLocal hand crafted goods\n\n\n\nSnacks\n\n\n\nFace Painting\n\n\n\n\nWe’ve invited makers and crafters to bring their best PNW inspired goods to accompany the BBQ competition. \n\n\n\nRising Heights Dance Performance\n\n\n\n10:30 AM \n\n\n\nKalama’s own Rising Heights Dance students will kick off the entertainment on the stage on the lawn. \n\n\n\nBBQ Samples\n\n\n\n11 AM – 7 PM \n\n\n\nLook for teams selling samples and full plates along the outside perimeter of competition arena. \n\n\n\n\nTeams only accept tokens for BBQ\n\n\n\nSamples/Full Plates are $2 – $12\n\n\n\nPurchase tokens at tent between the competition arena and grass lawn.\n\n\n\nGrab your 3 VOTING TICKETS when you purchase tokens. Vote for your favorite team or your top three teams. It’s up to you!\n\n\n\nTables are set up all throughout event. Nothing is reserved\, so help yourself to a seat and fill out a survey while you eat. (surveys are at tables)\n\n\n\n\nBEER GARDEN OPENS\n\n\n\n12 PM – 7 PM \n\n\n\nTokens are $6 each \n\n\n\n\nBeer – 15 oz\n\n\n\nCider – 15oz\n\n\n\nWine – 5 oz\n\n\n\n\nBe prepared to show ID when purchasing tokens and again at the beer truck. Last call for alcohol is at 6:30 pm. You can take food into the beer garden\, but you cannot take alcohol out of the beer garden. \n\n\n\nLive Music\n\n\n\n12 PM – 7 PM \n\n\n\nPlease see the Music page for the band line-up. \n\n\n\nEND OF DAY 1\n\n\n\n7 PM \n\n\n\nAs BBQ teams begin to put their briskets on to cook\, and prepare for Day 2\, the rest of the vendors will shut down for the day at 6 PM.  Last call for alcohol will be at 6:30 PM .
URL:https://www.visitmtsthelens.com/event/big-smoke-in-little-kalama/
LOCATION:Washington
CATEGORIES:Events & Festivals,Kalama
ATTACH;FMTTYPE=image/jpeg:https://www.visitmtsthelens.com/wp-content/uploads/2024/04/Big-Smoke-Little-Kalama-2024.jpg
END:VEVENT
BEGIN:VEVENT
DTSTART;TZID=America/Los_Angeles:20240629T100000
DTEND;TZID=America/Los_Angeles:20240629T190000
DTSTAMP:20260419T211303
CREATED:20240614T223931Z
LAST-MODIFIED:20240614T223933Z
UID:10001051-1719655200-1719687600@www.visitmtsthelens.com
SUMMARY:Big Smoke in Little Kalama
DESCRIPTION:June 29\, 2024 (Day 1)Haydu Park – 253 Kalama River Rd.\, Kalama\, WA 98625Day 2 – Hours: 10 AM – 6 PM – Music until 7 PM \n\n\n\nAdmission is free but you’ll need to purchase BBQ tokens to sample what the teams are cooking and you’ll need Beer tokens to wash it down. Be sure to visit the Seattle Butcher’s Wife for some tasty samples! \n\n\n\nHead to the center of the event to purchase:  \n\n\n\n\nBBQ Tokens (Food available 11 AM – 7 PM)\n\n\n\nBeer Tokens (12 PM – Last Call at 6:30 PM)\n\n\n\nRaffle Tickets (Raffle Tickets drawn at 3:30 pm on Sunday)\n\n\n\n\nJune 30\, 2024 (Day 2)Haydu Park – 253 Kalama River Rd.\, Kalama\, WA 98625Day 2 – Hours: 10 AM – 5 PM\n\n\n\nIt’s 10:00 am and you can smell the sweet aroma of BBQ in the air! Teams are focused on turning in their meat for judging and there will be designated servers ready to sell you some BBQ from 11 AM – 4 PM \n\n\n\nChicken\, Ribs\, Brisket\, and Pulled Pork will be turned in at designated times. Approximately 35 professionally trained judges will score the meats and announce the winners at a private award ceremony. Follow us on Facebook @bigsmokeinlittlekalama to see how your favorite teams fared!
URL:https://www.visitmtsthelens.com/event/big-smoke-in-little-kalama-3/
LOCATION:Washington
CATEGORIES:Events & Festivals,Kalama
ATTACH;FMTTYPE=image/jpeg:https://www.visitmtsthelens.com/wp-content/uploads/2024/06/Big-Smoke-Little-Kalama-002.jpg
END:VEVENT
END:VCALENDAR