BEGIN:VCALENDAR
VERSION:2.0
PRODID:-//Visit Mt St Helens - ECPv6.15.20//NONSGML v1.0//EN
CALSCALE:GREGORIAN
METHOD:PUBLISH
X-WR-CALNAME:Visit Mt St Helens
X-ORIGINAL-URL:https://www.visitmtsthelens.com
X-WR-CALDESC:Events for Visit Mt St Helens
REFRESH-INTERVAL;VALUE=DURATION:PT1H
X-Robots-Tag:noindex
X-PUBLISHED-TTL:PT1H
BEGIN:VTIMEZONE
TZID:America/Los_Angeles
BEGIN:DAYLIGHT
TZOFFSETFROM:-0800
TZOFFSETTO:-0700
TZNAME:PDT
DTSTART:20230312T100000
END:DAYLIGHT
BEGIN:STANDARD
TZOFFSETFROM:-0700
TZOFFSETTO:-0800
TZNAME:PST
DTSTART:20231105T090000
END:STANDARD
BEGIN:DAYLIGHT
TZOFFSETFROM:-0800
TZOFFSETTO:-0700
TZNAME:PDT
DTSTART:20240310T100000
END:DAYLIGHT
BEGIN:STANDARD
TZOFFSETFROM:-0700
TZOFFSETTO:-0800
TZNAME:PST
DTSTART:20241103T090000
END:STANDARD
BEGIN:DAYLIGHT
TZOFFSETFROM:-0800
TZOFFSETTO:-0700
TZNAME:PDT
DTSTART:20250309T100000
END:DAYLIGHT
BEGIN:STANDARD
TZOFFSETFROM:-0700
TZOFFSETTO:-0800
TZNAME:PST
DTSTART:20251102T090000
END:STANDARD
END:VTIMEZONE
BEGIN:VEVENT
DTSTART;TZID=America/Los_Angeles:20240616T000000
DTEND;TZID=America/Los_Angeles:20240616T235959
DTSTAMP:20260420T003434
CREATED:20240614T202147Z
LAST-MODIFIED:20240614T202149Z
UID:10001050-1718496000-1718582399@www.visitmtsthelens.com
SUMMARY:Woodland Planters Days
DESCRIPTION:Woodland Planters Days Celebration is the longest community event in WA.June 13 to 16th 2024. Carnival rides\, food and craft vendors\, frog jumping contest\, car showlive music and more! Come join the fun!
URL:https://www.visitmtsthelens.com/event/woodland-planters-days-4/
LOCATION:Horseshoe Lake Park\, 544 Goerig Street\, Woodland\, Washington\, 98674\, United States
CATEGORIES:Events & Festivals,Woodland
ATTACH;FMTTYPE=image/jpeg:https://www.visitmtsthelens.com/wp-content/uploads/2024/04/Planters-Days-2024.jpg
END:VEVENT
BEGIN:VEVENT
DTSTART;TZID=America/Los_Angeles:20240618T143000
DTEND;TZID=America/Los_Angeles:20240618T150000
DTSTAMP:20260420T003434
CREATED:20240417T212224Z
LAST-MODIFIED:20240418T160701Z
UID:10000809-1718721000-1718722800@www.visitmtsthelens.com
SUMMARY:Cowlitz Community Farmers Market
DESCRIPTION:
URL:https://www.visitmtsthelens.com/event/cowlitz-community-farmers-market-2/2024-06-18/
LOCATION:Cowlitz Community Farmers Market – Tuesdays\, 1200 12th Avenue\, Longview\, Washington\, 98632\, United States
CATEGORIES:Events & Festivals,Kelso,Longview
ATTACH;FMTTYPE=image/jpeg:https://www.visitmtsthelens.com/wp-content/uploads/2024/04/Farmers-Market-001.jpg
END:VEVENT
BEGIN:VEVENT
DTSTART;TZID=America/Los_Angeles:20240620T190000
DTEND;TZID=America/Los_Angeles:20240620T190000
DTSTAMP:20260420T003434
CREATED:20240418T170436Z
LAST-MODIFIED:20240418T170437Z
UID:10001016-1718910000-1718910000@www.visitmtsthelens.com
SUMMARY:Lelooska Foundation & Cultural Center Living History Performance
DESCRIPTION:Living History Performance\n\n\n\nExperience magnificent Northwest Coast masks as they come to life in the glimmering firelight of a Kwakwaka’wakw ceremonial house. The Lelooska Family shares the songs\, dances\, stories\, and masks which display the rights\, crests\, and privileges bestowed on them by the late Chief James Aul Sewid. Chief Tsungani carries on the traditions of his brother\, the late Chief Lelooska\, performing with other family members in Ariel\, Washington\, 31 miles northeast of Portland\, Oregon. \n\n\n\nThe performance you will witness was developed by Chief Lelooska\, Chief James Aul Sewid and tribal elders to share the history and culture of the Kwakwaka’wakw people. The Lelooska Foundation has sponsored these programs since 1977.
URL:https://www.visitmtsthelens.com/event/lelooska-foundation-cultural-center-living-history-performance-3/
LOCATION:Lelooska Foundation & Cultural Center\, 165 Merwin Village Road\, Ariel\, Washington\, 98603\, United States
CATEGORIES:Ariel,Events & Festivals,Woodland
ATTACH;FMTTYPE=application/pdf:https://www.visitmtsthelens.com/wp-content/uploads/2024/04/Lelooska-SPRING-2024-1.pdf
END:VEVENT
BEGIN:VEVENT
DTSTART;TZID=America/Los_Angeles:20240622T063000
DTEND;TZID=America/Los_Angeles:20240622T063000
DTSTAMP:20260420T003434
CREATED:20240418T163110Z
LAST-MODIFIED:20240418T163112Z
UID:10001013-1719037800-1719037800@www.visitmtsthelens.com
SUMMARY:Tour de Blast
DESCRIPTION:Rotary Club of Longview Presents Tour de Blast!First timers and old pros\, it’s time to get ready to ride!Join us in experiencing the thrill of cycling through the iconicMt St Helens blast zone
URL:https://www.visitmtsthelens.com/event/tour-de-blast-2/
LOCATION:Toutle Lake High School\, 5050 Spirit Lake Highway\, Toutle\, Washington\, 98649\, United States
CATEGORIES:Events & Festivals,Mt St Helens,Toutle
ATTACH;FMTTYPE=image/jpeg:https://www.visitmtsthelens.com/wp-content/uploads/2024/04/Tour-De-Blast-2024-Flyer.jpg
END:VEVENT
BEGIN:VEVENT
DTSTART;TZID=America/Los_Angeles:20240622T090000
DTEND;TZID=America/Los_Angeles:20240622T140000
DTSTAMP:20260420T003434
CREATED:20240417T173632Z
LAST-MODIFIED:20240423T215138Z
UID:10000858-1719046800-1719064800@www.visitmtsthelens.com
SUMMARY:Cowlitz Community Farmers Market
DESCRIPTION:
URL:https://www.visitmtsthelens.com/event/cowlitz-community-farmers-market/2024-06-22/
LOCATION:Cowlitz Community Farmers Market – Saturdays\, 1900 7th Avenue\, Longview\, 98632
CATEGORIES:Events & Festivals,Kelso,Longview
ATTACH;FMTTYPE=image/jpeg:https://www.visitmtsthelens.com/wp-content/uploads/2024/04/Farmers-Market-001.jpg
END:VEVENT
BEGIN:VEVENT
DTSTART;TZID=America/Los_Angeles:20240622T090000
DTEND;TZID=America/Los_Angeles:20240622T160000
DTSTAMP:20260420T003434
CREATED:20240423T225608Z
LAST-MODIFIED:20240423T225609Z
UID:10001022-1719046800-1719072000@www.visitmtsthelens.com
SUMMARY:Hot Rods for Hevin
DESCRIPTION:Join us for the 4th Annual HOT RODS FOR HEVIN car show! This is a family friendly event and we will have our Kids Zone back again this year with bouncy house\, and face painting! We will also have a beer garden\, pin up contest and lots of vendors and raffle items!Line up starts at 7 am! All proceeds go to helping veterans in need in Cowlitz County!!
URL:https://www.visitmtsthelens.com/event/hot-rods-for-hevin/
LOCATION:Cowlitz County Event Center\, 1900 7th Avenue\, Longview\, 98632
CATEGORIES:Events & Festivals,Longview
ATTACH;FMTTYPE=image/jpeg:https://www.visitmtsthelens.com/wp-content/uploads/2024/04/Hot-Rods-for-Hevin-2024-002.jpg
END:VEVENT
END:VCALENDAR