BEGIN:VCALENDAR
VERSION:2.0
PRODID:-//Visit Mt St Helens - ECPv6.15.20//NONSGML v1.0//EN
CALSCALE:GREGORIAN
METHOD:PUBLISH
X-WR-CALNAME:Visit Mt St Helens
X-ORIGINAL-URL:https://www.visitmtsthelens.com
X-WR-CALDESC:Events for Visit Mt St Helens
REFRESH-INTERVAL;VALUE=DURATION:PT1H
X-Robots-Tag:noindex
X-PUBLISHED-TTL:PT1H
BEGIN:VTIMEZONE
TZID:America/Los_Angeles
BEGIN:DAYLIGHT
TZOFFSETFROM:-0800
TZOFFSETTO:-0700
TZNAME:PDT
DTSTART:20230312T100000
END:DAYLIGHT
BEGIN:STANDARD
TZOFFSETFROM:-0700
TZOFFSETTO:-0800
TZNAME:PST
DTSTART:20231105T090000
END:STANDARD
BEGIN:DAYLIGHT
TZOFFSETFROM:-0800
TZOFFSETTO:-0700
TZNAME:PDT
DTSTART:20240310T100000
END:DAYLIGHT
BEGIN:STANDARD
TZOFFSETFROM:-0700
TZOFFSETTO:-0800
TZNAME:PST
DTSTART:20241103T090000
END:STANDARD
BEGIN:DAYLIGHT
TZOFFSETFROM:-0800
TZOFFSETTO:-0700
TZNAME:PDT
DTSTART:20250309T100000
END:DAYLIGHT
BEGIN:STANDARD
TZOFFSETFROM:-0700
TZOFFSETTO:-0800
TZNAME:PST
DTSTART:20251102T090000
END:STANDARD
END:VTIMEZONE
BEGIN:VEVENT
DTSTART;TZID=America/Los_Angeles:20240526T170000
DTEND;TZID=America/Los_Angeles:20240526T220000
DTSTAMP:20260420T003438
CREATED:20240522T174051Z
LAST-MODIFIED:20240522T174054Z
UID:10001040-1716742800-1716760800@www.visitmtsthelens.com
SUMMARY:Mt St Helens Motorcycle Club
DESCRIPTION:Flat Track Racing  \n\n\n\n\n\nSeason Opener is this weekend! Come spend your Memorial Day Weekend at MT. St. Helens M/C on Saturday and Sunday Night 5 pm to 10 pm for some Flat Track Racing! Tickets ae at the gate for $10.
URL:https://www.visitmtsthelens.com/event/mt-st-helens-motorcycle-club-2/
LOCATION:Mt ST Helens Motorcycle Club\, 120 Fair Lane\, Castle Rock\, Washington\, 98611
CATEGORIES:Castle Rock,Events & Festivals
ATTACH;FMTTYPE=image/webp:https://www.visitmtsthelens.com/wp-content/uploads/2024/05/Mt-St-Helens-Motorcycle-Club-Logo.webp
END:VEVENT
BEGIN:VEVENT
DTSTART;TZID=America/Los_Angeles:20240528T143000
DTEND;TZID=America/Los_Angeles:20240528T150000
DTSTAMP:20260420T003438
CREATED:20240417T212224Z
LAST-MODIFIED:20240418T160701Z
UID:10000806-1716906600-1716908400@www.visitmtsthelens.com
SUMMARY:Cowlitz Community Farmers Market
DESCRIPTION:
URL:https://www.visitmtsthelens.com/event/cowlitz-community-farmers-market-2/2024-05-28/
LOCATION:Cowlitz Community Farmers Market – Tuesdays\, 1200 12th Avenue\, Longview\, Washington\, 98632\, United States
CATEGORIES:Events & Festivals,Kelso,Longview
ATTACH;FMTTYPE=image/jpeg:https://www.visitmtsthelens.com/wp-content/uploads/2024/04/Farmers-Market-001.jpg
END:VEVENT
BEGIN:VEVENT
DTSTART;TZID=America/Los_Angeles:20240529T170000
DTEND;TZID=America/Los_Angeles:20240529T170000
DTSTAMP:20260420T003438
CREATED:20240522T001426Z
LAST-MODIFIED:20240522T001428Z
UID:10001037-1717002000-1717002000@www.visitmtsthelens.com
SUMMARY:Culpepper & Merriweather Circus
DESCRIPTION:C&M Circus is coming to Castle Rock\, WA on May 29th! Two shows will be performed under a real Circus Big Top.Location: Behind Elementary SchoolShowtimes: 5:00 & 7:30Sponsor: Greater Castle Rock Chamber of CommerceTickets: Tickets can be purchased at a discounted price ($13 for adults and $8 for children and seniors) before circus day from…• Castle Rock Pharmacy• Greener Futures Electric• Quilt Nest• Get online tickets now from: https://cm-circus.square.siteOnline tickets are available until 10:00 p.m the night before we arrive (May 28th) or until sold out. On circus day\, tickets can only be purchased at the box office and will be $16 for adults and $9 for children 2-12 and seniors 65 & up. No charge for children under the age of 2. Buy your tickets early and save! A portion of the proceeds will go to support our sponsor — the Greater Castle Rock Chamber of Commerce. Our 90 minute family-friendly show features Big Cats\, Tight Rope\, Aerialists\, Foot Juggling\, Horses\, Daredevils and so much more! Visit cmcircus.com to see photos and find out more information on this year’s show.
URL:https://www.visitmtsthelens.com/event/culpepper-merriweather-circus/
LOCATION:Castle Rock Elementary School\, 700 Huntington Avenue S\, Castle Rock\, WA\, 98611\, United States
CATEGORIES:Castle Rock,Events & Festivals
ATTACH;FMTTYPE=image/jpeg:https://www.visitmtsthelens.com/wp-content/uploads/2024/05/CM-Circus-CR-5.29.jpg
END:VEVENT
BEGIN:VEVENT
DTSTART;TZID=America/Los_Angeles:20240529T183000
DTEND;TZID=America/Los_Angeles:20240529T183000
DTSTAMP:20260420T003438
CREATED:20240522T000541Z
LAST-MODIFIED:20240522T000545Z
UID:10001035-1717007400-1717007400@www.visitmtsthelens.com
SUMMARY:Jordan World Circus
DESCRIPTION:Get your tickets online at: TicketsLocation: Cowlitz County Fair\, Longview\, WA 98632Showtimes:Wednesday\, May 29th | 6:30pmThursday\, May 30th | 6:30pmEnjoy an incredible performance featuring world-class circus stars from around the globe\, that is sure to have the entire family on the edge of their seats!Get your tickets before the show at: Tickets
URL:https://www.visitmtsthelens.com/event/jordan-world-circus/
LOCATION:Washington
CATEGORIES:Events & Festivals,Longview
ATTACH;FMTTYPE=image/jpeg:https://www.visitmtsthelens.com/wp-content/uploads/2024/05/Jordan-World-Circus.jpg
END:VEVENT
BEGIN:VEVENT
DTSTART;TZID=America/Los_Angeles:20240529T193000
DTEND;TZID=America/Los_Angeles:20240529T193000
DTSTAMP:20260420T003438
CREATED:20240522T001541Z
LAST-MODIFIED:20240522T001543Z
UID:10001038-1717011000-1717011000@www.visitmtsthelens.com
SUMMARY:Culpepper & Merriweather Circus
DESCRIPTION:C&M Circus is coming to Castle Rock\, WA on May 29th! Two shows will be performed under a real Circus Big Top.Location: Behind Elementary SchoolShowtimes: 5:00 & 7:30Sponsor: Greater Castle Rock Chamber of CommerceTickets: Tickets can be purchased at a discounted price ($13 for adults and $8 for children and seniors) before circus day from…• Castle Rock Pharmacy• Greener Futures Electric• Quilt Nest• Get online tickets now from: https://cm-circus.square.siteOnline tickets are available until 10:00 p.m the night before we arrive (May 28th) or until sold out. On circus day\, tickets can only be purchased at the box office and will be $16 for adults and $9 for children 2-12 and seniors 65 & up. No charge for children under the age of 2. Buy your tickets early and save! A portion of the proceeds will go to support our sponsor — the Greater Castle Rock Chamber of Commerce. Our 90 minute family-friendly show features Big Cats\, Tight Rope\, Aerialists\, Foot Juggling\, Horses\, Daredevils and so much more! Visit cmcircus.com to see photos and find out more information on this year’s show.
URL:https://www.visitmtsthelens.com/event/culpepper-merriweather-circus-2/
LOCATION:Castle Rock Elementary School\, 700 Huntington Avenue S\, Castle Rock\, WA\, 98611\, United States
CATEGORIES:Castle Rock,Events & Festivals
ATTACH;FMTTYPE=image/jpeg:https://www.visitmtsthelens.com/wp-content/uploads/2024/05/CM-Circus-CR-5.29.jpg
END:VEVENT
BEGIN:VEVENT
DTSTART;TZID=America/Los_Angeles:20240530T183000
DTEND;TZID=America/Los_Angeles:20240530T183000
DTSTAMP:20260420T003438
CREATED:20240522T000706Z
LAST-MODIFIED:20240522T000737Z
UID:10001036-1717093800-1717093800@www.visitmtsthelens.com
SUMMARY:Jordan World Circus
DESCRIPTION:Get your tickets online at: TicketsLocation: Cowlitz County Fair\, Longview\, WA 98632Showtimes:Wednesday\, May 29th | 6:30pmThursday\, May 30th | 6:30pmEnjoy an incredible performance featuring world-class circus stars from around the globe\, that is sure to have the entire family on the edge of their seats!Get your tickets before the show at: Tickets
URL:https://www.visitmtsthelens.com/event/jordan-world-circus-2/
LOCATION:Cowlitz County Fairgrounds\, 1900 7th Avenue\, Longview\, 98632
CATEGORIES:Events & Festivals,Longview
ATTACH;FMTTYPE=image/jpeg:https://www.visitmtsthelens.com/wp-content/uploads/2024/05/Jordan-World-Circus.jpg
END:VEVENT
BEGIN:VEVENT
DTSTART;TZID=America/Los_Angeles:20240531T183500
DTEND;TZID=America/Los_Angeles:20240531T183500
DTSTAMP:20260420T003438
CREATED:20240520T232347Z
LAST-MODIFIED:20250325T234857Z
UID:10001031-1717180500-1717180500@www.visitmtsthelens.com
SUMMARY:Cowlitz Black Bears Baseball              Opening Night!
DESCRIPTION:Opening Night of Cowlitz Black Bears Baseball! \n\n\n\nFibre Family Friday!Friday\, May 31st at 6:35 pmCowlitz Black Bears vs. Corvallis KnightsDavid Story Field – Longview WA
URL:https://www.visitmtsthelens.com/event/cowlitz-black-bears-baseball-opening-night/
LOCATION:David Story Field\, 1700 19th Avenue\, Longview\, 98632
CATEGORIES:Events & Festivals,Longview,Sporting Events
ATTACH;FMTTYPE=image/png:https://www.visitmtsthelens.com/wp-content/uploads/2024/05/CBB-Logo.png
END:VEVENT
BEGIN:VEVENT
DTSTART;TZID=America/Los_Angeles:20240601T090000
DTEND;TZID=America/Los_Angeles:20240601T140000
DTSTAMP:20260420T003438
CREATED:20240417T173632Z
LAST-MODIFIED:20240423T215138Z
UID:10000855-1717232400-1717250400@www.visitmtsthelens.com
SUMMARY:Cowlitz Community Farmers Market
DESCRIPTION:
URL:https://www.visitmtsthelens.com/event/cowlitz-community-farmers-market/2024-06-01/
LOCATION:Cowlitz Community Farmers Market – Saturdays\, 1900 7th Avenue\, Longview\, 98632
CATEGORIES:Events & Festivals,Kelso,Longview
ATTACH;FMTTYPE=image/jpeg:https://www.visitmtsthelens.com/wp-content/uploads/2024/04/Farmers-Market-001.jpg
END:VEVENT
BEGIN:VEVENT
DTSTART;TZID=America/Los_Angeles:20240601T183500
DTEND;TZID=America/Los_Angeles:20240601T183500
DTSTAMP:20260420T003438
CREATED:20240520T232600Z
LAST-MODIFIED:20240520T234254Z
UID:10001032-1717266900-1717266900@www.visitmtsthelens.com
SUMMARY:Cowlitz Black Bears Baseball
DESCRIPTION:Cowlitz Black Bears BaseballRally Towel Giveaway Night!Saturday\, June 1st at 6:35 pmCowlitz Black Bears vs. Corvallis KnightsDavid Story Field – Longview WA
URL:https://www.visitmtsthelens.com/event/cowlitz-black-bears-baseball/
LOCATION:Cowlitz Black Bears Baseball\, 1600 Maple Street\, Longview\, 98632
CATEGORIES:Events & Festivals,Longview,Sporting Events
ATTACH;FMTTYPE=image/png:https://www.visitmtsthelens.com/wp-content/uploads/2024/05/CBB-Logo.png
END:VEVENT
END:VCALENDAR