BEGIN:VCALENDAR
VERSION:2.0
PRODID:-//Visit Mt St Helens - ECPv6.15.20//NONSGML v1.0//EN
CALSCALE:GREGORIAN
METHOD:PUBLISH
X-WR-CALNAME:Visit Mt St Helens
X-ORIGINAL-URL:https://www.visitmtsthelens.com
X-WR-CALDESC:Events for Visit Mt St Helens
REFRESH-INTERVAL;VALUE=DURATION:PT1H
X-Robots-Tag:noindex
X-PUBLISHED-TTL:PT1H
BEGIN:VTIMEZONE
TZID:America/Los_Angeles
BEGIN:DAYLIGHT
TZOFFSETFROM:-0800
TZOFFSETTO:-0700
TZNAME:PDT
DTSTART:20230312T100000
END:DAYLIGHT
BEGIN:STANDARD
TZOFFSETFROM:-0700
TZOFFSETTO:-0800
TZNAME:PST
DTSTART:20231105T090000
END:STANDARD
BEGIN:DAYLIGHT
TZOFFSETFROM:-0800
TZOFFSETTO:-0700
TZNAME:PDT
DTSTART:20240310T100000
END:DAYLIGHT
BEGIN:STANDARD
TZOFFSETFROM:-0700
TZOFFSETTO:-0800
TZNAME:PST
DTSTART:20241103T090000
END:STANDARD
BEGIN:DAYLIGHT
TZOFFSETFROM:-0800
TZOFFSETTO:-0700
TZNAME:PDT
DTSTART:20250309T100000
END:DAYLIGHT
BEGIN:STANDARD
TZOFFSETFROM:-0700
TZOFFSETTO:-0800
TZNAME:PST
DTSTART:20251102T090000
END:STANDARD
END:VTIMEZONE
BEGIN:VEVENT
DTSTART;TZID=America/Los_Angeles:20240519T080000
DTEND;TZID=America/Los_Angeles:20240519T170000
DTSTAMP:20260419T202543
CREATED:20240417T220245Z
LAST-MODIFIED:20240417T220247Z
UID:10001004-1716105600-1716138000@www.visitmtsthelens.com
SUMMARY:The Sunshine Boys
DESCRIPTION:The Sunshine Boys by Neil Simon\n\n\n\n\n\n\n\nAl and Willie were top-billed vaudevillians for over forty years. Now they aren’t even speaking. When CBS requests them for a “History of Comedy” retrospective\, a grudging reunion brings them back together\, along with a flood of memories\, miseries\, and laughs. The story follows a young agent re-uniting his elderly uncle with his long-time stage partner. Besides remastering their sketch\, the two men have numerous issues to work out before they are ready to return to the public eye.  \n\n\n\nStarring \n\n\n\nLou Pallotta as Willie Clark \n\n\n\nAdam Pithan as Ben Silverman \n\n\n\nRick Barr as Al Lewis \n\n\n\nLynn Lavon as the Sketch Nurse \n\n\n\nSharon Mann as the Registered Nurse \n\n\n\nNathan Karchesky as Eddie \n\n\n\nAlex Girard as the Patient \n\n\n\nAlex Hugo as the TV Director \n\n\n\nDirected by Melinda Pallotta \n\n\n\nTickets available to Season Pass Holders March 19 \n\n\n\nAvailable to the public March 26 \n\n\n\nTicket price $25
URL:https://www.visitmtsthelens.com/event/the-sunshine-boys/2024-05-19/
LOCATION:Love Street Playhouse\, 126 Love Avenue\, Woodland\, Washington\, 98674\, United States
CATEGORIES:Events & Festivals,Woodland
ATTACH;FMTTYPE=image/jpeg:https://www.visitmtsthelens.com/wp-content/uploads/2024/04/lovestreetlogo.jpg
END:VEVENT
BEGIN:VEVENT
DTSTART;TZID=America/Los_Angeles:20240521T143000
DTEND;TZID=America/Los_Angeles:20240521T150000
DTSTAMP:20260419T202543
CREATED:20240417T212224Z
LAST-MODIFIED:20240418T160701Z
UID:10000805-1716301800-1716303600@www.visitmtsthelens.com
SUMMARY:Cowlitz Community Farmers Market
DESCRIPTION:
URL:https://www.visitmtsthelens.com/event/cowlitz-community-farmers-market-2/2024-05-21/
LOCATION:Cowlitz Community Farmers Market – Tuesdays\, 1200 12th Avenue\, Longview\, Washington\, 98632\, United States
CATEGORIES:Events & Festivals,Kelso,Longview
ATTACH;FMTTYPE=image/jpeg:https://www.visitmtsthelens.com/wp-content/uploads/2024/04/Farmers-Market-001.jpg
END:VEVENT
BEGIN:VEVENT
DTSTART;TZID=America/Los_Angeles:20240524T190000
DTEND;TZID=America/Los_Angeles:20240524T220000
DTSTAMP:20260419T202543
CREATED:20240523T221612Z
LAST-MODIFIED:20240523T222331Z
UID:10001045-1716577200-1716588000@www.visitmtsthelens.com
SUMMARY:Zombie Outbreak Laser Tag Experience
DESCRIPTION:
URL:https://www.visitmtsthelens.com/event/zombie-outbreak/
LOCATION:Old Three Rivers Mall Cinema\, 1301 Grade Street\, Kelso\, Washington\, 98626
CATEGORIES:Events & Festivals,Kelso,Longview
ATTACH;FMTTYPE=image/jpeg:https://www.visitmtsthelens.com/wp-content/uploads/2024/05/Zombie-Outbreak.jpg
END:VEVENT
BEGIN:VEVENT
DTSTART;TZID=America/Los_Angeles:20240525T090000
DTEND;TZID=America/Los_Angeles:20240525T140000
DTSTAMP:20260419T202543
CREATED:20240417T173632Z
LAST-MODIFIED:20240423T215138Z
UID:10000854-1716627600-1716645600@www.visitmtsthelens.com
SUMMARY:Cowlitz Community Farmers Market
DESCRIPTION:
URL:https://www.visitmtsthelens.com/event/cowlitz-community-farmers-market/2024-05-25/
LOCATION:Cowlitz Community Farmers Market – Saturdays\, 1900 7th Avenue\, Longview\, 98632
CATEGORIES:Events & Festivals,Kelso,Longview
ATTACH;FMTTYPE=image/jpeg:https://www.visitmtsthelens.com/wp-content/uploads/2024/04/Farmers-Market-001.jpg
END:VEVENT
BEGIN:VEVENT
DTSTART;TZID=America/Los_Angeles:20240525T170000
DTEND;TZID=America/Los_Angeles:20240525T220000
DTSTAMP:20260419T202543
CREATED:20240522T173841Z
LAST-MODIFIED:20240522T182441Z
UID:10001039-1716656400-1716674400@www.visitmtsthelens.com
SUMMARY:Mt St Helens Motorcycle Club
DESCRIPTION:Flat Track Racing  \n\n\n\n\n\nSeason Opener is this weekend! Come spend your Memorial Day Weekend at MT. St. Helens M/C on Saturday and Sunday Night 5 pm to 10 pm for some Flat Track Racing! Tickets ae at the gate for $10.
URL:https://www.visitmtsthelens.com/event/mt-st-helens-motorcycle-club/
LOCATION:Mt ST Helens Motorcycle Club\, 120 Fair Lane\, Castle Rock\, Washington\, 98611
CATEGORIES:Castle Rock,Events & Festivals
ATTACH;FMTTYPE=image/webp:https://www.visitmtsthelens.com/wp-content/uploads/2024/05/Mt-St-Helens-Motorcycle-Club-Logo.webp
END:VEVENT
BEGIN:VEVENT
DTSTART;TZID=America/Los_Angeles:20240525T190000
DTEND;TZID=America/Los_Angeles:20240525T190000
DTSTAMP:20260419T202543
CREATED:20240417T230712Z
LAST-MODIFIED:20240418T165756Z
UID:10001011-1716663600-1716663600@www.visitmtsthelens.com
SUMMARY:Lelooska Foundation & Cultural Center Living History Performance
DESCRIPTION:Living History Performance\n\n\n\nExperience magnificent Northwest Coast masks as they come to life in the glimmering firelight of a Kwakwaka’wakw ceremonial house. The Lelooska Family shares the songs\, dances\, stories\, and masks which display the rights\, crests\, and privileges bestowed on them by the late Chief James Aul Sewid. Chief Tsungani carries on the traditions of his brother\, the late Chief Lelooska\, performing with other family members in Ariel\, Washington\, 31 miles northeast of Portland\, Oregon. \n\n\n\nThe performance you will witness was developed by Chief Lelooska\, Chief James Aul Sewid and tribal elders to share the history and culture of the Kwakwaka’wakw people. The Lelooska Foundation has sponsored these programs since 1977.
URL:https://www.visitmtsthelens.com/event/lelooska-foundation-cultural-center-living-history-performance/
LOCATION:Lelooska Foundation & Cultural Center\, 165 Merwin Village Road\, Ariel\, Washington\, 98603\, United States
CATEGORIES:Ariel,Events & Festivals,Woodland
ATTACH;FMTTYPE=application/pdf:https://www.visitmtsthelens.com/wp-content/uploads/2024/04/Lelooska-SPRING-2024-1.pdf
END:VEVENT
BEGIN:VEVENT
DTSTART;TZID=America/Los_Angeles:20240525T190000
DTEND;TZID=America/Los_Angeles:20240525T220000
DTSTAMP:20260419T202543
CREATED:20240523T222215Z
LAST-MODIFIED:20240523T222217Z
UID:10001046-1716663600-1716674400@www.visitmtsthelens.com
SUMMARY:Zombie Outbreak Laser Tag Experience
DESCRIPTION:
URL:https://www.visitmtsthelens.com/event/zombie-outbreak-laser-tag-experience/
LOCATION:Old Three Rivers Mall Cinema\, 1301 Grade Street\, Kelso\, Washington\, 98626
CATEGORIES:Events & Festivals,Kelso,Longview
ATTACH;FMTTYPE=image/jpeg:https://www.visitmtsthelens.com/wp-content/uploads/2024/05/Zombie-Outbreak.jpg
END:VEVENT
END:VCALENDAR