BEGIN:VCALENDAR
VERSION:2.0
PRODID:-//Visit Mt St Helens - ECPv6.15.20//NONSGML v1.0//EN
CALSCALE:GREGORIAN
METHOD:PUBLISH
X-ORIGINAL-URL:https://www.visitmtsthelens.com
X-WR-CALDESC:Events for Visit Mt St Helens
REFRESH-INTERVAL;VALUE=DURATION:PT1H
X-Robots-Tag:noindex
X-PUBLISHED-TTL:PT1H
BEGIN:VTIMEZONE
TZID:America/Los_Angeles
BEGIN:DAYLIGHT
TZOFFSETFROM:-0800
TZOFFSETTO:-0700
TZNAME:PDT
DTSTART:20230312T100000
END:DAYLIGHT
BEGIN:STANDARD
TZOFFSETFROM:-0700
TZOFFSETTO:-0800
TZNAME:PST
DTSTART:20231105T090000
END:STANDARD
BEGIN:DAYLIGHT
TZOFFSETFROM:-0800
TZOFFSETTO:-0700
TZNAME:PDT
DTSTART:20240310T100000
END:DAYLIGHT
BEGIN:STANDARD
TZOFFSETFROM:-0700
TZOFFSETTO:-0800
TZNAME:PST
DTSTART:20241103T090000
END:STANDARD
BEGIN:DAYLIGHT
TZOFFSETFROM:-0800
TZOFFSETTO:-0700
TZNAME:PDT
DTSTART:20250309T100000
END:DAYLIGHT
BEGIN:STANDARD
TZOFFSETFROM:-0700
TZOFFSETTO:-0800
TZNAME:PST
DTSTART:20251102T090000
END:STANDARD
END:VTIMEZONE
BEGIN:VEVENT
DTSTART;TZID=America/Los_Angeles:20240512T080000
DTEND;TZID=America/Los_Angeles:20240512T170000
DTSTAMP:20260419T202846
CREATED:20240417T220245Z
LAST-MODIFIED:20240417T220247Z
UID:10001001-1715500800-1715533200@www.visitmtsthelens.com
SUMMARY:The Sunshine Boys
DESCRIPTION:The Sunshine Boys by Neil Simon\n\n\n\n\n\n\n\nAl and Willie were top-billed vaudevillians for over forty years. Now they aren’t even speaking. When CBS requests them for a “History of Comedy” retrospective\, a grudging reunion brings them back together\, along with a flood of memories\, miseries\, and laughs. The story follows a young agent re-uniting his elderly uncle with his long-time stage partner. Besides remastering their sketch\, the two men have numerous issues to work out before they are ready to return to the public eye.  \n\n\n\nStarring \n\n\n\nLou Pallotta as Willie Clark \n\n\n\nAdam Pithan as Ben Silverman \n\n\n\nRick Barr as Al Lewis \n\n\n\nLynn Lavon as the Sketch Nurse \n\n\n\nSharon Mann as the Registered Nurse \n\n\n\nNathan Karchesky as Eddie \n\n\n\nAlex Girard as the Patient \n\n\n\nAlex Hugo as the TV Director \n\n\n\nDirected by Melinda Pallotta \n\n\n\nTickets available to Season Pass Holders March 19 \n\n\n\nAvailable to the public March 26 \n\n\n\nTicket price $25
URL:https://www.visitmtsthelens.com/event/the-sunshine-boys/2024-05-12/
LOCATION:Love Street Playhouse\, 126 Love Avenue\, Woodland\, Washington\, 98674\, United States
CATEGORIES:Events & Festivals,Woodland
ATTACH;FMTTYPE=image/jpeg:https://www.visitmtsthelens.com/wp-content/uploads/2024/04/lovestreetlogo.jpg
END:VEVENT
BEGIN:VEVENT
DTSTART;TZID=America/Los_Angeles:20240512T100000
DTEND;TZID=America/Los_Angeles:20240512T160000
DTSTAMP:20260419T202846
CREATED:20240417T191546Z
LAST-MODIFIED:20240418T160607Z
UID:10000642-1715508000-1715529600@www.visitmtsthelens.com
SUMMARY:Lilac Days
DESCRIPTION:Hulda Klager Lilac Gardens \n\n\n\n\n\n\n\n\n\nWe’re open for Lilac Days April 20th to May 12th daily 10am to 4pm! Event rentals are still available as approved by contacting us. The Hulda Klager Lilac Gardens is a restoration project to honor the work of famed lilac developer Hulda Klager. It contains an 1800s house and surrounding buildings and Gardens. It is a National Historic Site. In 2023 we opened the NEW barn museum with many new exhibits. Annually\, Lilac Days celebrates the site\, Hulda’s work and raises funds to maintain the site. Visit the plant sale area and take home some beautiful lilacs to grow in your garden! See Today in the Gardens for current status and updates.
URL:https://www.visitmtsthelens.com/event/hulda-klager-lilac-gardens/2024-05-12/
LOCATION:Hulda Klager Lilac Gardens\, 115 South Pekin Road\, Woodland\, WA\, 98674\, United States
CATEGORIES:Events & Festivals,Woodland
END:VEVENT
BEGIN:VEVENT
DTSTART;TZID=America/Los_Angeles:20240514T143000
DTEND;TZID=America/Los_Angeles:20240514T150000
DTSTAMP:20260419T202846
CREATED:20240417T212224Z
LAST-MODIFIED:20240418T160701Z
UID:10000804-1715697000-1715698800@www.visitmtsthelens.com
SUMMARY:Cowlitz Community Farmers Market
DESCRIPTION:
URL:https://www.visitmtsthelens.com/event/cowlitz-community-farmers-market-2/2024-05-14/
LOCATION:Cowlitz Community Farmers Market – Tuesdays\, 1200 12th Avenue\, Longview\, Washington\, 98632\, United States
CATEGORIES:Events & Festivals,Kelso,Longview
ATTACH;FMTTYPE=image/jpeg:https://www.visitmtsthelens.com/wp-content/uploads/2024/04/Farmers-Market-001.jpg
END:VEVENT
BEGIN:VEVENT
DTSTART;TZID=America/Los_Angeles:20240517T080000
DTEND;TZID=America/Los_Angeles:20240517T170000
DTSTAMP:20260419T202846
CREATED:20240417T220245Z
LAST-MODIFIED:20240417T220247Z
UID:10001002-1715932800-1715965200@www.visitmtsthelens.com
SUMMARY:The Sunshine Boys
DESCRIPTION:The Sunshine Boys by Neil Simon\n\n\n\n\n\n\n\nAl and Willie were top-billed vaudevillians for over forty years. Now they aren’t even speaking. When CBS requests them for a “History of Comedy” retrospective\, a grudging reunion brings them back together\, along with a flood of memories\, miseries\, and laughs. The story follows a young agent re-uniting his elderly uncle with his long-time stage partner. Besides remastering their sketch\, the two men have numerous issues to work out before they are ready to return to the public eye.  \n\n\n\nStarring \n\n\n\nLou Pallotta as Willie Clark \n\n\n\nAdam Pithan as Ben Silverman \n\n\n\nRick Barr as Al Lewis \n\n\n\nLynn Lavon as the Sketch Nurse \n\n\n\nSharon Mann as the Registered Nurse \n\n\n\nNathan Karchesky as Eddie \n\n\n\nAlex Girard as the Patient \n\n\n\nAlex Hugo as the TV Director \n\n\n\nDirected by Melinda Pallotta \n\n\n\nTickets available to Season Pass Holders March 19 \n\n\n\nAvailable to the public March 26 \n\n\n\nTicket price $25
URL:https://www.visitmtsthelens.com/event/the-sunshine-boys/2024-05-17/
LOCATION:Love Street Playhouse\, 126 Love Avenue\, Woodland\, Washington\, 98674\, United States
CATEGORIES:Events & Festivals,Woodland
ATTACH;FMTTYPE=image/jpeg:https://www.visitmtsthelens.com/wp-content/uploads/2024/04/lovestreetlogo.jpg
END:VEVENT
BEGIN:VEVENT
DTSTART;TZID=America/Los_Angeles:20240518T080000
DTEND;TZID=America/Los_Angeles:20240518T170000
DTSTAMP:20260419T202846
CREATED:20240417T220245Z
LAST-MODIFIED:20240417T220247Z
UID:10001003-1716019200-1716051600@www.visitmtsthelens.com
SUMMARY:The Sunshine Boys
DESCRIPTION:The Sunshine Boys by Neil Simon\n\n\n\n\n\n\n\nAl and Willie were top-billed vaudevillians for over forty years. Now they aren’t even speaking. When CBS requests them for a “History of Comedy” retrospective\, a grudging reunion brings them back together\, along with a flood of memories\, miseries\, and laughs. The story follows a young agent re-uniting his elderly uncle with his long-time stage partner. Besides remastering their sketch\, the two men have numerous issues to work out before they are ready to return to the public eye.  \n\n\n\nStarring \n\n\n\nLou Pallotta as Willie Clark \n\n\n\nAdam Pithan as Ben Silverman \n\n\n\nRick Barr as Al Lewis \n\n\n\nLynn Lavon as the Sketch Nurse \n\n\n\nSharon Mann as the Registered Nurse \n\n\n\nNathan Karchesky as Eddie \n\n\n\nAlex Girard as the Patient \n\n\n\nAlex Hugo as the TV Director \n\n\n\nDirected by Melinda Pallotta \n\n\n\nTickets available to Season Pass Holders March 19 \n\n\n\nAvailable to the public March 26 \n\n\n\nTicket price $25
URL:https://www.visitmtsthelens.com/event/the-sunshine-boys/2024-05-18/
LOCATION:Love Street Playhouse\, 126 Love Avenue\, Woodland\, Washington\, 98674\, United States
CATEGORIES:Events & Festivals,Woodland
ATTACH;FMTTYPE=image/jpeg:https://www.visitmtsthelens.com/wp-content/uploads/2024/04/lovestreetlogo.jpg
END:VEVENT
BEGIN:VEVENT
DTSTART;TZID=America/Los_Angeles:20240518T090000
DTEND;TZID=America/Los_Angeles:20240518T140000
DTSTAMP:20260419T202846
CREATED:20240417T173632Z
LAST-MODIFIED:20240423T215138Z
UID:10000853-1716022800-1716040800@www.visitmtsthelens.com
SUMMARY:Cowlitz Community Farmers Market
DESCRIPTION:
URL:https://www.visitmtsthelens.com/event/cowlitz-community-farmers-market/2024-05-18/
LOCATION:Cowlitz Community Farmers Market – Saturdays\, 1900 7th Avenue\, Longview\, 98632
CATEGORIES:Events & Festivals,Kelso,Longview
ATTACH;FMTTYPE=image/jpeg:https://www.visitmtsthelens.com/wp-content/uploads/2024/04/Farmers-Market-001.jpg
END:VEVENT
BEGIN:VEVENT
DTSTART;TZID=America/Los_Angeles:20240518T090000
DTEND;TZID=America/Los_Angeles:20240518T150000
DTSTAMP:20260419T202846
CREATED:20240418T191443Z
LAST-MODIFIED:20240418T200439Z
UID:10001018-1716022800-1716044400@www.visitmtsthelens.com
SUMMARY:Spring Vintage & Handcrafted Sale
DESCRIPTION:Longview Parks & Recreation Presents: The Spring Vintage & Handcrafted SaleThis sale will have it all! Handcrafted items that make a perfect one-of-a-kind gift for that special someone\, as well as vintage and refurbished items which are unique and eclectic. Located at the McClelland Art Center in Longview WA. \n\n\n\nFREE EVENT\, everyone welcome! Parking is plentiful and free as well.
URL:https://www.visitmtsthelens.com/event/spring-vintage-handcrafted-sale/
LOCATION:McClelland Art Center\, 951 Delaware Street\, Longview\, Washington\, 98632\, United States
CATEGORIES:Events & Festivals,Longview
ATTACH;FMTTYPE=image/jpeg:https://www.visitmtsthelens.com/wp-content/uploads/2024/04/Spring-Vintage-Handcrafted-Sale-2024.jpg
END:VEVENT
BEGIN:VEVENT
DTSTART;TZID=America/Los_Angeles:20240518T120000
DTEND;TZID=America/Los_Angeles:20240518T210000
DTSTAMP:20260419T202846
CREATED:20240524T233212Z
LAST-MODIFIED:20240524T233214Z
UID:10001047-1716033600-1716066000@www.visitmtsthelens.com
SUMMARY:Kelso Powwow
DESCRIPTION:37th Annual Kelso Powwow.Powwow hours Noon-9:00pm.Grand Entries 1:00pm & 7:00pm.
URL:https://www.visitmtsthelens.com/event/kelso-powwow/
LOCATION:Kelso High School\, 1904 Allen Street\, Kelso\, Washington\, 98626
CATEGORIES:Events & Festivals,Kelso
ATTACH;FMTTYPE=image/png:https://www.visitmtsthelens.com/wp-content/uploads/2024/05/In-Honor-of-Our-Children-Pow-Wow.png
END:VEVENT
END:VCALENDAR