BEGIN:VCALENDAR
VERSION:2.0
PRODID:-//Visit Mt St Helens - ECPv6.15.20//NONSGML v1.0//EN
CALSCALE:GREGORIAN
METHOD:PUBLISH
X-ORIGINAL-URL:https://www.visitmtsthelens.com
X-WR-CALDESC:Events for Visit Mt St Helens
REFRESH-INTERVAL;VALUE=DURATION:PT1H
X-Robots-Tag:noindex
X-PUBLISHED-TTL:PT1H
BEGIN:VTIMEZONE
TZID:America/Los_Angeles
BEGIN:DAYLIGHT
TZOFFSETFROM:-0800
TZOFFSETTO:-0700
TZNAME:PDT
DTSTART:20250309T100000
END:DAYLIGHT
BEGIN:STANDARD
TZOFFSETFROM:-0700
TZOFFSETTO:-0800
TZNAME:PST
DTSTART:20251102T090000
END:STANDARD
BEGIN:DAYLIGHT
TZOFFSETFROM:-0800
TZOFFSETTO:-0700
TZNAME:PDT
DTSTART:20260308T100000
END:DAYLIGHT
BEGIN:STANDARD
TZOFFSETFROM:-0700
TZOFFSETTO:-0800
TZNAME:PST
DTSTART:20261101T090000
END:STANDARD
BEGIN:DAYLIGHT
TZOFFSETFROM:-0800
TZOFFSETTO:-0700
TZNAME:PDT
DTSTART:20270314T100000
END:DAYLIGHT
BEGIN:STANDARD
TZOFFSETFROM:-0700
TZOFFSETTO:-0800
TZNAME:PST
DTSTART:20271107T090000
END:STANDARD
END:VTIMEZONE
BEGIN:VEVENT
DTSTART;TZID=America/Los_Angeles:20261031T093000
DTEND;TZID=America/Los_Angeles:20261031T093000
DTSTAMP:20260419T104659
CREATED:20260316T192041Z
LAST-MODIFIED:20260414T220437Z
UID:10002196-1793439000-1793439000@www.visitmtsthelens.com
SUMMARY:Woodland Cedar Creek Grist Mill - Apple Cider Pressing
DESCRIPTION:Celebrate the fall season at the historic Cedar Creek Grist Mill during our annual Apple Cider Pressing event. Visitors can watch apples being pressed the traditional way to create fresh\, delicious cider while experiencing the sights and sounds of the working water-powered mill. \n\n\n\nGuests will have the opportunity to learn about historic food preparation methods\, explore the beautiful mill grounds\, and enjoy the flavors of autumn in a charming historic setting. This family-friendly event is a wonderful way to experience local history and seasonal traditions. \n\n\n\nBring the whole family and join us for a festive fall afternoon at Cedar Creek Grist Mill as we celebrate the harvest and the timeless tradition of fresh apple cider.
URL:https://www.visitmtsthelens.com/event/woodland-cedar-creek-grist-mill-apple-cider-pressing/
LOCATION:Woodland Cedar Creek Grist Mill\, 43907 NE Grist Mill Road\, Woodland\, Washington\, 98674
CATEGORIES:Events & Festivals,Woodland
ATTACH;FMTTYPE=image/jpeg:https://www.visitmtsthelens.com/wp-content/uploads/2026/03/Cedar-Creek-Grist-Mill-2026.jpg
END:VEVENT
BEGIN:VEVENT
DTSTART;TZID=America/Los_Angeles:20261031T100000
DTEND;TZID=America/Los_Angeles:20261031T153000
DTSTAMP:20260419T104659
CREATED:20260205T183552Z
LAST-MODIFIED:20260401T173058Z
UID:10002130-1793440800-1793460600@www.visitmtsthelens.com
SUMMARY:Longview Reptile Show
DESCRIPTION:Show Me Reptile Show – March 28 & 29 \n\n\n\nGet ready for a wild weekend of scales\, tails\, and unforgettable encounters at the Show Me Reptile Show! Whether you’re a lifelong reptile enthusiast\, a curious family\, or someone looking for a fun\, educational outing\, this exciting event has something for everyone.
URL:https://www.visitmtsthelens.com/event/longview-reptile-show-2-2-2/
LOCATION:Cowlitz County Event Center\, 1900 7th Avenue\, Longview\, 98632
CATEGORIES:Events & Festivals,Longview
ATTACH;FMTTYPE=image/jpeg:https://www.visitmtsthelens.com/wp-content/uploads/2026/02/Longview-Reptile-Show.jpg
END:VEVENT
BEGIN:VEVENT
DTSTART;TZID=America/Los_Angeles:20261101T100000
DTEND;TZID=America/Los_Angeles:20261101T153000
DTSTAMP:20260419T104659
CREATED:20260205T183846Z
LAST-MODIFIED:20260402T161049Z
UID:10002131-1793527200-1793547000@www.visitmtsthelens.com
SUMMARY:Longview Reptile Show
DESCRIPTION:Show Me Reptile Show – March 28 & 29 \n\n\n\nGet ready for a wild weekend of scales\, tails\, and unforgettable encounters at the Show Me Reptile Show! Whether you’re a lifelong reptile enthusiast\, a curious family\, or someone looking for a fun\, educational outing\, this exciting event has something for everyone.
URL:https://www.visitmtsthelens.com/event/longview-reptile-show-2-2-2-2/
LOCATION:Cowlitz County Event Center\, 1900 7th Avenue\, Longview\, 98632
CATEGORIES:Events & Festivals,Longview
ATTACH;FMTTYPE=image/jpeg:https://www.visitmtsthelens.com/wp-content/uploads/2026/02/Longview-Reptile-Show.jpg
END:VEVENT
END:VCALENDAR