BEGIN:VCALENDAR
VERSION:2.0
PRODID:-//Visit Mt St Helens - ECPv6.15.20//NONSGML v1.0//EN
CALSCALE:GREGORIAN
METHOD:PUBLISH
X-WR-CALNAME:Visit Mt St Helens
X-ORIGINAL-URL:https://www.visitmtsthelens.com
X-WR-CALDESC:Events for Visit Mt St Helens
REFRESH-INTERVAL;VALUE=DURATION:PT1H
X-Robots-Tag:noindex
X-PUBLISHED-TTL:PT1H
BEGIN:VTIMEZONE
TZID:America/Los_Angeles
BEGIN:DAYLIGHT
TZOFFSETFROM:-0800
TZOFFSETTO:-0700
TZNAME:PDT
DTSTART:20220313T100000
END:DAYLIGHT
BEGIN:STANDARD
TZOFFSETFROM:-0700
TZOFFSETTO:-0800
TZNAME:PST
DTSTART:20221106T090000
END:STANDARD
BEGIN:DAYLIGHT
TZOFFSETFROM:-0800
TZOFFSETTO:-0700
TZNAME:PDT
DTSTART:20230312T100000
END:DAYLIGHT
BEGIN:STANDARD
TZOFFSETFROM:-0700
TZOFFSETTO:-0800
TZNAME:PST
DTSTART:20231105T090000
END:STANDARD
BEGIN:DAYLIGHT
TZOFFSETFROM:-0800
TZOFFSETTO:-0700
TZNAME:PDT
DTSTART:20240310T100000
END:DAYLIGHT
BEGIN:STANDARD
TZOFFSETFROM:-0700
TZOFFSETTO:-0800
TZNAME:PST
DTSTART:20241103T090000
END:STANDARD
END:VTIMEZONE
BEGIN:VEVENT
DTSTART;TZID=America/Los_Angeles:20230929T190000
DTEND;TZID=America/Los_Angeles:20230929T190000
DTSTAMP:20260422T210015
CREATED:20230921T170758Z
LAST-MODIFIED:20230926T181339Z
UID:10000134-1696014000-1696014000@www.visitmtsthelens.com
SUMMARY:Moonlight Golf Tournament
DESCRIPTION:This scramble tournament is a sure hit for any golfer\, experienced or not. Cost includes greens fees\, a moonlight glow golf ball\, and prizes. The tournament is 9 holes on the nine of Mint Valley Golf Course and is limited to the first 40 participants. Register early to avoid missing out! \n\n\n\n$43/player
URL:https://www.visitmtsthelens.com/event/moonlight-golf-tournament/
LOCATION:Washington
CATEGORIES:Events & Festivals,Longview,Sporting Events
END:VEVENT
BEGIN:VEVENT
DTSTART;TZID=America/Los_Angeles:20230929T190000
DTEND;TZID=America/Los_Angeles:20230929T190000
DTSTAMP:20260422T210015
CREATED:20230920T181822Z
LAST-MODIFIED:20230926T181347Z
UID:10000133-1696014000-1696014000@www.visitmtsthelens.com
SUMMARY:Sunset Fun Run
DESCRIPTION:$10 PER PERSON / FUN FOR ALL AGES!Friday\, September 29\, 2023 7:00 p.m.\, Mint Valley Golf Course \n\n\n\nCome light up the sky with this Sunset Run/Walk at the Mint Valley Golf Course! Registration includes glow necklaces and bracelets. The path will have lights throughout the course to light the way! Enjoy smores after the race if weather allows.  \n\n\n\n**Ages 8 & under free with paid adult registration**
URL:https://www.visitmtsthelens.com/event/sunset-fun-run/
LOCATION:Mint Valley Golf Course\, 4002 Pennsylvania Street\, Longview\, Washington\, 98632
CATEGORIES:Events & Festivals,Longview
END:VEVENT
BEGIN:VEVENT
DTSTART;TZID=America/Los_Angeles:20230923T180000
DTEND;TZID=America/Los_Angeles:20230923T210000
DTSTAMP:20260422T210015
CREATED:20230922T214119Z
LAST-MODIFIED:20230922T214641Z
UID:10000175-1695492000-1695502800@www.visitmtsthelens.com
SUMMARY:Murder Mystery Fundraiser
DESCRIPTION:Youth & Family Link \n\n\n\n\n\nYouth and Family Link would like to invite you to attend our second-ever Murder Mystery Fundraiser! September 23rd\, from 6 pm to 9 pm\, at the Merk! We are partnering with The Murder Mystery Co. for the best Murder Mystery show possible! There will be heavy hous d’oeuvres and a no-host bar. Benefits from this fundraiser will directly support families in Cowlitz County! At the end of the night\, there will be awards and accolades\, so make sure to dress up in your favorite Masquerade Ball outfit! Also\, this is a 21+ only event! I have attached the link to the invitation! Hope to see you all there!
URL:https://www.visitmtsthelens.com/event/youth-family-link/
LOCATION:Washington
CATEGORIES:Events & Festivals,Longview
END:VEVENT
BEGIN:VEVENT
DTSTART;TZID=America/Los_Angeles:20230923T160000
DTEND;TZID=America/Los_Angeles:20230923T160000
DTSTAMP:20260422T210015
CREATED:20230921T175442Z
LAST-MODIFIED:20230921T175551Z
UID:10000174-1695484800-1695484800@www.visitmtsthelens.com
SUMMARY:Oktoberfest
DESCRIPTION:Food\, Drinks\, Dancing!\, Live music featuring the band “5 Guys Named Moe!”\, Incredible silent auction items\, plus a live auction packed with vacation packages and many other surprises! Dress in your best Lederhosen or Dirndl and come out for a night to remember!Doors open at 4:00 PM at the Cowlitz County Expo CenterAll proceeds benefit the Humane Society of Cowlitz County.Tickets $75.00 per person
URL:https://www.visitmtsthelens.com/event/oktoberfest/
LOCATION:Cowlitz County Event Center\, 1900 7th Avenue\, Longview\, WA\, 98632\, United States
CATEGORIES:Events & Festivals,Kelso,Longview
END:VEVENT
BEGIN:VEVENT
DTSTART;TZID=America/Los_Angeles:20230923T100000
DTEND;TZID=America/Los_Angeles:20230923T150000
DTSTAMP:20260422T210015
CREATED:20230920T162321Z
LAST-MODIFIED:20230921T175649Z
UID:10000132-1695463200-1695481200@www.visitmtsthelens.com
SUMMARY:Extreme Machines
DESCRIPTION:FREE EVENT – FUN FOR ALL AGES! \n\n\n\nSaturday\, September 23\, 10:00 – 3:00 pm\, Cowlitz County Expo Center \n\n\n\nKids – young and old can come and check out the coolest vehicles in one big space! Discover the ordinary and unusual up close and personal. Trucks\, lifts\, helicopters\, tractors\, & military vehicles! Drive an excavator or bulldozer\, and ride in a cherry picker!  \n\n\n\nDonation suggested with proceeds going to support the Longview Recreation out-of-school time scholarship fund. \n\n\n\nEvent located at the grassy field west of the Event Center/Fairgrounds \n\n\n\nEvent sponsors include LCCA\, Cowlitz County Public Utilities Council\, Cowlitz PUD\, Port of Longview\, United Site Services\, Lakeside Industries\, Peterson Cat\, Specialty Rents & Events\, Cowlitz County Event Center & United Rentals.
URL:https://www.visitmtsthelens.com/event/extreme-machines/
LOCATION:Washington
CATEGORIES:Events & Festivals,Longview
END:VEVENT
BEGIN:VEVENT
DTSTART;TZID=America/Los_Angeles:20230922T100000
DTEND;TZID=America/Los_Angeles:20231030T180000
DTSTAMP:20260422T210015
CREATED:20230921T174052Z
LAST-MODIFIED:20230926T182913Z
UID:10000173-1695376800-1698688800@www.visitmtsthelens.com
SUMMARY:R & B Pleasant Hill Farms
DESCRIPTION:Open daily from 10 am to 6 pm starting September 22 until October 30th.We invite you to join us in sharing our harvest of pumpkins\, squash\, green beans\, potatoes\, fresh fruit.But we are much more than a pumpkin patch….we are an adventure into many memories to share with your family and friends.R & B Pleasant Hill Farms features a 12 acre you-pick pumpkin patch. The patch has over 25 varieties.Frontier Town and Super bounce slide are ready for guests.$8.00 admission covers all rides and events. Children under 2 are free.
URL:https://www.visitmtsthelens.com/event/r-b-pleasant-hill-farms-2/
LOCATION:Washington
CATEGORIES:Events & Festivals,Kelso
END:VEVENT
END:VCALENDAR