BEGIN:VCALENDAR
VERSION:2.0
PRODID:-//Visit Mt St Helens - ECPv6.15.20//NONSGML v1.0//EN
CALSCALE:GREGORIAN
METHOD:PUBLISH
X-WR-CALNAME:Visit Mt St Helens
X-ORIGINAL-URL:https://www.visitmtsthelens.com
X-WR-CALDESC:Events for Visit Mt St Helens
REFRESH-INTERVAL;VALUE=DURATION:PT1H
X-Robots-Tag:noindex
X-PUBLISHED-TTL:PT1H
BEGIN:VTIMEZONE
TZID:America/Los_Angeles
BEGIN:DAYLIGHT
TZOFFSETFROM:-0800
TZOFFSETTO:-0700
TZNAME:PDT
DTSTART:20250309T100000
END:DAYLIGHT
BEGIN:STANDARD
TZOFFSETFROM:-0700
TZOFFSETTO:-0800
TZNAME:PST
DTSTART:20251102T090000
END:STANDARD
BEGIN:DAYLIGHT
TZOFFSETFROM:-0800
TZOFFSETTO:-0700
TZNAME:PDT
DTSTART:20260308T100000
END:DAYLIGHT
BEGIN:STANDARD
TZOFFSETFROM:-0700
TZOFFSETTO:-0800
TZNAME:PST
DTSTART:20261101T090000
END:STANDARD
BEGIN:DAYLIGHT
TZOFFSETFROM:-0800
TZOFFSETTO:-0700
TZNAME:PDT
DTSTART:20270314T100000
END:DAYLIGHT
BEGIN:STANDARD
TZOFFSETFROM:-0700
TZOFFSETTO:-0800
TZNAME:PST
DTSTART:20271107T090000
END:STANDARD
END:VTIMEZONE
BEGIN:VEVENT
DTSTART;TZID=America/Los_Angeles:20260801T070000
DTEND;TZID=America/Los_Angeles:20260801T070000
DTSTAMP:20260422T025753
CREATED:20260204T222444Z
LAST-MODIFIED:20260401T174410Z
UID:10002117-1785567600-1785567600@www.visitmtsthelens.com
SUMMARY:Volcanic 50
DESCRIPTION:Volcanic is a very rugged\, very remote\, and very challenging 50K+ and a 25K on an active volcano (Mt. St. Helens) in Washington state. The 50K course runs on the single-track Loowit trail\, circumnavigating the entire mountain. Racers scramble over large boulder fields\, cross rivers\, run through the blast zone\, up and down steep drainages – some with rope assists\, as well as through dense forest – all with ever-changing views of the volcano. The volcano race is 32 miles\, but feels more like a 50-miler (and your finish time will probably be similar to 50-mile race). In all\, this Mt. St. Helens race has approximately 7\,400 feet of elevation gain and 7\,400 feet of loss. This race is no joke and is most enjoyed with previous mountain racing experience – do not underestimate this race. It’s tough\, but good thing\, so are you!Both 50K & 25K race start and finish at the Marble Mountain Sno Park.The 25K race is on August 2nd.
URL:https://www.visitmtsthelens.com/event/volcanic-50/
LOCATION:Washington
CATEGORIES:Events & Festivals,Mt St Helens
ATTACH;FMTTYPE=image/png:https://www.visitmtsthelens.com/wp-content/uploads/2026/02/Volcanic-50.png
END:VEVENT
BEGIN:VEVENT
DTSTART;TZID=America/Los_Angeles:20260801T090000
DTEND;TZID=America/Los_Angeles:20260801T140000
DTSTAMP:20260422T025753
CREATED:20260413T220802Z
LAST-MODIFIED:20260413T221337Z
UID:10002238-1785574800-1785592800@www.visitmtsthelens.com
SUMMARY:Cowlitz Community Farmers Market
DESCRIPTION:About Cowlitz Community Farmers Market \n\n\n\nThe Cowlitz Community Farmers Market is a vibrant gathering place where local farmers\, artisans\, and neighbors come together to celebrate fresh food\, creativity\, and community spirit. Located in the heart of Cowlitz County\, our market is dedicated to supporting local agriculture\, small businesses\, and sustainable living. \n\n\n\nTheir mission is to strengthen the local economy and promote healthy lifestyles by providing access to fresh\, locally grown produce and handcrafted goods. We strive to create a welcoming space where community members can connect directly with the people who grow and make their food. \n\n\n\nWhat You’ll Find\n\n\n\nAt the market\, visitors can explore a wide variety of offerings\, including: \n\n\n\n\nFresh\, seasonal fruits and vegetables\n\n\n\nLocally raised meats and eggs\n\n\n\nHomemade baked goods and preserves\n\n\n\nArtisan crafts and handmade products\n\n\n\nFlowers\, plants\, and garden items\n\n\n\n\nMany of our vendors use sustainable and environmentally friendly practices\, ensuring high-quality products you can feel good about. \n\n\n\nSupporting Local\n\n\n\nWhen you shop at the Cowlitz Community Farmers Market\, you’re doing more than buying groceries—you’re supporting local farmers\, entrepreneurs\, and families. Every purchase helps keep money in the community and encourages the growth of small-scale agriculture.
URL:https://www.visitmtsthelens.com/event/cowlitz-community-farmers-market-6/2026-08-01/
LOCATION:Cowlitz Community Farmers Market – Saturdays\, 1900 7th Avenue\, Longview\, 98632
CATEGORIES:Events & Festivals,Longview
ATTACH;FMTTYPE=image/jpeg:https://www.visitmtsthelens.com/wp-content/uploads/2026/04/Farmers-Market.jpg
END:VEVENT
BEGIN:VEVENT
DTSTART;TZID=America/Los_Angeles:20260802T073000
DTEND;TZID=America/Los_Angeles:20260802T073000
DTSTAMP:20260422T025753
CREATED:20260204T223044Z
LAST-MODIFIED:20260401T174235Z
UID:10002118-1785655800-1785655800@www.visitmtsthelens.com
SUMMARY:Volcanic 50
DESCRIPTION:Volcanic is a very rugged\, very remote\, and very challenging 50K+ and a 25K on an active volcano (Mt. St. Helens) in Washington state. The 50K course runs on the single-track Loowit trail\, circumnavigating the entire mountain. Racers scramble over large boulder fields\, cross rivers\, run through the blast zone\, up and down steep drainages – some with rope assists\, as well as through dense forest – all with ever-changing views of the volcano. The volcano race is 32 miles but feels more like a 50-miler (and your finish time will probably be similar to 50-mile race). In all\, this Mt. St. Helens race has approximately 7\,400 feet of elevation gain and 7\,400 feet of loss. This race is no joke and is most enjoyed with previous mountain racing experience – do not underestimate this race. It’s tough\, but good thing\, so are you!The 25K gives runners a real Mt. St. Helens volcano race experience without having to run all the way around it. This course includes some of the iconic features of the longer race – boulder fields\, the Loowit trail\, jaw-dropping views of the mountain and the surrounding Cascades\, and lush forests. There’s 3\,300 feet of gain and loss. This route is also hard\, and we mean that.Both 50K & 25K race start and finish at the Marble Mountain Sno Park.
URL:https://www.visitmtsthelens.com/event/volcanic-50-2/
LOCATION:Washington
CATEGORIES:Events & Festivals,Mt St Helens
ATTACH;FMTTYPE=image/png:https://www.visitmtsthelens.com/wp-content/uploads/2026/02/Volcanic-50.png
END:VEVENT
BEGIN:VEVENT
DTSTART;TZID=America/Los_Angeles:20260808T080000
DTEND;TZID=America/Los_Angeles:20260808T130000
DTSTAMP:20260422T025753
CREATED:20260204T223948Z
LAST-MODIFIED:20260401T174059Z
UID:10002119-1786176000-1786194000@www.visitmtsthelens.com
SUMMARY:Cruise in at the Crossing
DESCRIPTION:We are excited to announce the 2nd Annual Cruise-In at the Crossing Car Show. Date: Saturday\, August 8th\, 2026.Time: 8:00 am – 1:00 pmLocation: Three Rivers Crossing\, 351 Three Rivers Drive\, Kelso\, WA 98626ABOUT THE SHOW:Car Show\, Awards\, Pinup contest\, Beard Contest\, Cardboard Car Contest\, Live Music\, Food\, Prizes\, and Vendors.Car Registration Online: https://forms.gle/fFUiHrNfhhvEYMUp6Early bird car registration Entry $20Car Registration after 7-1-2026 $25Interested in being a vendor:Outdoor Vendors: https://forms.gle/aoAiVX17uruoJgE46Contests:Pinup Contest Entry $10Beard Contest Entry $10Cardboard Car Contest Entry $10Website: https://www.cruiseinthecrossing.com/Questions: cruiseinthecrossingcarshow@gmail.com
URL:https://www.visitmtsthelens.com/event/cruise-in-at-the-crossing-2/
LOCATION:Three Rivers Crossing\, 351 Three Rivers Drive\, Kelso\, Washington\, 98626
CATEGORIES:Events & Festivals,Kelso
ATTACH;FMTTYPE=image/jpeg:https://www.visitmtsthelens.com/wp-content/uploads/2026/02/Cruise-in-at-the-Crossing.jpg
END:VEVENT
BEGIN:VEVENT
DTSTART;TZID=America/Los_Angeles:20260808T090000
DTEND;TZID=America/Los_Angeles:20260808T140000
DTSTAMP:20260422T025753
CREATED:20260413T220802Z
LAST-MODIFIED:20260413T221337Z
UID:10002239-1786179600-1786197600@www.visitmtsthelens.com
SUMMARY:Cowlitz Community Farmers Market
DESCRIPTION:About Cowlitz Community Farmers Market \n\n\n\nThe Cowlitz Community Farmers Market is a vibrant gathering place where local farmers\, artisans\, and neighbors come together to celebrate fresh food\, creativity\, and community spirit. Located in the heart of Cowlitz County\, our market is dedicated to supporting local agriculture\, small businesses\, and sustainable living. \n\n\n\nTheir mission is to strengthen the local economy and promote healthy lifestyles by providing access to fresh\, locally grown produce and handcrafted goods. We strive to create a welcoming space where community members can connect directly with the people who grow and make their food. \n\n\n\nWhat You’ll Find\n\n\n\nAt the market\, visitors can explore a wide variety of offerings\, including: \n\n\n\n\nFresh\, seasonal fruits and vegetables\n\n\n\nLocally raised meats and eggs\n\n\n\nHomemade baked goods and preserves\n\n\n\nArtisan crafts and handmade products\n\n\n\nFlowers\, plants\, and garden items\n\n\n\n\nMany of our vendors use sustainable and environmentally friendly practices\, ensuring high-quality products you can feel good about. \n\n\n\nSupporting Local\n\n\n\nWhen you shop at the Cowlitz Community Farmers Market\, you’re doing more than buying groceries—you’re supporting local farmers\, entrepreneurs\, and families. Every purchase helps keep money in the community and encourages the growth of small-scale agriculture.
URL:https://www.visitmtsthelens.com/event/cowlitz-community-farmers-market-6/2026-08-08/
LOCATION:Cowlitz Community Farmers Market – Saturdays\, 1900 7th Avenue\, Longview\, 98632
CATEGORIES:Events & Festivals,Longview
ATTACH;FMTTYPE=image/jpeg:https://www.visitmtsthelens.com/wp-content/uploads/2026/04/Farmers-Market.jpg
END:VEVENT
BEGIN:VEVENT
DTSTART;TZID=America/Los_Angeles:20260814T000000
DTEND;TZID=America/Los_Angeles:20260814T235959
DTSTAMP:20260422T025753
CREATED:20260414T160542Z
LAST-MODIFIED:20260414T160545Z
UID:10002253-1786665600-1786751999@www.visitmtsthelens.com
SUMMARY:Toutle Motorsports - Drag Show
DESCRIPTION:Toutle Motorsports Park Drag ShowAugust 14–16\, 2026 \n\n\n\nGet ready for a full-throttle weekend of speed\, sound\, and adrenaline at the Toutle Motorsports Park Drag Show! From August 14 through 16\, racers and fans alike will gather for three action-packed days of high-performance drag racing\, featuring everything from street cars to purpose-built race machines. \n\n\n\nExperience head-to-head competition as drivers push their limits down the strip\, battling for bragging rights and top times. Whether you’re a die-hard motorsports enthusiast or just looking for an exciting weekend event\, there’s something for everyone—burnouts\, test-and-tune sessions\, competitive brackets\, and plenty of opportunities to get up close with the cars and drivers. \n\n\n\nSpectators can enjoy food vendors\, family-friendly entertainment\, and a lively atmosphere all weekend long. Bring your friends\, bring your family\, and don’t miss one of the region’s most exciting motorsports events of the summer. \n\n\n\nEvent Highlights: \n\n\n\n\nCompetitive drag racing all weekend\n\n\n\nOpen test-and-tune sessions\n\n\n\nVariety of classes and vehicles\n\n\n\nFood vendors and on-site amenities\n\n\n\nFamily-friendly fun and entertainment\n\n\n\n\nMark your calendar and them on August 14–16 for an unforgettable weekend at the track!
URL:https://www.visitmtsthelens.com/event/toutle-motorsports-drag-show/
LOCATION:Toutle Motorsports\, 250 Rodale Drive\, Toutle\, Washington\, 98649
CATEGORIES:Events & Festivals,Toutle
ATTACH;FMTTYPE=image/jpeg:https://www.visitmtsthelens.com/wp-content/uploads/2026/04/Toutle-Motorsports-Drag-Show-8.14-16.2026-1.jpg
END:VEVENT
BEGIN:VEVENT
DTSTART;TZID=America/Los_Angeles:20260815T000000
DTEND;TZID=America/Los_Angeles:20260815T235959
DTSTAMP:20260422T025753
CREATED:20260414T160737Z
LAST-MODIFIED:20260414T160741Z
UID:10002254-1786752000-1786838399@www.visitmtsthelens.com
SUMMARY:Toutle Motorsports - Drag Show
DESCRIPTION:Toutle Motorsports Park Drag ShowAugust 14–16\, 2026 \n\n\n\nGet ready for a full-throttle weekend of speed\, sound\, and adrenaline at the Toutle Motorsports Park Drag Show! From August 14 through 16\, racers and fans alike will gather for three action-packed days of high-performance drag racing\, featuring everything from street cars to purpose-built race machines. \n\n\n\nExperience head-to-head competition as drivers push their limits down the strip\, battling for bragging rights and top times. Whether you’re a die-hard motorsports enthusiast or just looking for an exciting weekend event\, there’s something for everyone—burnouts\, test-and-tune sessions\, competitive brackets\, and plenty of opportunities to get up close with the cars and drivers. \n\n\n\nSpectators can enjoy food vendors\, family-friendly entertainment\, and a lively atmosphere all weekend long. Bring your friends\, bring your family\, and don’t miss one of the region’s most exciting motorsports events of the summer. \n\n\n\nEvent Highlights: \n\n\n\n\nCompetitive drag racing all weekend\n\n\n\nOpen test-and-tune sessions\n\n\n\nVariety of classes and vehicles\n\n\n\nFood vendors and on-site amenities\n\n\n\nFamily-friendly fun and entertainment\n\n\n\n\nMark your calendar and them on August 14–16 for an unforgettable weekend at the track!
URL:https://www.visitmtsthelens.com/event/toutle-motorsports-drag-show-2/
LOCATION:Toutle Motorsports\, 250 Rodale Drive\, Toutle\, Washington\, 98649
CATEGORIES:Events & Festivals,Toutle
ATTACH;FMTTYPE=image/jpeg:https://www.visitmtsthelens.com/wp-content/uploads/2026/04/Toutle-Motorsports-Drag-Show-8.14-16.2026-1.jpg
END:VEVENT
BEGIN:VEVENT
DTSTART;TZID=America/Los_Angeles:20260815T090000
DTEND;TZID=America/Los_Angeles:20260815T140000
DTSTAMP:20260422T025753
CREATED:20260413T220802Z
LAST-MODIFIED:20260413T221337Z
UID:10002240-1786784400-1786802400@www.visitmtsthelens.com
SUMMARY:Cowlitz Community Farmers Market
DESCRIPTION:About Cowlitz Community Farmers Market \n\n\n\nThe Cowlitz Community Farmers Market is a vibrant gathering place where local farmers\, artisans\, and neighbors come together to celebrate fresh food\, creativity\, and community spirit. Located in the heart of Cowlitz County\, our market is dedicated to supporting local agriculture\, small businesses\, and sustainable living. \n\n\n\nTheir mission is to strengthen the local economy and promote healthy lifestyles by providing access to fresh\, locally grown produce and handcrafted goods. We strive to create a welcoming space where community members can connect directly with the people who grow and make their food. \n\n\n\nWhat You’ll Find\n\n\n\nAt the market\, visitors can explore a wide variety of offerings\, including: \n\n\n\n\nFresh\, seasonal fruits and vegetables\n\n\n\nLocally raised meats and eggs\n\n\n\nHomemade baked goods and preserves\n\n\n\nArtisan crafts and handmade products\n\n\n\nFlowers\, plants\, and garden items\n\n\n\n\nMany of our vendors use sustainable and environmentally friendly practices\, ensuring high-quality products you can feel good about. \n\n\n\nSupporting Local\n\n\n\nWhen you shop at the Cowlitz Community Farmers Market\, you’re doing more than buying groceries—you’re supporting local farmers\, entrepreneurs\, and families. Every purchase helps keep money in the community and encourages the growth of small-scale agriculture.
URL:https://www.visitmtsthelens.com/event/cowlitz-community-farmers-market-6/2026-08-15/
LOCATION:Cowlitz Community Farmers Market – Saturdays\, 1900 7th Avenue\, Longview\, 98632
CATEGORIES:Events & Festivals,Longview
ATTACH;FMTTYPE=image/jpeg:https://www.visitmtsthelens.com/wp-content/uploads/2026/04/Farmers-Market.jpg
END:VEVENT
BEGIN:VEVENT
DTSTART;TZID=America/Los_Angeles:20260816T000000
DTEND;TZID=America/Los_Angeles:20260816T235959
DTSTAMP:20260422T025753
CREATED:20260414T160822Z
LAST-MODIFIED:20260414T160823Z
UID:10002255-1786838400-1786924799@www.visitmtsthelens.com
SUMMARY:Toutle Motorsports - Drag Show
DESCRIPTION:Toutle Motorsports Park Drag ShowAugust 14–16\, 2026 \n\n\n\nGet ready for a full-throttle weekend of speed\, sound\, and adrenaline at the Toutle Motorsports Park Drag Show! From August 14 through 16\, racers and fans alike will gather for three action-packed days of high-performance drag racing\, featuring everything from street cars to purpose-built race machines. \n\n\n\nExperience head-to-head competition as drivers push their limits down the strip\, battling for bragging rights and top times. Whether you’re a die-hard motorsports enthusiast or just looking for an exciting weekend event\, there’s something for everyone—burnouts\, test-and-tune sessions\, competitive brackets\, and plenty of opportunities to get up close with the cars and drivers. \n\n\n\nSpectators can enjoy food vendors\, family-friendly entertainment\, and a lively atmosphere all weekend long. Bring your friends\, bring your family\, and don’t miss one of the region’s most exciting motorsports events of the summer. \n\n\n\nEvent Highlights: \n\n\n\n\nCompetitive drag racing all weekend\n\n\n\nOpen test-and-tune sessions\n\n\n\nVariety of classes and vehicles\n\n\n\nFood vendors and on-site amenities\n\n\n\nFamily-friendly fun and entertainment\n\n\n\n\nMark your calendar and them on August 14–16 for an unforgettable weekend at the track!
URL:https://www.visitmtsthelens.com/event/toutle-motorsports-drag-show-2-2/
LOCATION:Toutle Motorsports\, 250 Rodale Drive\, Toutle\, Washington\, 98649
CATEGORIES:Events & Festivals,Toutle
ATTACH;FMTTYPE=image/jpeg:https://www.visitmtsthelens.com/wp-content/uploads/2026/04/Toutle-Motorsports-Drag-Show-8.14-16.2026-1.jpg
END:VEVENT
BEGIN:VEVENT
DTSTART;TZID=America/Los_Angeles:20260822T090000
DTEND;TZID=America/Los_Angeles:20260822T140000
DTSTAMP:20260422T025753
CREATED:20260413T220802Z
LAST-MODIFIED:20260413T221337Z
UID:10002241-1787389200-1787407200@www.visitmtsthelens.com
SUMMARY:Cowlitz Community Farmers Market
DESCRIPTION:About Cowlitz Community Farmers Market \n\n\n\nThe Cowlitz Community Farmers Market is a vibrant gathering place where local farmers\, artisans\, and neighbors come together to celebrate fresh food\, creativity\, and community spirit. Located in the heart of Cowlitz County\, our market is dedicated to supporting local agriculture\, small businesses\, and sustainable living. \n\n\n\nTheir mission is to strengthen the local economy and promote healthy lifestyles by providing access to fresh\, locally grown produce and handcrafted goods. We strive to create a welcoming space where community members can connect directly with the people who grow and make their food. \n\n\n\nWhat You’ll Find\n\n\n\nAt the market\, visitors can explore a wide variety of offerings\, including: \n\n\n\n\nFresh\, seasonal fruits and vegetables\n\n\n\nLocally raised meats and eggs\n\n\n\nHomemade baked goods and preserves\n\n\n\nArtisan crafts and handmade products\n\n\n\nFlowers\, plants\, and garden items\n\n\n\n\nMany of our vendors use sustainable and environmentally friendly practices\, ensuring high-quality products you can feel good about. \n\n\n\nSupporting Local\n\n\n\nWhen you shop at the Cowlitz Community Farmers Market\, you’re doing more than buying groceries—you’re supporting local farmers\, entrepreneurs\, and families. Every purchase helps keep money in the community and encourages the growth of small-scale agriculture.
URL:https://www.visitmtsthelens.com/event/cowlitz-community-farmers-market-6/2026-08-22/
LOCATION:Cowlitz Community Farmers Market – Saturdays\, 1900 7th Avenue\, Longview\, 98632
CATEGORIES:Events & Festivals,Longview
ATTACH;FMTTYPE=image/jpeg:https://www.visitmtsthelens.com/wp-content/uploads/2026/04/Farmers-Market.jpg
END:VEVENT
BEGIN:VEVENT
DTSTART;TZID=America/Los_Angeles:20260828T000000
DTEND;TZID=America/Los_Angeles:20260828T235959
DTSTAMP:20260422T025753
CREATED:20260402T203131Z
LAST-MODIFIED:20260402T203157Z
UID:10002218-1787875200-1787961599@www.visitmtsthelens.com
SUMMARY:Kalama Cultural Festival
DESCRIPTION:Kalama Cultural Festival – Celebrating Heritage and Community \n\n\n\nJoin them this August for the vibrant Kalama Cultural Festival\, a celebration of art\, music\, food\, and tradition! Experience the rich cultural heritage of our region through live performances\, interactive workshops\, local crafts\, and delicious cuisine. Whether you’re exploring traditional dances\, tasting authentic flavors\, or enjoying family-friendly activities\, the festival offers something for everyone. \n\n\n\nCome together with the community to honor our roots\, create lasting memories\, and celebrate the diverse stories that make Kalama unique. Don’t miss this unforgettable cultural experience.
URL:https://www.visitmtsthelens.com/event/kalama-cultural-festival-3/
LOCATION:Westin Amphitheater\, 215 N Hendrickson Drive\, Kalama\, Washington\, 98625
CATEGORIES:Events & Festivals,Kalama
ATTACH;FMTTYPE=image/jpeg:https://www.visitmtsthelens.com/wp-content/uploads/2026/04/KCF-Logo.jpg
END:VEVENT
BEGIN:VEVENT
DTSTART;TZID=America/Los_Angeles:20260829T000000
DTEND;TZID=America/Los_Angeles:20260829T235959
DTSTAMP:20260422T025753
CREATED:20260402T203400Z
LAST-MODIFIED:20260402T203402Z
UID:10002219-1787961600-1788047999@www.visitmtsthelens.com
SUMMARY:Kalama Cultural Festival
DESCRIPTION:Kalama Cultural Festival – Celebrating Heritage and Community \n\n\n\nJoin them this August for the vibrant Kalama Cultural Festival\, a celebration of art\, music\, food\, and tradition! Experience the rich cultural heritage of our region through live performances\, interactive workshops\, local crafts\, and delicious cuisine. Whether you’re exploring traditional dances\, tasting authentic flavors\, or enjoying family-friendly activities\, the festival offers something for everyone. \n\n\n\nCome together with the community to honor our roots\, create lasting memories\, and celebrate the diverse stories that make Kalama unique. Don’t miss this unforgettable cultural experience.
URL:https://www.visitmtsthelens.com/event/kalama-cultural-festival-3-2/
LOCATION:Westin Amphitheater\, 215 N Hendrickson Drive\, Kalama\, Washington\, 98625
CATEGORIES:Events & Festivals,Kalama
ATTACH;FMTTYPE=image/jpeg:https://www.visitmtsthelens.com/wp-content/uploads/2026/04/KCF-Logo.jpg
END:VEVENT
BEGIN:VEVENT
DTSTART;TZID=America/Los_Angeles:20260829T090000
DTEND;TZID=America/Los_Angeles:20260829T140000
DTSTAMP:20260422T025753
CREATED:20260413T220802Z
LAST-MODIFIED:20260413T221337Z
UID:10002242-1787994000-1788012000@www.visitmtsthelens.com
SUMMARY:Cowlitz Community Farmers Market
DESCRIPTION:About Cowlitz Community Farmers Market \n\n\n\nThe Cowlitz Community Farmers Market is a vibrant gathering place where local farmers\, artisans\, and neighbors come together to celebrate fresh food\, creativity\, and community spirit. Located in the heart of Cowlitz County\, our market is dedicated to supporting local agriculture\, small businesses\, and sustainable living. \n\n\n\nTheir mission is to strengthen the local economy and promote healthy lifestyles by providing access to fresh\, locally grown produce and handcrafted goods. We strive to create a welcoming space where community members can connect directly with the people who grow and make their food. \n\n\n\nWhat You’ll Find\n\n\n\nAt the market\, visitors can explore a wide variety of offerings\, including: \n\n\n\n\nFresh\, seasonal fruits and vegetables\n\n\n\nLocally raised meats and eggs\n\n\n\nHomemade baked goods and preserves\n\n\n\nArtisan crafts and handmade products\n\n\n\nFlowers\, plants\, and garden items\n\n\n\n\nMany of our vendors use sustainable and environmentally friendly practices\, ensuring high-quality products you can feel good about. \n\n\n\nSupporting Local\n\n\n\nWhen you shop at the Cowlitz Community Farmers Market\, you’re doing more than buying groceries—you’re supporting local farmers\, entrepreneurs\, and families. Every purchase helps keep money in the community and encourages the growth of small-scale agriculture.
URL:https://www.visitmtsthelens.com/event/cowlitz-community-farmers-market-6/2026-08-29/
LOCATION:Cowlitz Community Farmers Market – Saturdays\, 1900 7th Avenue\, Longview\, 98632
CATEGORIES:Events & Festivals,Longview
ATTACH;FMTTYPE=image/jpeg:https://www.visitmtsthelens.com/wp-content/uploads/2026/04/Farmers-Market.jpg
END:VEVENT
BEGIN:VEVENT
DTSTART;TZID=America/Los_Angeles:20260829T130000
DTEND;TZID=America/Los_Angeles:20260829T160000
DTSTAMP:20260422T025753
CREATED:20260316T183857Z
LAST-MODIFIED:20260401T174000Z
UID:10002194-1788008400-1788019200@www.visitmtsthelens.com
SUMMARY:Woodland Cedar Creek Grist Mill - Treat Day
DESCRIPTION:Cedar Creek Grist Mill – Treat DaySaturday\, August 29 \n\n\n\nJoin us at the historic Cedar Creek Grist Mill for Treat Day\, a fun and tasty summer event for the whole family! Visitors can enjoy a variety of delicious homemade treats while exploring the beautiful grounds and historic mill. \n\n\n\nThroughout the day\, guests can see the water-powered mill in action\, learn about traditional grain milling\, and experience a piece of local history. Treat Day is a perfect opportunity to relax\, enjoy some sweets\, and spend time with family and friends in a charming historic setting. \n\n\n\nCome celebrate summer with us at Cedar Creek Grist Mill and enjoy a day filled with history\, community\, and plenty of treats!
URL:https://www.visitmtsthelens.com/event/woodland-cedar-creek-grist-mill-treat-day/
LOCATION:Woodland Cedar Creek Grist Mill\, 43907 NE Grist Mill Road\, Woodland\, Washington\, 98674
CATEGORIES:Events & Festivals,Woodland
ATTACH;FMTTYPE=image/jpeg:https://www.visitmtsthelens.com/wp-content/uploads/2026/03/Cedar-Creek-Grist-Mill-2026.jpg
END:VEVENT
BEGIN:VEVENT
DTSTART;TZID=America/Los_Angeles:20260830T000000
DTEND;TZID=America/Los_Angeles:20260830T235959
DTSTAMP:20260422T025753
CREATED:20260402T203454Z
LAST-MODIFIED:20260402T203458Z
UID:10002220-1788048000-1788134399@www.visitmtsthelens.com
SUMMARY:Kalama Cultural Festival
DESCRIPTION:Kalama Cultural Festival – Celebrating Heritage and Community \n\n\n\nJoin them this August for the vibrant Kalama Cultural Festival\, a celebration of art\, music\, food\, and tradition! Experience the rich cultural heritage of our region through live performances\, interactive workshops\, local crafts\, and delicious cuisine. Whether you’re exploring traditional dances\, tasting authentic flavors\, or enjoying family-friendly activities\, the festival offers something for everyone. \n\n\n\nCome together with the community to honor our roots\, create lasting memories\, and celebrate the diverse stories that make Kalama unique. Don’t miss this unforgettable cultural experience.
URL:https://www.visitmtsthelens.com/event/kalama-cultural-festival-3-2-2/
LOCATION:Westin Amphitheater\, 215 N Hendrickson Drive\, Kalama\, Washington\, 98625
CATEGORIES:Events & Festivals,Kalama
ATTACH;FMTTYPE=image/jpeg:https://www.visitmtsthelens.com/wp-content/uploads/2026/04/KCF-Logo.jpg
END:VEVENT
END:VCALENDAR