BEGIN:VCALENDAR
VERSION:2.0
PRODID:-//Visit Mt St Helens - ECPv6.15.20//NONSGML v1.0//EN
CALSCALE:GREGORIAN
METHOD:PUBLISH
X-WR-CALNAME:Visit Mt St Helens
X-ORIGINAL-URL:https://www.visitmtsthelens.com
X-WR-CALDESC:Events for Visit Mt St Helens
REFRESH-INTERVAL;VALUE=DURATION:PT1H
X-Robots-Tag:noindex
X-PUBLISHED-TTL:PT1H
BEGIN:VTIMEZONE
TZID:America/Los_Angeles
BEGIN:DAYLIGHT
TZOFFSETFROM:-0800
TZOFFSETTO:-0700
TZNAME:PDT
DTSTART:20230312T100000
END:DAYLIGHT
BEGIN:STANDARD
TZOFFSETFROM:-0700
TZOFFSETTO:-0800
TZNAME:PST
DTSTART:20231105T090000
END:STANDARD
BEGIN:DAYLIGHT
TZOFFSETFROM:-0800
TZOFFSETTO:-0700
TZNAME:PDT
DTSTART:20240310T100000
END:DAYLIGHT
BEGIN:STANDARD
TZOFFSETFROM:-0700
TZOFFSETTO:-0800
TZNAME:PST
DTSTART:20241103T090000
END:STANDARD
BEGIN:DAYLIGHT
TZOFFSETFROM:-0800
TZOFFSETTO:-0700
TZNAME:PDT
DTSTART:20250309T100000
END:DAYLIGHT
BEGIN:STANDARD
TZOFFSETFROM:-0700
TZOFFSETTO:-0800
TZNAME:PST
DTSTART:20251102T090000
END:STANDARD
END:VTIMEZONE
BEGIN:VEVENT
DTSTART;TZID=America/Los_Angeles:20241206T163000
DTEND;TZID=America/Los_Angeles:20241206T163000
DTSTAMP:20260421T043653
CREATED:20241122T191802Z
LAST-MODIFIED:20241122T191806Z
UID:10001129-1733502600-1733502600@www.visitmtsthelens.com
SUMMARY:Festival of Trees
DESCRIPTION:Kick off the holiday season & join the Junior League of Lower Columbia on Friday\, December 6th anytime between 4:30-7:30. \n\n\n\nCome view the stunningly decorated trees\, Santa will be visiting for photos\, cookies\, kids holiday craft\, fun Photo Booth\, no host bar\, and plenty of holiday cheer. \n\n\n\nHuge Thank you to Ablan PT for sponsoring this Free public event! \n\n\n\nHappy Holidays! 
URL:https://www.visitmtsthelens.com/event/festival-of-trees/
LOCATION:Cowlitz County Event Center\, 1900 7th Avenue\, Longview\, WA\, 98632\, United States
CATEGORIES:Events & Festivals,Longview
END:VEVENT
BEGIN:VEVENT
DTSTART;TZID=America/Los_Angeles:20241206T180000
DTEND;TZID=America/Los_Angeles:20241206T200000
DTSTAMP:20260421T043653
CREATED:20241120T212159Z
LAST-MODIFIED:20241120T212201Z
UID:10001128-1733508000-1733515200@www.visitmtsthelens.com
SUMMARY:Children's Discovery Museum   presents...Christmas Movie Night
DESCRIPTION:Free Christmas Movie NightPlaying for your holiday pleasure:  Elf
URL:https://www.visitmtsthelens.com/event/childrens-discovery-museum-presents-christmas-movie-night/
LOCATION:Childrens Discovery Museum\, 404 Long Avenue\, Kelso\, Washington\, 98626
CATEGORIES:Events & Festivals,Kelso,Longview
ATTACH;FMTTYPE=image/png:https://www.visitmtsthelens.com/wp-content/uploads/2024/11/Holiday-Movie-Night-CDM-2024.png
END:VEVENT
BEGIN:VEVENT
DTSTART;TZID=America/Los_Angeles:20241207T090000
DTEND;TZID=America/Los_Angeles:20241207T150000
DTSTAMP:20260421T043653
CREATED:20241107T193322Z
LAST-MODIFIED:20241107T193323Z
UID:10001124-1733562000-1733583600@www.visitmtsthelens.com
SUMMARY:Holiday Bazaar
DESCRIPTION:Tis the season! Longview Parks & Recreation presents our annual Handcrafted Holiday Bazaar. There will be something there for everyone! FREE admission.
URL:https://www.visitmtsthelens.com/event/holiday-bazaar/
LOCATION:McClelland Arts Center\, 951 Delaware St\, Longview\, WA 98632\, USA\, 701 Delaware St\, United States
CATEGORIES:Events & Festivals,Longview
ATTACH;FMTTYPE=image/jpeg:https://www.visitmtsthelens.com/wp-content/uploads/2024/11/Holiday-Bazaar-LPR-2024.jpg
GEO:46.128703;-122.929334
X-APPLE-STRUCTURED-LOCATION;VALUE=URI;X-ADDRESS=McClelland Arts Center 951 Delaware St Longview WA 98632 USA 701 Delaware St United States;X-APPLE-RADIUS=500;X-TITLE=701 Delaware St:geo:-122.929334,46.128703
END:VEVENT
BEGIN:VEVENT
DTSTART;TZID=America/Los_Angeles:20241207T170000
DTEND;TZID=America/Los_Angeles:20241207T170000
DTSTAMP:20260421T043653
CREATED:20241122T192023Z
LAST-MODIFIED:20241122T192024Z
UID:10001130-1733590800-1733590800@www.visitmtsthelens.com
SUMMARY:Festival of Trees
DESCRIPTION:Kick off the holiday season & join the Junior League of Lower Columbia on Friday\, December 6th anytime between 4:30-7:30. \n\n\n\nCome view the stunningly decorated trees\, Santa will be visiting for photos\, cookies\, kids holiday craft\, fun Photo Booth\, no host bar\, and plenty of holiday cheer. \n\n\n\nHuge Thank you to Ablan PT for sponsoring this Free public event! \n\n\n\nHappy Holidays! 
URL:https://www.visitmtsthelens.com/event/festival-of-trees-2/
LOCATION:Cowlitz County Event Center\, 1900 7th Avenue\, Longview\, WA\, 98632\, United States
CATEGORIES:Events & Festivals,Longview
END:VEVENT
BEGIN:VEVENT
DTSTART;TZID=America/Los_Angeles:20241212T193000
DTEND;TZID=America/Los_Angeles:20241212T213000
DTSTAMP:20260421T043653
CREATED:20241009T205354Z
LAST-MODIFIED:20241009T205356Z
UID:10001114-1734031800-1734039000@www.visitmtsthelens.com
SUMMARY:Christmas with the Celts
DESCRIPTION:Christmas with the Celts performs a wonderful combination of timeless ancient Irish Christmas Carols and lively Irish dance with modern contemporary songs but with Irish instrumentation.
URL:https://www.visitmtsthelens.com/event/christmas-with-the-celts/
LOCATION:Columbia Theatre Association for the Performing Arts\, 1231 Vandercook Way\, Longview\, WA 98632\, USA\, 701 Vandercook Way\, United States
CATEGORIES:Events & Festivals,Longview
ATTACH;FMTTYPE=image/png:https://www.visitmtsthelens.com/wp-content/uploads/2024/10/ChristmaswiththeCelts.png
GEO:46.145696;-122.923986
X-APPLE-STRUCTURED-LOCATION;VALUE=URI;X-ADDRESS=Columbia Theatre Association for the Performing Arts 1231 Vandercook Way Longview WA 98632 USA 701 Vandercook Way United States;X-APPLE-RADIUS=500;X-TITLE=701 Vandercook Way:geo:-122.923986,46.145696
END:VEVENT
BEGIN:VEVENT
DTSTART;TZID=America/Los_Angeles:20241213T010000
DTEND;TZID=America/Los_Angeles:20241213T190000
DTSTAMP:20260421T043653
CREATED:20241122T194614Z
LAST-MODIFIED:20241122T194838Z
UID:10001131-1734051600-1734116400@www.visitmtsthelens.com
SUMMARY:Klager Christmas - Hulda Klager Lilac Gardens
DESCRIPTION:It’s beginning to look like Christmas is coming to Hulda Klager Lilac Gardens! We’re busy preparing for an “Old Fashioned Klager Christmas” \n\n\n\nFriday\, Dec 13th 1pm-7pmSaturday\, Dec 14th 1pm-7pmSunday\, Dec 15th Noon-5pm \n\n\n\nCelebrate a “Klager Christmas“ at the Hulda Klager Lilac Gardens\, 115 S. Pekin Road\, Woodland\, WA. Stroll through the gardens\, see the lights and the old-fashioned Christmas decor at the farmhouse\, see Santa and hear a Christmas story. Visit the barn/museum and enjoy a cup of cocoa and cookies. \n\n\n\nAdmission: Family $20\, Adults $6\, kids 2-16 $3\, infants free.
URL:https://www.visitmtsthelens.com/event/klager-christmas-hulda-klager-lilac-gardens/
LOCATION:Hulda Klager Lilac Gardens\, 115 South Pekin Road\, Woodland\, WA\, 98674\, United States
CATEGORIES:Events & Festivals,Woodland
ATTACH;FMTTYPE=image/jpeg:https://www.visitmtsthelens.com/wp-content/uploads/2024/11/Klager-Christmas-Hulda-Klager-Lilac-Gardens.jpg
END:VEVENT
BEGIN:VEVENT
DTSTART;TZID=America/Los_Angeles:20241213T033000
DTEND;TZID=America/Los_Angeles:20241213T183000
DTSTAMP:20260421T043653
CREATED:20241213T221123Z
LAST-MODIFIED:20241213T224037Z
UID:10001135-1734060600-1734114600@www.visitmtsthelens.com
SUMMARY:Children's Discovery Museum - 2nd Annual Holiday Extravaganza
DESCRIPTION:The countdown is on for this Saturday’s Holiday Extravaganza at the Children’s Discovery Museum! From 3:30 PM to 5:30 PM\, enjoy games\, crafts\, holiday fun\, and a chance to connect with these amazing local organizations and businesses: \n\n\n\n Organizations: Kelso Public Library Cowlitz Community Network Community Mediation Center Highlander Hope Fosterful Parents Place United Way Cowlitz Indian Tribe WA State Dept. of Children and Families ESD 112 Lower Columbia Head Start Vendors The Sweet Side of Bex Ultimate Country Creations Havens Mind Body Collection The Lovely Lia Esthetics King’s Crafts Customs by Jazz Main Event Party Store Sweet N Scented BSJ 3D The Moss Guardian
URL:https://www.visitmtsthelens.com/event/childrens-discovery-museum-2nd-annual-holiday-extravaganza/
LOCATION:Washington
CATEGORIES:Events & Festivals,Kelso
ATTACH;FMTTYPE=image/jpeg:https://www.visitmtsthelens.com/wp-content/uploads/2024/12/Childrens-Discovery-Museum-2024.jpg
END:VEVENT
BEGIN:VEVENT
DTSTART;TZID=America/Los_Angeles:20241213T190000
DTEND;TZID=America/Los_Angeles:20241213T220000
DTSTAMP:20260421T043653
CREATED:20241115T230552Z
LAST-MODIFIED:20241115T230554Z
UID:10001126-1734116400-1734127200@www.visitmtsthelens.com
SUMMARY:Cinema of Horrors
DESCRIPTION:🎄 Step Into a Holiday Nightmare at A Christmas Horror Story! 🎄 \n\n\n\nJoin us at Cinema of Horrors in Kelso\, WA\, for a Christmas experience like no other – where festive lights meet spine-chilling frights! This December\, discover the twisted holiday terror awaiting at A Christmas Horror Story\, featuring four uniquely themed haunted houses\, terrifyingly festive encounters\, and photo ops with the ultimate holiday monster: Krampus! \n\n\n\nHighlights: \n\n\n\n\n🎅 Four Christmas-Themed Haunted Houses: Each house is uniquely decorated with spine-tingling holiday themes\, blending festive cheer with heart-pounding scares.\n\n\n\n🤳 Photos with Krampus: Capture an unforgettable holiday moment with Krampus himself – if you dare!\n\n\n\n🎁 Free Hot Cocoa: Enjoy a complimentary cup of hot cocoa as you journey through thousands of twinkling Christmas lights.\n\n\n\n🌟 1\,000s of Christmas Lights: Experience the perfect mix of holiday cheer and haunting ambiance with every step surrounded by glowing holiday lights.\n\n\n\n🎄 A Haunted Christmas Experience Like No Other: This isn’t your average holiday outing! Gather your bravest friends and family to explore Christmas’ darker side.\n\n\n\n\n📅 Event Dates & Times: \n\n\n\n\nDecember 13th & 14th\, 2024\n\n\n\nGates open at 7:00 PM and close at 10:00 PM – Select an arrival time during checkout. Times are in 30 minute increments to help make your wait in line shorter! There is no difference in the experience length which is generally 20-30 minutes through the attractions.\n\n\n\n\n📍 Location: Cinema of Horrors Haunted House1301 Grade St.\, Kelso\, WA 98626Located next to Fiesta Bonita at Three Rivers Mall \n\n\n\nWhy You’ll Love This Event: This is the holiday scare fest everyone’s talking about! From chilling photo ops with Krampus to thousands of Christmas lights illuminating your haunted journey\, A Christmas HORROR Story is perfect for thrill-seekers and horror fans looking for something truly unique this holiday season.
URL:https://www.visitmtsthelens.com/event/cinema-of-horrors-15-2/
LOCATION:Washington
CATEGORIES:Events & Festivals,Kelso
ATTACH;FMTTYPE=image/jpeg:https://www.visitmtsthelens.com/wp-content/uploads/2024/11/Cinema-of-Horrors-Haunted-House-Dec-2024.jpg
END:VEVENT
BEGIN:VEVENT
DTSTART;TZID=America/Los_Angeles:20241214T130000
DTEND;TZID=America/Los_Angeles:20241214T190000
DTSTAMP:20260421T043653
CREATED:20241122T194919Z
LAST-MODIFIED:20241122T194920Z
UID:10001133-1734181200-1734202800@www.visitmtsthelens.com
SUMMARY:Klager Christmas - Hulda Klager Lilac Gardens
DESCRIPTION:It’s beginning to look like Christmas is coming to Hulda Klager Lilac Gardens! We’re busy preparing for an “Old Fashioned Klager Christmas” \n\n\n\nFriday\, Dec 13th 1pm-7pmSaturday\, Dec 14th 1pm-7pmSunday\, Dec 15th Noon-5pm \n\n\n\nCelebrate a “Klager Christmas“ at the Hulda Klager Lilac Gardens\, 115 S. Pekin Road\, Woodland\, WA. Stroll through the gardens\, see the lights and the old-fashioned Christmas decor at the farmhouse\, see Santa and hear a Christmas story. Visit the barn/museum and enjoy a cup of cocoa and cookies. \n\n\n\nAdmission: Family $20\, Adults $6\, kids 2-16 $3\, infants free.
URL:https://www.visitmtsthelens.com/event/klager-christmas-hulda-klager-lilac-gardens-2-2/
LOCATION:Hulda Klager Lilac Gardens\, 115 South Pekin Road\, Woodland\, WA\, 98674\, United States
CATEGORIES:Events & Festivals,Woodland
ATTACH;FMTTYPE=image/jpeg:https://www.visitmtsthelens.com/wp-content/uploads/2024/11/Klager-Christmas-Hulda-Klager-Lilac-Gardens.jpg
END:VEVENT
BEGIN:VEVENT
DTSTART;TZID=America/Los_Angeles:20241214T190000
DTEND;TZID=America/Los_Angeles:20241214T220000
DTSTAMP:20260421T043653
CREATED:20241115T230631Z
LAST-MODIFIED:20241115T230633Z
UID:10001127-1734202800-1734213600@www.visitmtsthelens.com
SUMMARY:Cinema of Horrors
DESCRIPTION:🎄 Step Into a Holiday Nightmare at A Christmas Horror Story! 🎄 \n\n\n\nJoin us at Cinema of Horrors in Kelso\, WA\, for a Christmas experience like no other – where festive lights meet spine-chilling frights! This December\, discover the twisted holiday terror awaiting at A Christmas Horror Story\, featuring four uniquely themed haunted houses\, terrifyingly festive encounters\, and photo ops with the ultimate holiday monster: Krampus! \n\n\n\nHighlights: \n\n\n\n\n🎅 Four Christmas-Themed Haunted Houses: Each house is uniquely decorated with spine-tingling holiday themes\, blending festive cheer with heart-pounding scares.\n\n\n\n🤳 Photos with Krampus: Capture an unforgettable holiday moment with Krampus himself – if you dare!\n\n\n\n🎁 Free Hot Cocoa: Enjoy a complimentary cup of hot cocoa as you journey through thousands of twinkling Christmas lights.\n\n\n\n🌟 1\,000s of Christmas Lights: Experience the perfect mix of holiday cheer and haunting ambiance with every step surrounded by glowing holiday lights.\n\n\n\n🎄 A Haunted Christmas Experience Like No Other: This isn’t your average holiday outing! Gather your bravest friends and family to explore Christmas’ darker side.\n\n\n\n\n📅 Event Dates & Times: \n\n\n\n\nDecember 13th & 14th\, 2024\n\n\n\nGates open at 7:00 PM and close at 10:00 PM – Select an arrival time during checkout. Times are in 30 minute increments to help make your wait in line shorter! There is no difference in the experience length which is generally 20-30 minutes through the attractions.\n\n\n\n\n📍 Location: Cinema of Horrors Haunted House1301 Grade St.\, Kelso\, WA 98626Located next to Fiesta Bonita at Three Rivers Mall \n\n\n\nWhy You’ll Love This Event: This is the holiday scare fest everyone’s talking about! From chilling photo ops with Krampus to thousands of Christmas lights illuminating your haunted journey\, A Christmas HORROR Story is perfect for thrill-seekers and horror fans looking for something truly unique this holiday season.
URL:https://www.visitmtsthelens.com/event/cinema-of-horrors-15-2-2/
LOCATION:Washington
CATEGORIES:Events & Festivals,Kelso
ATTACH;FMTTYPE=image/jpeg:https://www.visitmtsthelens.com/wp-content/uploads/2024/11/Cinema-of-Horrors-Haunted-House-Dec-2024.jpg
END:VEVENT
BEGIN:VEVENT
DTSTART;TZID=America/Los_Angeles:20241215T120000
DTEND;TZID=America/Los_Angeles:20241215T170000
DTSTAMP:20260421T043653
CREATED:20241122T194645Z
LAST-MODIFIED:20241122T194753Z
UID:10001132-1734264000-1734282000@www.visitmtsthelens.com
SUMMARY:Klager Christmas - Hulda Klager Lilac Gardens
DESCRIPTION:It’s beginning to look like Christmas is coming to Hulda Klager Lilac Gardens! We’re busy preparing for an “Old Fashioned Klager Christmas” \n\n\n\nFriday\, Dec 13th 1pm-7pmSaturday\, Dec 14th 1pm-7pmSunday\, Dec 15th Noon-5pm \n\n\n\nCelebrate a “Klager Christmas“ at the Hulda Klager Lilac Gardens\, 115 S. Pekin Road\, Woodland\, WA. Stroll through the gardens\, see the lights and the old-fashioned Christmas decor at the farmhouse\, see Santa and hear a Christmas story. Visit the barn/museum and enjoy a cup of cocoa and cookies. \n\n\n\nAdmission: Family $20\, Adults $6\, kids 2-16 $3\, infants free.
URL:https://www.visitmtsthelens.com/event/klager-christmas-hulda-klager-lilac-gardens-2/
LOCATION:Hulda Klager Lilac Gardens\, 115 South Pekin Road\, Woodland\, WA\, 98674\, United States
CATEGORIES:Events & Festivals,Woodland
ATTACH;FMTTYPE=image/jpeg:https://www.visitmtsthelens.com/wp-content/uploads/2024/11/Klager-Christmas-Hulda-Klager-Lilac-Gardens.jpg
END:VEVENT
BEGIN:VEVENT
DTSTART;TZID=America/Los_Angeles:20241215T140000
DTEND;TZID=America/Los_Angeles:20241215T151600
DTSTAMP:20260421T043653
CREATED:20241009T205940Z
LAST-MODIFIED:20241009T205942Z
UID:10001115-1734271200-1734275760@www.visitmtsthelens.com
SUMMARY:Classic Films: The Nightmare Before Christmas
DESCRIPTION:1993 classic directed by Henry Selick and written by Tim Burton\, Michael McDowell\, and Caroline Thompson. Jack Skellington\, the pumpkin king of Halloween Town\, is bored with doing the same thing every year for Halloween. One day he stumbles into Christmas Town\, and is so taken with the idea of Christmas that he tries to get the resident bats\, ghouls\, and goblins of Halloween Town to help him put on Christmas instead of Halloween — but alas\, they can’t get it quite right.
URL:https://www.visitmtsthelens.com/event/classic-films-the-nightmare-before-christmas/
LOCATION:Columbia Theatre Association for the Performing Arts\, 1231 Vandercook Way\, Longview\, WA 98632\, USA\, 701 Vandercook Way\, United States
CATEGORIES:Events & Festivals,Longview
ATTACH;FMTTYPE=image/png:https://www.visitmtsthelens.com/wp-content/uploads/2024/10/Nightmarebeforechristmaseventpic1.png
GEO:46.145696;-122.923986
X-APPLE-STRUCTURED-LOCATION;VALUE=URI;X-ADDRESS=Columbia Theatre Association for the Performing Arts 1231 Vandercook Way Longview WA 98632 USA 701 Vandercook Way United States;X-APPLE-RADIUS=500;X-TITLE=701 Vandercook Way:geo:-122.923986,46.145696
END:VEVENT
BEGIN:VEVENT
DTSTART;TZID=America/Los_Angeles:20241221T160000
DTEND;TZID=America/Los_Angeles:20241221T180000
DTSTAMP:20260421T043653
CREATED:20241213T215700Z
LAST-MODIFIED:20241213T215703Z
UID:10001134-1734796800-1734804000@www.visitmtsthelens.com
SUMMARY:Lighted Christmas Parade
DESCRIPTION:Cowlitz River Kayakers Annual Lighted Boat Parade Lake Sacajawea – Martins Dock
URL:https://www.visitmtsthelens.com/event/lighted-christmas-parade/
LOCATION:Martins Dock – Lake Sacajawea\, 1051 Kessler Blvd.\, Longview\, Washington\, 98632
CATEGORIES:Events & Festivals,Longview
END:VEVENT
BEGIN:VEVENT
DTSTART;TZID=America/Los_Angeles:20241225T000000
DTEND;TZID=America/Los_Angeles:20241225T120000
DTSTAMP:20260421T043653
CREATED:20241009T195212Z
LAST-MODIFIED:20241009T195320Z
UID:10001112-1735084800-1735128000@www.visitmtsthelens.com
SUMMARY:Merry Christmas
DESCRIPTION:
URL:https://www.visitmtsthelens.com/event/merry-christmas/
LOCATION:Washington
CATEGORIES:Events & Festivals
ATTACH;FMTTYPE=image/png:https://www.visitmtsthelens.com/wp-content/uploads/2024/10/Merry-Christmas.png
END:VEVENT
END:VCALENDAR