BEGIN:VCALENDAR
VERSION:2.0
PRODID:-//Visit Mt St Helens - ECPv6.15.20//NONSGML v1.0//EN
CALSCALE:GREGORIAN
METHOD:PUBLISH
X-ORIGINAL-URL:https://www.visitmtsthelens.com
X-WR-CALDESC:Events for Visit Mt St Helens
REFRESH-INTERVAL;VALUE=DURATION:PT1H
X-Robots-Tag:noindex
X-PUBLISHED-TTL:PT1H
BEGIN:VTIMEZONE
TZID:America/Los_Angeles
BEGIN:DAYLIGHT
TZOFFSETFROM:-0800
TZOFFSETTO:-0700
TZNAME:PDT
DTSTART:20250309T100000
END:DAYLIGHT
BEGIN:STANDARD
TZOFFSETFROM:-0700
TZOFFSETTO:-0800
TZNAME:PST
DTSTART:20251102T090000
END:STANDARD
BEGIN:DAYLIGHT
TZOFFSETFROM:-0800
TZOFFSETTO:-0700
TZNAME:PDT
DTSTART:20260308T100000
END:DAYLIGHT
BEGIN:STANDARD
TZOFFSETFROM:-0700
TZOFFSETTO:-0800
TZNAME:PST
DTSTART:20261101T090000
END:STANDARD
BEGIN:DAYLIGHT
TZOFFSETFROM:-0800
TZOFFSETTO:-0700
TZNAME:PDT
DTSTART:20270314T100000
END:DAYLIGHT
BEGIN:STANDARD
TZOFFSETFROM:-0700
TZOFFSETTO:-0800
TZNAME:PST
DTSTART:20271107T090000
END:STANDARD
END:VTIMEZONE
BEGIN:VEVENT
DTSTART;TZID=America/Los_Angeles:20260627T090000
DTEND;TZID=America/Los_Angeles:20260627T143000
DTSTAMP:20260419T122754
CREATED:20260210T171316Z
LAST-MODIFIED:20260401T184216Z
UID:10002145-1782550800-1782570600@www.visitmtsthelens.com
SUMMARY:Hot Rods for Hevin
DESCRIPTION:SAVE THE DATE! This Year’s HOT RODS FOR HEVIN CAR AND BIKE SHOW FUNDRAISER will be held at Three Rivers Crossing!! June 27thSponsorship opportunities available!Vendor spots are available! \n\n\n\nFREE KIDS ZONE will be back even better with the Reptile Road Show back this year! Along with free face painting by Didymus Ink and new FREE obstacle courses by Kelso Bounce House Rental LLC! \n\n\n\nRaffles- DJ- Pin ups- food- drink- live music and more!!Please call us for more info!
URL:https://www.visitmtsthelens.com/event/hot-rods-for-hevin-2/
LOCATION:Three Rivers Crossing\, 351 Three Rivers Drive\, Kelso\, Washington\, 98626
CATEGORIES:Events & Festivals,Kelso
ATTACH;FMTTYPE=image/jpeg:https://www.visitmtsthelens.com/wp-content/uploads/2026/02/Hot-Rods-for-Hevin-2026.jpg
END:VEVENT
END:VCALENDAR