BEGIN:VCALENDAR
VERSION:2.0
PRODID:-//Visit Mt St Helens - ECPv6.15.20//NONSGML v1.0//EN
CALSCALE:GREGORIAN
METHOD:PUBLISH
X-WR-CALNAME:Visit Mt St Helens
X-ORIGINAL-URL:https://www.visitmtsthelens.com
X-WR-CALDESC:Events for Visit Mt St Helens
REFRESH-INTERVAL;VALUE=DURATION:PT1H
X-Robots-Tag:noindex
X-PUBLISHED-TTL:PT1H
BEGIN:VTIMEZONE
TZID:America/Los_Angeles
BEGIN:DAYLIGHT
TZOFFSETFROM:-0800
TZOFFSETTO:-0700
TZNAME:PDT
DTSTART:20250309T100000
END:DAYLIGHT
BEGIN:STANDARD
TZOFFSETFROM:-0700
TZOFFSETTO:-0800
TZNAME:PST
DTSTART:20251102T090000
END:STANDARD
BEGIN:DAYLIGHT
TZOFFSETFROM:-0800
TZOFFSETTO:-0700
TZNAME:PDT
DTSTART:20260308T100000
END:DAYLIGHT
BEGIN:STANDARD
TZOFFSETFROM:-0700
TZOFFSETTO:-0800
TZNAME:PST
DTSTART:20261101T090000
END:STANDARD
BEGIN:DAYLIGHT
TZOFFSETFROM:-0800
TZOFFSETTO:-0700
TZNAME:PDT
DTSTART:20270314T100000
END:DAYLIGHT
BEGIN:STANDARD
TZOFFSETFROM:-0700
TZOFFSETTO:-0800
TZNAME:PST
DTSTART:20271107T090000
END:STANDARD
END:VTIMEZONE
BEGIN:VEVENT
DTSTART;TZID=America/Los_Angeles:20260414T100000
DTEND;TZID=America/Los_Angeles:20260414T160000
DTSTAMP:20260419T090705
CREATED:20260304T234247Z
LAST-MODIFIED:20260304T234249Z
UID:10002179-1776160800-1776182400@www.visitmtsthelens.com
SUMMARY:Columbian Artists Association - Spring Art Show
DESCRIPTION:Columbian Artists Association Spring Art Show 2026 \n\n\n\nCelebrate the creativity of Southwest Washington at the Columbian Artists Association Spring Art Show 2026\, hosted at the Cowlitz County Historical Museum from March 28 through April 18\, 2026. \n\n\n\nThis annual exhibition features a diverse collection of original artwork created by talented local and regional artists. Visitors can enjoy a variety of artistic styles and mediums including painting\, drawing\, photography\, and mixed media. The show highlights the vibrant art community of the region while offering guests the opportunity to discover new artists and purchase unique\, one-of-a-kind pieces. \n\n\n\nSet within the historic surroundings of the museum\, the Spring Art Show provides an inspiring cultural experience for art lovers of all ages. \n\n\n\nGallery Hours: Tuesday through Saturday\, 10:00 AM – 4:00 PM.Free Admission \n\n\n\nJoin us this spring to celebrate the talent and creativity of the Columbian Artists Association. Featured Artist this year is John Holman.
URL:https://www.visitmtsthelens.com/event/columbian-artists-association-spring-art-show-2-2-2-3-2-2-2-2-2-2/
LOCATION:Cowlitz County Historical Museum\, 405 Allen Street\, Kelso\, Washington\, 98626
CATEGORIES:Events & Festivals,Kelso
ATTACH;FMTTYPE=image/jpeg:https://www.visitmtsthelens.com/wp-content/uploads/2026/03/Spring-Art-Show-2026.jpg
END:VEVENT
BEGIN:VEVENT
DTSTART;TZID=America/Los_Angeles:20260415T100000
DTEND;TZID=America/Los_Angeles:20260415T160000
DTSTAMP:20260419T090706
CREATED:20260304T234710Z
LAST-MODIFIED:20260304T234713Z
UID:10002184-1776247200-1776268800@www.visitmtsthelens.com
SUMMARY:Columbian Artists Association - Spring Art Show
DESCRIPTION:Columbian Artists Association Spring Art Show 2026 \n\n\n\nCelebrate the creativity of Southwest Washington at the Columbian Artists Association Spring Art Show 2026\, hosted at the Cowlitz County Historical Museum from March 28 through April 18\, 2026. \n\n\n\nThis annual exhibition features a diverse collection of original artwork created by talented local and regional artists. Visitors can enjoy a variety of artistic styles and mediums including painting\, drawing\, photography\, and mixed media. The show highlights the vibrant art community of the region while offering guests the opportunity to discover new artists and purchase unique\, one-of-a-kind pieces. \n\n\n\nSet within the historic surroundings of the museum\, the Spring Art Show provides an inspiring cultural experience for art lovers of all ages. \n\n\n\nGallery Hours: Tuesday through Saturday\, 10:00 AM – 4:00 PM.Free Admission \n\n\n\nJoin us this spring to celebrate the talent and creativity of the Columbian Artists Association. Featured Artist this year is John Holman.
URL:https://www.visitmtsthelens.com/event/columbian-artists-association-spring-art-show-2-2-2-3-2-2-2-2-2-2-2-3-2-2/
LOCATION:Cowlitz County Historical Museum\, 405 Allen Street\, Kelso\, Washington\, 98626
CATEGORIES:Events & Festivals,Kelso
ATTACH;FMTTYPE=image/jpeg:https://www.visitmtsthelens.com/wp-content/uploads/2026/03/Spring-Art-Show-2026.jpg
END:VEVENT
BEGIN:VEVENT
DTSTART;TZID=America/Los_Angeles:20260416T100000
DTEND;TZID=America/Los_Angeles:20260416T160000
DTSTAMP:20260419T090706
CREATED:20260304T234334Z
LAST-MODIFIED:20260304T234417Z
UID:10002180-1776333600-1776355200@www.visitmtsthelens.com
SUMMARY:Columbian Artists Association - Spring Art Show
DESCRIPTION:Columbian Artists Association Spring Art Show 2026 \n\n\n\nCelebrate the creativity of Southwest Washington at the Columbian Artists Association Spring Art Show 2026\, hosted at the Cowlitz County Historical Museum from March 28 through April 18\, 2026. \n\n\n\nThis annual exhibition features a diverse collection of original artwork created by talented local and regional artists. Visitors can enjoy a variety of artistic styles and mediums including painting\, drawing\, photography\, and mixed media. The show highlights the vibrant art community of the region while offering guests the opportunity to discover new artists and purchase unique\, one-of-a-kind pieces. \n\n\n\nSet within the historic surroundings of the museum\, the Spring Art Show provides an inspiring cultural experience for art lovers of all ages. \n\n\n\nGallery Hours: Tuesday through Saturday\, 10:00 AM – 4:00 PM.Free Admission \n\n\n\nJoin us this spring to celebrate the talent and creativity of the Columbian Artists Association. Featured Artist this year is John Holman.
URL:https://www.visitmtsthelens.com/event/columbian-artists-association-spring-art-show-2-2-2-3-2-2-2-2-2-2-2-2/
LOCATION:Cowlitz County Historical Museum\, 405 Allen Street\, Kelso\, Washington\, 98626
CATEGORIES:Events & Festivals,Kelso
ATTACH;FMTTYPE=image/jpeg:https://www.visitmtsthelens.com/wp-content/uploads/2026/03/Spring-Art-Show-2026.jpg
END:VEVENT
BEGIN:VEVENT
DTSTART;TZID=America/Los_Angeles:20260417T100000
DTEND;TZID=America/Los_Angeles:20260417T160000
DTSTAMP:20260419T090706
CREATED:20260304T234451Z
LAST-MODIFIED:20260304T234454Z
UID:10002182-1776420000-1776441600@www.visitmtsthelens.com
SUMMARY:Columbian Artists Association - Spring Art Show
DESCRIPTION:Columbian Artists Association Spring Art Show 2026 \n\n\n\nCelebrate the creativity of Southwest Washington at the Columbian Artists Association Spring Art Show 2026\, hosted at the Cowlitz County Historical Museum from March 28 through April 18\, 2026. \n\n\n\nThis annual exhibition features a diverse collection of original artwork created by talented local and regional artists. Visitors can enjoy a variety of artistic styles and mediums including painting\, drawing\, photography\, and mixed media. The show highlights the vibrant art community of the region while offering guests the opportunity to discover new artists and purchase unique\, one-of-a-kind pieces. \n\n\n\nSet within the historic surroundings of the museum\, the Spring Art Show provides an inspiring cultural experience for art lovers of all ages. \n\n\n\nGallery Hours: Tuesday through Saturday\, 10:00 AM – 4:00 PM.Free Admission \n\n\n\nJoin us this spring to celebrate the talent and creativity of the Columbian Artists Association. Featured Artist this year is John Holman.
URL:https://www.visitmtsthelens.com/event/columbian-artists-association-spring-art-show-2-2-2-3-2-2-2-2-2-2-2-3/
LOCATION:Cowlitz County Historical Museum\, 405 Allen Street\, Kelso\, Washington\, 98626
CATEGORIES:Events & Festivals,Kelso
ATTACH;FMTTYPE=image/jpeg:https://www.visitmtsthelens.com/wp-content/uploads/2026/03/Spring-Art-Show-2026.jpg
END:VEVENT
BEGIN:VEVENT
DTSTART;TZID=America/Los_Angeles:20260418T100000
DTEND;TZID=America/Los_Angeles:20260418T160000
DTSTAMP:20260419T090706
CREATED:20260304T234537Z
LAST-MODIFIED:20260304T234540Z
UID:10002183-1776506400-1776528000@www.visitmtsthelens.com
SUMMARY:Columbian Artists Association - Spring Art Show
DESCRIPTION:Columbian Artists Association Spring Art Show 2026 \n\n\n\nCelebrate the creativity of Southwest Washington at the Columbian Artists Association Spring Art Show 2026\, hosted at the Cowlitz County Historical Museum from March 28 through April 18\, 2026. \n\n\n\nThis annual exhibition features a diverse collection of original artwork created by talented local and regional artists. Visitors can enjoy a variety of artistic styles and mediums including painting\, drawing\, photography\, and mixed media. The show highlights the vibrant art community of the region while offering guests the opportunity to discover new artists and purchase unique\, one-of-a-kind pieces. \n\n\n\nSet within the historic surroundings of the museum\, the Spring Art Show provides an inspiring cultural experience for art lovers of all ages. \n\n\n\nGallery Hours: Tuesday through Saturday\, 10:00 AM – 4:00 PM.Free Admission \n\n\n\nJoin us this spring to celebrate the talent and creativity of the Columbian Artists Association. Featured Artist this year is John Holman.
URL:https://www.visitmtsthelens.com/event/columbian-artists-association-spring-art-show-2-2-2-3-2-2-2-2-2-2-2-3-2/
LOCATION:Cowlitz County Historical Museum\, 405 Allen Street\, Kelso\, Washington\, 98626
CATEGORIES:Events & Festivals,Kelso
ATTACH;FMTTYPE=image/jpeg:https://www.visitmtsthelens.com/wp-content/uploads/2026/03/Spring-Art-Show-2026.jpg
END:VEVENT
END:VCALENDAR