BEGIN:VCALENDAR
VERSION:2.0
PRODID:-//Visit Mt St Helens - ECPv6.15.20//NONSGML v1.0//EN
CALSCALE:GREGORIAN
METHOD:PUBLISH
X-WR-CALNAME:Visit Mt St Helens
X-ORIGINAL-URL:https://www.visitmtsthelens.com
X-WR-CALDESC:Events for Visit Mt St Helens
REFRESH-INTERVAL;VALUE=DURATION:PT1H
X-Robots-Tag:noindex
X-PUBLISHED-TTL:PT1H
BEGIN:VTIMEZONE
TZID:America/Los_Angeles
BEGIN:DAYLIGHT
TZOFFSETFROM:-0800
TZOFFSETTO:-0700
TZNAME:PDT
DTSTART:20250309T100000
END:DAYLIGHT
BEGIN:STANDARD
TZOFFSETFROM:-0700
TZOFFSETTO:-0800
TZNAME:PST
DTSTART:20251102T090000
END:STANDARD
BEGIN:DAYLIGHT
TZOFFSETFROM:-0800
TZOFFSETTO:-0700
TZNAME:PDT
DTSTART:20260308T100000
END:DAYLIGHT
BEGIN:STANDARD
TZOFFSETFROM:-0700
TZOFFSETTO:-0800
TZNAME:PST
DTSTART:20261101T090000
END:STANDARD
BEGIN:DAYLIGHT
TZOFFSETFROM:-0800
TZOFFSETTO:-0700
TZNAME:PDT
DTSTART:20270314T100000
END:DAYLIGHT
BEGIN:STANDARD
TZOFFSETFROM:-0700
TZOFFSETTO:-0800
TZNAME:PST
DTSTART:20271107T090000
END:STANDARD
END:VTIMEZONE
BEGIN:VEVENT
DTSTART;TZID=America/Los_Angeles:20260407T100000
DTEND;TZID=America/Los_Angeles:20260407T160000
DTSTAMP:20260419T103201
CREATED:20260304T233828Z
LAST-MODIFIED:20260401T202336Z
UID:10002174-1775556000-1775577600@www.visitmtsthelens.com
SUMMARY:Columbian Artists Association - Spring Art Show
DESCRIPTION:Columbian Artists Association Spring Art Show 2026 \n\n\n\nCelebrate the creativity of Southwest Washington at the Columbian Artists Association Spring Art Show 2026\, hosted at the Cowlitz County Historical Museum from March 28 through April 18\, 2026. \n\n\n\nThis annual exhibition features a diverse collection of original artwork created by talented local and regional artists. Visitors can enjoy a variety of artistic styles and mediums including painting\, drawing\, photography\, and mixed media. The show highlights the vibrant art community of the region while offering guests the opportunity to discover new artists and purchase unique\, one-of-a-kind pieces. \n\n\n\nSet within the historic surroundings of the museum\, the Spring Art Show provides an inspiring cultural experience for art lovers of all ages. \n\n\n\nGallery Hours: Tuesday through Saturday\, 10:00 AM – 4:00 PM.Free Admission \n\n\n\nJoin us this spring to celebrate the talent and creativity of the Columbian Artists Association. Featured Artist this year is John Holman.
URL:https://www.visitmtsthelens.com/event/columbian-artists-association-spring-art-show-2-2-2-3-2/
LOCATION:Cowlitz County Historical Museum\, 405 Allen Street\, Kelso\, Washington\, 98626
CATEGORIES:Events & Festivals,Kelso
ATTACH;FMTTYPE=image/jpeg:https://www.visitmtsthelens.com/wp-content/uploads/2026/03/Spring-Art-Show-2026.jpg
END:VEVENT
BEGIN:VEVENT
DTSTART;TZID=America/Los_Angeles:20260407T150000
DTEND;TZID=America/Los_Angeles:20260409T150000
DTSTAMP:20260419T103201
CREATED:20260401T171109Z
LAST-MODIFIED:20260401T202219Z
UID:10002215-1775574000-1775746800@www.visitmtsthelens.com
SUMMARY:Spring Break Workshops
DESCRIPTION:Columbia Theatre & Missoula Children’s Theatre Present Spring Break Theatre Workshops.April 7 – Mime WorkshopActions speak louder than words! Located:  Longview Public Library Time:  3:00 pmAges:  6 to 8April 8 – Play WritingArt transforms words into worlds.Located:  Columbia TheatreTime:  3:00 pmAges:  10 – 13April 9 – ImprovListening\, creativity\, bravery. All the important skills for the improv actor to hone.Located:  Kelso Public LibraryTime:  3:00 pmAges:  8 to 10 \n\n\n\nFor more information\, please call 360.575.8499Sign up for workshops:  WORKSHOP SIGN UP — Columbia Theatre Longview
URL:https://www.visitmtsthelens.com/event/spring-break-workshops/
CATEGORIES:Events & Festivals,Kelso,Longview
ATTACH;FMTTYPE=image/webp:https://www.visitmtsthelens.com/wp-content/uploads/2026/03/Spring-Break.webp
END:VEVENT
BEGIN:VEVENT
DTSTART;TZID=America/Los_Angeles:20260408T100000
DTEND;TZID=America/Los_Angeles:20260408T160000
DTSTAMP:20260419T103201
CREATED:20260304T233906Z
LAST-MODIFIED:20260401T202048Z
UID:10002175-1775642400-1775664000@www.visitmtsthelens.com
SUMMARY:Columbian Artists Association - Spring Art Show
DESCRIPTION:Columbian Artists Association Spring Art Show 2026 \n\n\n\nCelebrate the creativity of Southwest Washington at the Columbian Artists Association Spring Art Show 2026\, hosted at the Cowlitz County Historical Museum from March 28 through April 18\, 2026. \n\n\n\nThis annual exhibition features a diverse collection of original artwork created by talented local and regional artists. Visitors can enjoy a variety of artistic styles and mediums including painting\, drawing\, photography\, and mixed media. The show highlights the vibrant art community of the region while offering guests the opportunity to discover new artists and purchase unique\, one-of-a-kind pieces. \n\n\n\nSet within the historic surroundings of the museum\, the Spring Art Show provides an inspiring cultural experience for art lovers of all ages. \n\n\n\nGallery Hours: Tuesday through Saturday\, 10:00 AM – 4:00 PM.Free Admission \n\n\n\nJoin us this spring to celebrate the talent and creativity of the Columbian Artists Association. Featured Artist this year is John Holman.
URL:https://www.visitmtsthelens.com/event/columbian-artists-association-spring-art-show-2-2-2-3-2-2/
LOCATION:Cowlitz County Historical Museum\, 405 Allen Street\, Kelso\, Washington\, 98626
CATEGORIES:Events & Festivals,Kelso
ATTACH;FMTTYPE=image/jpeg:https://www.visitmtsthelens.com/wp-content/uploads/2026/03/Spring-Art-Show-2026.jpg
END:VEVENT
BEGIN:VEVENT
DTSTART;TZID=America/Los_Angeles:20260409T100000
DTEND;TZID=America/Los_Angeles:20260409T160000
DTSTAMP:20260419T103201
CREATED:20260304T233948Z
LAST-MODIFIED:20260401T201914Z
UID:10002176-1775728800-1775750400@www.visitmtsthelens.com
SUMMARY:Columbian Artists Association - Spring Art Show
DESCRIPTION:Columbian Artists Association Spring Art Show 2026 \n\n\n\nCelebrate the creativity of Southwest Washington at the Columbian Artists Association Spring Art Show 2026\, hosted at the Cowlitz County Historical Museum from March 28 through April 18\, 2026. \n\n\n\nThis annual exhibition features a diverse collection of original artwork created by talented local and regional artists. Visitors can enjoy a variety of artistic styles and mediums including painting\, drawing\, photography\, and mixed media. The show highlights the vibrant art community of the region while offering guests the opportunity to discover new artists and purchase unique\, one-of-a-kind pieces. \n\n\n\nSet within the historic surroundings of the museum\, the Spring Art Show provides an inspiring cultural experience for art lovers of all ages. \n\n\n\nGallery Hours: Tuesday through Saturday\, 10:00 AM – 4:00 PM.Free Admission \n\n\n\nJoin us this spring to celebrate the talent and creativity of the Columbian Artists Association. Featured Artist this year is John Holman.
URL:https://www.visitmtsthelens.com/event/columbian-artists-association-spring-art-show-2-2-2-3-2-2-2/
LOCATION:Cowlitz County Historical Museum\, 405 Allen Street\, Kelso\, Washington\, 98626
CATEGORIES:Events & Festivals,Kelso
ATTACH;FMTTYPE=image/jpeg:https://www.visitmtsthelens.com/wp-content/uploads/2026/03/Spring-Art-Show-2026.jpg
END:VEVENT
BEGIN:VEVENT
DTSTART;TZID=America/Los_Angeles:20260410T100000
DTEND;TZID=America/Los_Angeles:20260410T160000
DTSTAMP:20260419T103201
CREATED:20260304T234047Z
LAST-MODIFIED:20260401T201736Z
UID:10002177-1775815200-1775836800@www.visitmtsthelens.com
SUMMARY:Columbian Artists Association - Spring Art Show
DESCRIPTION:Columbian Artists Association Spring Art Show 2026 \n\n\n\nCelebrate the creativity of Southwest Washington at the Columbian Artists Association Spring Art Show 2026\, hosted at the Cowlitz County Historical Museum from March 28 through April 18\, 2026. \n\n\n\nThis annual exhibition features a diverse collection of original artwork created by talented local and regional artists. Visitors can enjoy a variety of artistic styles and mediums including painting\, drawing\, photography\, and mixed media. The show highlights the vibrant art community of the region while offering guests the opportunity to discover new artists and purchase unique\, one-of-a-kind pieces. \n\n\n\nSet within the historic surroundings of the museum\, the Spring Art Show provides an inspiring cultural experience for art lovers of all ages. \n\n\n\nGallery Hours: Tuesday through Saturday\, 10:00 AM – 4:00 PM.Free Admission \n\n\n\nJoin us this spring to celebrate the talent and creativity of the Columbian Artists Association. Featured Artist this year is John Holman.
URL:https://www.visitmtsthelens.com/event/columbian-artists-association-spring-art-show-2-2-2-3-2-2-2-2/
LOCATION:Cowlitz County Historical Museum\, 405 Allen Street\, Kelso\, Washington\, 98626
CATEGORIES:Events & Festivals,Kelso
ATTACH;FMTTYPE=image/jpeg:https://www.visitmtsthelens.com/wp-content/uploads/2026/03/Spring-Art-Show-2026.jpg
END:VEVENT
BEGIN:VEVENT
DTSTART;TZID=America/Los_Angeles:20260411T100000
DTEND;TZID=America/Los_Angeles:20260411T160000
DTSTAMP:20260419T103201
CREATED:20260304T234151Z
LAST-MODIFIED:20260401T201613Z
UID:10002178-1775901600-1775923200@www.visitmtsthelens.com
SUMMARY:Columbian Artists Association - Spring Art Show
DESCRIPTION:Columbian Artists Association Spring Art Show 2026 \n\n\n\nCelebrate the creativity of Southwest Washington at the Columbian Artists Association Spring Art Show 2026\, hosted at the Cowlitz County Historical Museum from March 28 through April 18\, 2026. \n\n\n\nThis annual exhibition features a diverse collection of original artwork created by talented local and regional artists. Visitors can enjoy a variety of artistic styles and mediums including painting\, drawing\, photography\, and mixed media. The show highlights the vibrant art community of the region while offering guests the opportunity to discover new artists and purchase unique\, one-of-a-kind pieces. \n\n\n\nSet within the historic surroundings of the museum\, the Spring Art Show provides an inspiring cultural experience for art lovers of all ages. \n\n\n\nGallery Hours: Tuesday through Saturday\, 10:00 AM – 4:00 PM.Free Admission \n\n\n\nJoin us this spring to celebrate the talent and creativity of the Columbian Artists Association. Featured Artist this year is John Holman.
URL:https://www.visitmtsthelens.com/event/columbian-artists-association-spring-art-show-2-2-2-3-2-2-2-2-2/
LOCATION:Cowlitz County Historical Museum\, 405 Allen Street\, Kelso\, Washington\, 98626
CATEGORIES:Events & Festivals,Kelso
ATTACH;FMTTYPE=image/jpeg:https://www.visitmtsthelens.com/wp-content/uploads/2026/03/Spring-Art-Show-2026.jpg
END:VEVENT
END:VCALENDAR