BEGIN:VCALENDAR
VERSION:2.0
PRODID:-//Visit Mt St Helens - ECPv6.15.20//NONSGML v1.0//EN
CALSCALE:GREGORIAN
METHOD:PUBLISH
X-ORIGINAL-URL:https://www.visitmtsthelens.com
X-WR-CALDESC:Events for Visit Mt St Helens
REFRESH-INTERVAL;VALUE=DURATION:PT1H
X-Robots-Tag:noindex
X-PUBLISHED-TTL:PT1H
BEGIN:VTIMEZONE
TZID:America/Los_Angeles
BEGIN:DAYLIGHT
TZOFFSETFROM:-0800
TZOFFSETTO:-0700
TZNAME:PDT
DTSTART:20250309T100000
END:DAYLIGHT
BEGIN:STANDARD
TZOFFSETFROM:-0700
TZOFFSETTO:-0800
TZNAME:PST
DTSTART:20251102T090000
END:STANDARD
BEGIN:DAYLIGHT
TZOFFSETFROM:-0800
TZOFFSETTO:-0700
TZNAME:PDT
DTSTART:20260308T100000
END:DAYLIGHT
BEGIN:STANDARD
TZOFFSETFROM:-0700
TZOFFSETTO:-0800
TZNAME:PST
DTSTART:20261101T090000
END:STANDARD
BEGIN:DAYLIGHT
TZOFFSETFROM:-0800
TZOFFSETTO:-0700
TZNAME:PDT
DTSTART:20270314T100000
END:DAYLIGHT
BEGIN:STANDARD
TZOFFSETFROM:-0700
TZOFFSETTO:-0800
TZNAME:PST
DTSTART:20271107T090000
END:STANDARD
END:VTIMEZONE
BEGIN:VEVENT
DTSTART;TZID=America/Los_Angeles:20260329T110000
DTEND;TZID=America/Los_Angeles:20260329T140000
DTSTAMP:20260419T103544
CREATED:20260326T205221Z
LAST-MODIFIED:20260326T205224Z
UID:10002203-1774782000-1774792800@www.visitmtsthelens.com
SUMMARY:Easter Bunny Photos
DESCRIPTION:Join us at the Crossing to Meet the Easter Bunny — five special days benefiting a different local charity each day! \n\n\n\nTwo photo sessions daily: 11:00 AM–2:00 PM & 3:00 PM–6:00 PM. \n\n\n\nProfessional backdrop — please bring your own camera (volunteer photographers available for group shots). \n\n\n\nSuggested donation: $5. 100% of all funds raised each day go to that day’s charity. \n\n\n\nSponsored by Tina Moore – Allstate \, Three Rivers Crossing\, and TrolleyLocal \n\n\n\nEvent schedule & event page links: \n\n\n\nFri 3/27 — Emergency Support Shelter: https://www.facebook.com/share/1831S6tNmQ/ \n\n\n\nSat 3/28 — Cowlitz Habitat For Humanity: https://www.facebook.com/share/17K5AFsiwt/ \n\n\n\nSun 3/29 — Cowlitz Relay For Life: https://www.facebook.com/share/18PF6GP8UF/ \n\n\n\nFri 4/3 — Community House: https://www.facebook.com/share/182Ae9ED8z/ \n\n\n\nSat 4/4 — Love INC: https://www.facebook.com/share/1MozpJzNBv/ \n\n\n\n🐰We Hope (HOP) to See YOU There!!!
URL:https://www.visitmtsthelens.com/event/easter-bunny-photos-3-2/
LOCATION:Three Rivers Crossing\, 351 Three Rivers Drive\, Kelso\, Washington\, 98626
CATEGORIES:Events & Festivals,Kelso
ATTACH;FMTTYPE=image/jpeg:https://www.visitmtsthelens.com/wp-content/uploads/2026/03/Easter-Bunny-Photos.jpg
END:VEVENT
BEGIN:VEVENT
DTSTART;TZID=America/Los_Angeles:20260329T150000
DTEND;TZID=America/Los_Angeles:20260329T180000
DTSTAMP:20260419T103544
CREATED:20260326T205325Z
LAST-MODIFIED:20260326T205327Z
UID:10002204-1774796400-1774807200@www.visitmtsthelens.com
SUMMARY:Easter Bunny Photos
DESCRIPTION:Join us at the Crossing to Meet the Easter Bunny — five special days benefiting a different local charity each day! \n\n\n\nTwo photo sessions daily: 11:00 AM–2:00 PM & 3:00 PM–6:00 PM. \n\n\n\nProfessional backdrop — please bring your own camera (volunteer photographers available for group shots). \n\n\n\nSuggested donation: $5. 100% of all funds raised each day go to that day’s charity. \n\n\n\nSponsored by Tina Moore – Allstate \, Three Rivers Crossing\, and TrolleyLocal \n\n\n\nEvent schedule & event page links: \n\n\n\nFri 3/27 — Emergency Support Shelter: https://www.facebook.com/share/1831S6tNmQ/ \n\n\n\nSat 3/28 — Cowlitz Habitat For Humanity: https://www.facebook.com/share/17K5AFsiwt/ \n\n\n\nSun 3/29 — Cowlitz Relay For Life: https://www.facebook.com/share/18PF6GP8UF/ \n\n\n\nFri 4/3 — Community House: https://www.facebook.com/share/182Ae9ED8z/ \n\n\n\nSat 4/4 — Love INC: https://www.facebook.com/share/1MozpJzNBv/ \n\n\n\n🐰We Hope (HOP) to See YOU There!!!
URL:https://www.visitmtsthelens.com/event/easter-bunny-photos-2-2-2/
LOCATION:Three Rivers Crossing\, 351 Three Rivers Drive\, Kelso\, Washington\, 98626
CATEGORIES:Events & Festivals,Kelso
ATTACH;FMTTYPE=image/jpeg:https://www.visitmtsthelens.com/wp-content/uploads/2026/03/Easter-Bunny-Photos.jpg
END:VEVENT
BEGIN:VEVENT
DTSTART;TZID=America/Los_Angeles:20260331T100000
DTEND;TZID=America/Los_Angeles:20260331T160000
DTSTAMP:20260419T103544
CREATED:20260304T233228Z
LAST-MODIFIED:20260304T233234Z
UID:10002169-1774951200-1774972800@www.visitmtsthelens.com
SUMMARY:Columbian Artists Association - Spring Art Show
DESCRIPTION:Columbian Artists Association Spring Art Show 2026 \n\n\n\nCelebrate the creativity of Southwest Washington at the Columbian Artists Association Spring Art Show 2026\, hosted at the Cowlitz County Historical Museum from March 28 through April 18\, 2026. \n\n\n\nThis annual exhibition features a diverse collection of original artwork created by talented local and regional artists. Visitors can enjoy a variety of artistic styles and mediums including painting\, drawing\, photography\, and mixed media. The show highlights the vibrant art community of the region while offering guests the opportunity to discover new artists and purchase unique\, one-of-a-kind pieces. \n\n\n\nSet within the historic surroundings of the museum\, the Spring Art Show provides an inspiring cultural experience for art lovers of all ages. \n\n\n\nGallery Hours: Tuesday through Saturday\, 10:00 AM – 4:00 PM.Free Admission \n\n\n\nJoin us this spring to celebrate the talent and creativity of the Columbian Artists Association. Featured Artist this year is John Holman.
URL:https://www.visitmtsthelens.com/event/columbian-artists-association-spring-art-show-2/
LOCATION:Cowlitz County Historical Museum\, 405 Allen Street\, Kelso\, Washington\, 98626
CATEGORIES:Events & Festivals,Kelso
ATTACH;FMTTYPE=image/jpeg:https://www.visitmtsthelens.com/wp-content/uploads/2026/03/Spring-Art-Show-2026.jpg
END:VEVENT
BEGIN:VEVENT
DTSTART;TZID=America/Los_Angeles:20260401T100000
DTEND;TZID=America/Los_Angeles:20260401T160000
DTSTAMP:20260419T103544
CREATED:20260304T233343Z
LAST-MODIFIED:20260401T203918Z
UID:10002170-1775037600-1775059200@www.visitmtsthelens.com
SUMMARY:Columbian Artists Association - Spring Art Show
DESCRIPTION:Columbian Artists Association Spring Art Show 2026 \n\n\n\nCelebrate the creativity of Southwest Washington at the Columbian Artists Association Spring Art Show 2026\, hosted at the Cowlitz County Historical Museum from March 28 through April 18\, 2026. \n\n\n\nThis annual exhibition features a diverse collection of original artwork created by talented local and regional artists. Visitors can enjoy a variety of artistic styles and mediums including painting\, drawing\, photography\, and mixed media. The show highlights the vibrant art community of the region while offering guests the opportunity to discover new artists and purchase unique\, one-of-a-kind pieces. \n\n\n\nSet within the historic surroundings of the museum\, the Spring Art Show provides an inspiring cultural experience for art lovers of all ages. \n\n\n\nGallery Hours: Tuesday through Saturday\, 10:00 AM – 4:00 PM.Free Admission \n\n\n\nJoin us this spring to celebrate the talent and creativity of the Columbian Artists Association. Featured Artist this year is John Holman.
URL:https://www.visitmtsthelens.com/event/columbian-artists-association-spring-art-show-2-2/
LOCATION:Cowlitz County Historical Museum\, 405 Allen Street\, Kelso\, Washington\, 98626
CATEGORIES:Events & Festivals,Kelso
ATTACH;FMTTYPE=image/jpeg:https://www.visitmtsthelens.com/wp-content/uploads/2026/03/Spring-Art-Show-2026.jpg
END:VEVENT
BEGIN:VEVENT
DTSTART;TZID=America/Los_Angeles:20260402T100000
DTEND;TZID=America/Los_Angeles:20260402T160000
DTSTAMP:20260419T103544
CREATED:20260304T233459Z
LAST-MODIFIED:20260401T204505Z
UID:10002171-1775124000-1775145600@www.visitmtsthelens.com
SUMMARY:Columbian Artists Association - Spring Art Show
DESCRIPTION:Columbian Artists Association Spring Art Show 2026 \n\n\n\nCelebrate the creativity of Southwest Washington at the Columbian Artists Association Spring Art Show 2026\, hosted at the Cowlitz County Historical Museum from March 28 through April 18\, 2026. \n\n\n\nThis annual exhibition features a diverse collection of original artwork created by talented local and regional artists. Visitors can enjoy a variety of artistic styles and mediums including painting\, drawing\, photography\, and mixed media. The show highlights the vibrant art community of the region while offering guests the opportunity to discover new artists and purchase unique\, one-of-a-kind pieces. \n\n\n\nSet within the historic surroundings of the museum\, the Spring Art Show provides an inspiring cultural experience for art lovers of all ages. \n\n\n\nGallery Hours: Tuesday through Saturday\, 10:00 AM – 4:00 PM.Free Admission \n\n\n\nJoin us this spring to celebrate the talent and creativity of the Columbian Artists Association. Featured Artist this year is John Holman.
URL:https://www.visitmtsthelens.com/event/columbian-artists-association-spring-art-show-2-2-2/
LOCATION:Cowlitz County Historical Museum\, 405 Allen Street\, Kelso\, Washington\, 98626
CATEGORIES:Events & Festivals,Kelso
ATTACH;FMTTYPE=image/jpeg:https://www.visitmtsthelens.com/wp-content/uploads/2026/03/Spring-Art-Show-2026.jpg
END:VEVENT
BEGIN:VEVENT
DTSTART;TZID=America/Los_Angeles:20260403T100000
DTEND;TZID=America/Los_Angeles:20260403T160000
DTSTAMP:20260419T103544
CREATED:20260304T233703Z
LAST-MODIFIED:20260401T205004Z
UID:10002173-1775210400-1775232000@www.visitmtsthelens.com
SUMMARY:Columbian Artists Association - Spring Art Show
DESCRIPTION:Columbian Artists Association Spring Art Show 2026 \n\n\n\nCelebrate the creativity of Southwest Washington at the Columbian Artists Association Spring Art Show 2026\, hosted at the Cowlitz County Historical Museum from March 28 through April 18\, 2026. \n\n\n\nThis annual exhibition features a diverse collection of original artwork created by talented local and regional artists. Visitors can enjoy a variety of artistic styles and mediums including painting\, drawing\, photography\, and mixed media. The show highlights the vibrant art community of the region while offering guests the opportunity to discover new artists and purchase unique\, one-of-a-kind pieces. \n\n\n\nSet within the historic surroundings of the museum\, the Spring Art Show provides an inspiring cultural experience for art lovers of all ages. \n\n\n\nGallery Hours: Tuesday through Saturday\, 10:00 AM – 4:00 PM.Free Admission \n\n\n\nJoin us this spring to celebrate the talent and creativity of the Columbian Artists Association. Featured Artist this year is John Holman.
URL:https://www.visitmtsthelens.com/event/columbian-artists-association-spring-art-show-2-2-2-3/
LOCATION:Cowlitz County Historical Museum\, 405 Allen Street\, Kelso\, Washington\, 98626
CATEGORIES:Events & Festivals,Kelso
ATTACH;FMTTYPE=image/jpeg:https://www.visitmtsthelens.com/wp-content/uploads/2026/03/Spring-Art-Show-2026.jpg
END:VEVENT
BEGIN:VEVENT
DTSTART;TZID=America/Los_Angeles:20260403T110000
DTEND;TZID=America/Los_Angeles:20260403T140000
DTSTAMP:20260419T103544
CREATED:20260326T205422Z
LAST-MODIFIED:20260401T204202Z
UID:10002205-1775214000-1775224800@www.visitmtsthelens.com
SUMMARY:Easter Bunny Photos
DESCRIPTION:Join us at the Crossing to Meet the Easter Bunny — five special days benefiting a different local charity each day! \n\n\n\nTwo photo sessions daily: 11:00 AM–2:00 PM & 3:00 PM–6:00 PM. \n\n\n\nProfessional backdrop — please bring your own camera (volunteer photographers available for group shots). \n\n\n\nSuggested donation: $5. 100% of all funds raised each day go to that day’s charity. \n\n\n\nSponsored by Tina Moore – Allstate \, Three Rivers Crossing\, and TrolleyLocal \n\n\n\nEvent schedule & event page links: \n\n\n\nFri 4/3 — Community House: https://www.facebook.com/share/182Ae9ED8z/ \n\n\n\nSat 4/4 — Love INC: https://www.facebook.com/share/1MozpJzNBv/ \n\n\n\n🐰We Hope (HOP) to See YOU There!!!
URL:https://www.visitmtsthelens.com/event/easter-bunny-photos-3-2-2/
LOCATION:Three Rivers Crossing\, 351 Three Rivers Drive\, Kelso\, Washington\, 98626
CATEGORIES:Events & Festivals,Kelso
ATTACH;FMTTYPE=image/jpeg:https://www.visitmtsthelens.com/wp-content/uploads/2026/03/Easter-Bunny-Photos.jpg
END:VEVENT
BEGIN:VEVENT
DTSTART;TZID=America/Los_Angeles:20260403T150000
DTEND;TZID=America/Los_Angeles:20260403T180000
DTSTAMP:20260419T103544
CREATED:20260326T205641Z
LAST-MODIFIED:20260401T205429Z
UID:10002206-1775228400-1775239200@www.visitmtsthelens.com
SUMMARY:Easter Bunny Photos
DESCRIPTION:Join us at the Crossing to Meet the Easter Bunny — five special days benefiting a different local charity each day! \n\n\n\nTwo photo sessions daily: 11:00 AM–2:00 PM & 3:00 PM–6:00 PM. \n\n\n\nProfessional backdrop — please bring your own camera (volunteer photographers available for group shots). \n\n\n\nSuggested donation: $5. 100% of all funds raised each day go to that day’s charity. \n\n\n\nSponsored by Tina Moore – Allstate \, Three Rivers Crossing\, and TrolleyLocal \n\n\n\nEvent schedule & event page links: \n\n\n\nFri 4/3 — Community House: https://www.facebook.com/share/182Ae9ED8z/ \n\n\n\nSat 4/4 — Love INC: https://www.facebook.com/share/1MozpJzNBv/ \n\n\n\n🐰We Hope (HOP) to See YOU There!!!
URL:https://www.visitmtsthelens.com/event/easter-bunny-photos-2-2-2-2/
LOCATION:Three Rivers Crossing\, 351 Three Rivers Drive\, Kelso\, Washington\, 98626
CATEGORIES:Events & Festivals,Kelso
ATTACH;FMTTYPE=image/jpeg:https://www.visitmtsthelens.com/wp-content/uploads/2026/03/Easter-Bunny-Photos.jpg
END:VEVENT
BEGIN:VEVENT
DTSTART;TZID=America/Los_Angeles:20260404T100000
DTEND;TZID=America/Los_Angeles:20260404T160000
DTSTAMP:20260419T103544
CREATED:20260304T233538Z
LAST-MODIFIED:20260401T205835Z
UID:10002172-1775296800-1775318400@www.visitmtsthelens.com
SUMMARY:Columbian Artists Association - Spring Art Show
DESCRIPTION:Columbian Artists Association Spring Art Show 2026 \n\n\n\nCelebrate the creativity of Southwest Washington at the Columbian Artists Association Spring Art Show 2026\, hosted at the Cowlitz County Historical Museum from March 28 through April 18\, 2026. \n\n\n\nThis annual exhibition features a diverse collection of original artwork created by talented local and regional artists. Visitors can enjoy a variety of artistic styles and mediums including painting\, drawing\, photography\, and mixed media. The show highlights the vibrant art community of the region while offering guests the opportunity to discover new artists and purchase unique\, one-of-a-kind pieces. \n\n\n\nSet within the historic surroundings of the museum\, the Spring Art Show provides an inspiring cultural experience for art lovers of all ages. \n\n\n\nGallery Hours: Tuesday through Saturday\, 10:00 AM – 4:00 PM.Free Admission \n\n\n\nJoin us this spring to celebrate the talent and creativity of the Columbian Artists Association. Featured Artist this year is John Holman.
URL:https://www.visitmtsthelens.com/event/columbian-artists-association-spring-art-show-2-2-2-2/
LOCATION:Cowlitz County Historical Museum\, 405 Allen Street\, Kelso\, Washington\, 98626
CATEGORIES:Events & Festivals,Kelso
ATTACH;FMTTYPE=image/jpeg:https://www.visitmtsthelens.com/wp-content/uploads/2026/03/Spring-Art-Show-2026.jpg
END:VEVENT
BEGIN:VEVENT
DTSTART;TZID=America/Los_Angeles:20260404T100000
DTEND;TZID=America/Los_Angeles:20260404T170000
DTSTAMP:20260419T103544
CREATED:20260205T222459Z
LAST-MODIFIED:20260401T204640Z
UID:10002136-1775296800-1775322000@www.visitmtsthelens.com
SUMMARY:Easter Market at The Crossing
DESCRIPTION:Easter Market at The Crossing​Discover gifts\, treats\, and handcrafted goods from amazing vendors.Find everything you need to fill up your Easter Baskets! ​🌼Bring the whole family for a day of smiles\, shopping\, and Easter-themed activities.Capture the fun with a special photo opportunity with the Easter Bunny!​Put your taste buds to the test in our fun and delicious food contest​.A Tree Frog Event
URL:https://www.visitmtsthelens.com/event/easter-market-at-the-crossing/
LOCATION:Three Rivers Crossing\, 351 Three Rivers Drive\, Kelso\, Washington\, 98626
CATEGORIES:Events & Festivals,Kelso
ATTACH;FMTTYPE=image/jpeg:https://www.visitmtsthelens.com/wp-content/uploads/2026/02/Easter-Market-at-Three-Rivers-Crossing.jpg
END:VEVENT
BEGIN:VEVENT
DTSTART;TZID=America/Los_Angeles:20260404T110000
DTEND;TZID=America/Los_Angeles:20260404T140000
DTSTAMP:20260419T103544
CREATED:20260326T205759Z
LAST-MODIFIED:20260401T202706Z
UID:10002207-1775300400-1775311200@www.visitmtsthelens.com
SUMMARY:Easter Bunny Photos
DESCRIPTION:Join us at the Crossing to Meet the Easter Bunny — five special days benefiting a different local charity each day! \n\n\n\nTwo photo sessions daily: 11:00 AM–2:00 PM & 3:00 PM–6:00 PM. \n\n\n\nProfessional backdrop — please bring your own camera (volunteer photographers available for group shots). \n\n\n\nSuggested donation: $5. 100% of all funds raised each day go to that day’s charity. \n\n\n\nSponsored by Tina Moore – Allstate \, Three Rivers Crossing\, and TrolleyLocal \n\n\n\nEvent schedule & event page links: \n\n\n\nSat 4/4 — Love INC: https://www.facebook.com/share/1MozpJzNBv/ \n\n\n\n🐰We Hope (HOP) to See YOU There!!!
URL:https://www.visitmtsthelens.com/event/easter-bunny-photos-3-2-2-2/
LOCATION:Three Rivers Crossing\, 351 Three Rivers Drive\, Kelso\, Washington\, 98626
CATEGORIES:Events & Festivals,Kelso
ATTACH;FMTTYPE=image/jpeg:https://www.visitmtsthelens.com/wp-content/uploads/2026/03/Easter-Bunny-Photos.jpg
END:VEVENT
BEGIN:VEVENT
DTSTART;TZID=America/Los_Angeles:20260404T150000
DTEND;TZID=America/Los_Angeles:20260404T180000
DTSTAMP:20260419T103544
CREATED:20260326T205844Z
LAST-MODIFIED:20260401T202531Z
UID:10002208-1775314800-1775325600@www.visitmtsthelens.com
SUMMARY:Easter Bunny Photos
DESCRIPTION:Join us at the Crossing to Meet the Easter Bunny — five special days benefiting a different local charity each day! \n\n\n\nTwo photo sessions daily: 11:00 AM–2:00 PM & 3:00 PM–6:00 PM. \n\n\n\nProfessional backdrop — please bring your own camera (volunteer photographers available for group shots). \n\n\n\nSuggested donation: $5. 100% of all funds raised each day go to that day’s charity. \n\n\n\nSponsored by Tina Moore – Allstate \, Three Rivers Crossing\, and TrolleyLocal \n\n\n\nEvent schedule & event page links: \n\n\n\nSat 4/4 — Love INC: https://www.facebook.com/share/1MozpJzNBv/ \n\n\n\n🐰We Hope (HOP) to See YOU There!!!
URL:https://www.visitmtsthelens.com/event/easter-bunny-photos-2-2-2-2-2/
LOCATION:Three Rivers Crossing\, 351 Three Rivers Drive\, Kelso\, Washington\, 98626
CATEGORIES:Events & Festivals,Kelso
ATTACH;FMTTYPE=image/jpeg:https://www.visitmtsthelens.com/wp-content/uploads/2026/03/Easter-Bunny-Photos.jpg
END:VEVENT
END:VCALENDAR