BEGIN:VCALENDAR
VERSION:2.0
PRODID:-//Visit Mt St Helens - ECPv6.15.20//NONSGML v1.0//EN
CALSCALE:GREGORIAN
METHOD:PUBLISH
X-WR-CALNAME:Visit Mt St Helens
X-ORIGINAL-URL:https://www.visitmtsthelens.com
X-WR-CALDESC:Events for Visit Mt St Helens
REFRESH-INTERVAL;VALUE=DURATION:PT1H
X-Robots-Tag:noindex
X-PUBLISHED-TTL:PT1H
BEGIN:VTIMEZONE
TZID:America/Los_Angeles
BEGIN:DAYLIGHT
TZOFFSETFROM:-0800
TZOFFSETTO:-0700
TZNAME:PDT
DTSTART:20230312T100000
END:DAYLIGHT
BEGIN:STANDARD
TZOFFSETFROM:-0700
TZOFFSETTO:-0800
TZNAME:PST
DTSTART:20231105T090000
END:STANDARD
BEGIN:DAYLIGHT
TZOFFSETFROM:-0800
TZOFFSETTO:-0700
TZNAME:PDT
DTSTART:20240310T100000
END:DAYLIGHT
BEGIN:STANDARD
TZOFFSETFROM:-0700
TZOFFSETTO:-0800
TZNAME:PST
DTSTART:20241103T090000
END:STANDARD
BEGIN:DAYLIGHT
TZOFFSETFROM:-0800
TZOFFSETTO:-0700
TZNAME:PDT
DTSTART:20250309T100000
END:DAYLIGHT
BEGIN:STANDARD
TZOFFSETFROM:-0700
TZOFFSETTO:-0800
TZNAME:PST
DTSTART:20251102T090000
END:STANDARD
END:VTIMEZONE
BEGIN:VEVENT
DTSTART;TZID=America/Los_Angeles:20240702T000000
DTEND;TZID=America/Los_Angeles:20240704T235959
DTSTAMP:20260419T162041
CREATED:20240228T224014Z
LAST-MODIFIED:20240417T161914Z
UID:10000614-1719878400-1720137599@www.visitmtsthelens.com
SUMMARY:Longview Go 4th Festival
DESCRIPTION:Join us in celebrating the spirit of community and patriotism at the Go 4th Festival\, the crown jewel of Cowlitz County’s annual events. Held in the scenic environs of Longview\, Washington\, this festival has grown into an iconic gathering\, drawing over 30\,000 attendees yearly. This Fourth of July\, immerse yourself in a vibrant showcase of tradition and excitement\, featuring an ALA-sanctioned Timber sport competition\, a thrilling Cardboard Boat Regatta\, and a dazzling array of entertainment\, arts\, crafts\, and culinary delights.
URL:https://www.visitmtsthelens.com/event/longview-go-4th-festival/
CATEGORIES:Events & Festivals,Kelso,Longview
END:VEVENT
BEGIN:VEVENT
DTSTART;TZID=America/Los_Angeles:20240702T143000
DTEND;TZID=America/Los_Angeles:20240702T150000
DTSTAMP:20260419T162041
CREATED:20240417T212224Z
LAST-MODIFIED:20240418T160701Z
UID:10000811-1719930600-1719932400@www.visitmtsthelens.com
SUMMARY:Cowlitz Community Farmers Market
DESCRIPTION:
URL:https://www.visitmtsthelens.com/event/cowlitz-community-farmers-market-2/2024-07-02/
LOCATION:Cowlitz Community Farmers Market – Tuesdays\, 1200 12th Avenue\, Longview\, Washington\, 98632\, United States
CATEGORIES:Events & Festivals,Kelso,Longview
ATTACH;FMTTYPE=image/jpeg:https://www.visitmtsthelens.com/wp-content/uploads/2024/04/Farmers-Market-001.jpg
END:VEVENT
BEGIN:VEVENT
DTSTART;TZID=America/Los_Angeles:20240706T090000
DTEND;TZID=America/Los_Angeles:20240706T140000
DTSTAMP:20260419T162041
CREATED:20240417T173632Z
LAST-MODIFIED:20240423T215138Z
UID:10000860-1720256400-1720274400@www.visitmtsthelens.com
SUMMARY:Cowlitz Community Farmers Market
DESCRIPTION:
URL:https://www.visitmtsthelens.com/event/cowlitz-community-farmers-market/2024-07-06/
LOCATION:Cowlitz Community Farmers Market – Saturdays\, 1900 7th Avenue\, Longview\, 98632
CATEGORIES:Events & Festivals,Kelso,Longview
ATTACH;FMTTYPE=image/jpeg:https://www.visitmtsthelens.com/wp-content/uploads/2024/04/Farmers-Market-001.jpg
END:VEVENT
END:VCALENDAR