BEGIN:VCALENDAR
VERSION:2.0
PRODID:-//Visit Mt St Helens - ECPv6.15.20//NONSGML v1.0//EN
CALSCALE:GREGORIAN
METHOD:PUBLISH
X-ORIGINAL-URL:https://www.visitmtsthelens.com
X-WR-CALDESC:Events for Visit Mt St Helens
REFRESH-INTERVAL;VALUE=DURATION:PT1H
X-Robots-Tag:noindex
X-PUBLISHED-TTL:PT1H
BEGIN:VTIMEZONE
TZID:America/Los_Angeles
BEGIN:DAYLIGHT
TZOFFSETFROM:-0800
TZOFFSETTO:-0700
TZNAME:PDT
DTSTART:20250309T100000
END:DAYLIGHT
BEGIN:STANDARD
TZOFFSETFROM:-0700
TZOFFSETTO:-0800
TZNAME:PST
DTSTART:20251102T090000
END:STANDARD
BEGIN:DAYLIGHT
TZOFFSETFROM:-0800
TZOFFSETTO:-0700
TZNAME:PDT
DTSTART:20260308T100000
END:DAYLIGHT
BEGIN:STANDARD
TZOFFSETFROM:-0700
TZOFFSETTO:-0800
TZNAME:PST
DTSTART:20261101T090000
END:STANDARD
BEGIN:DAYLIGHT
TZOFFSETFROM:-0800
TZOFFSETTO:-0700
TZNAME:PDT
DTSTART:20270314T100000
END:DAYLIGHT
BEGIN:STANDARD
TZOFFSETFROM:-0700
TZOFFSETTO:-0800
TZNAME:PST
DTSTART:20271107T090000
END:STANDARD
END:VTIMEZONE
BEGIN:VEVENT
DTSTART;TZID=America/Los_Angeles:20260926T130000
DTEND;TZID=America/Los_Angeles:20260926T160000
DTSTAMP:20260420T200442
CREATED:20260316T191615Z
LAST-MODIFIED:20260414T220844Z
UID:10002195-1790427600-1790438400@www.visitmtsthelens.com
SUMMARY:Woodland Cedar Creek Grist Mill - Corn Bread Day
DESCRIPTION:Join us at the historic Cedar Creek Grist Mill for our annual Cornbread Day celebration! Enjoy fresh\, homemade cornbread made with cornmeal milled right at the mill while experiencing the sights and sounds of this working water-powered grist mill. \n\n\n\nVisitors can watch the milling process in action\, learn about traditional grain milling\, and explore the beautiful grounds surrounding this treasured historic landmark. Cornbread Day is a wonderful opportunity to enjoy great food\, local history\, and a relaxing day with family and friends. \n\n\n\nCome spend the day at Cedar Creek Grist Mill and enjoy a warm slice of cornbread while discovering how grains have been milled for generations.
URL:https://www.visitmtsthelens.com/event/woodland-cedar-creek-grist-mill-corn-bread-day/
LOCATION:Woodland Cedar Creek Grist Mill\, 43907 NE Grist Mill Road\, Woodland\, Washington\, 98674
CATEGORIES:Events & Festivals,Woodland
ATTACH;FMTTYPE=image/jpeg:https://www.visitmtsthelens.com/wp-content/uploads/2026/03/Cedar-Creek-Grist-Mill-2026.jpg
END:VEVENT
END:VCALENDAR