BEGIN:VCALENDAR
VERSION:2.0
PRODID:-//Visit Mt St Helens - ECPv6.15.20//NONSGML v1.0//EN
CALSCALE:GREGORIAN
METHOD:PUBLISH
X-WR-CALNAME:Visit Mt St Helens
X-ORIGINAL-URL:https://www.visitmtsthelens.com
X-WR-CALDESC:Events for Visit Mt St Helens
REFRESH-INTERVAL;VALUE=DURATION:PT1H
X-Robots-Tag:noindex
X-PUBLISHED-TTL:PT1H
BEGIN:VTIMEZONE
TZID:America/Los_Angeles
BEGIN:DAYLIGHT
TZOFFSETFROM:-0800
TZOFFSETTO:-0700
TZNAME:PDT
DTSTART:20250309T100000
END:DAYLIGHT
BEGIN:STANDARD
TZOFFSETFROM:-0700
TZOFFSETTO:-0800
TZNAME:PST
DTSTART:20251102T090000
END:STANDARD
BEGIN:DAYLIGHT
TZOFFSETFROM:-0800
TZOFFSETTO:-0700
TZNAME:PDT
DTSTART:20260308T100000
END:DAYLIGHT
BEGIN:STANDARD
TZOFFSETFROM:-0700
TZOFFSETTO:-0800
TZNAME:PST
DTSTART:20261101T090000
END:STANDARD
BEGIN:DAYLIGHT
TZOFFSETFROM:-0800
TZOFFSETTO:-0700
TZNAME:PDT
DTSTART:20270314T100000
END:DAYLIGHT
BEGIN:STANDARD
TZOFFSETFROM:-0700
TZOFFSETTO:-0800
TZNAME:PST
DTSTART:20271107T090000
END:STANDARD
END:VTIMEZONE
BEGIN:VEVENT
DTSTART;TZID=America/Los_Angeles:20260422T153000
DTEND;TZID=America/Los_Angeles:20260422T153000
DTSTAMP:20260422T025755
CREATED:20260203T223757Z
LAST-MODIFIED:20260401T201259Z
UID:10002090-1776871800-1776871800@www.visitmtsthelens.com
SUMMARY:Kids Book Club
DESCRIPTION:3:30 pm | Longview Public Library \n\n\n\nJoin us for fun\, discussion\, and snacks as we dive into amazing books each month! Recommended for 3rd–5th graders. \n\n\n\nUpcoming Reads:April 22 – Next Stop by Debbie Fong \n\n\n\nPick up your free copy of the book at the library before the meeting\, read it\, and return on the day to share your thoughts with fellow readers. \n\n\n\nA fun way to explore stories\, make friends\, and celebrate reading together!
URL:https://www.visitmtsthelens.com/event/kids-book-club-2-2/
LOCATION:Longview Public Library\, 1600 Louisiana Street\, Longview\, Washington\, 98632
CATEGORIES:Events & Festivals,Longview
ATTACH;FMTTYPE=image/jpeg:https://www.visitmtsthelens.com/wp-content/uploads/2026/02/Kids-Book-Club-LPL.jpg
END:VEVENT
END:VCALENDAR